BEGIN:VCALENDAR
VERSION:2.0
PRODID:-//Saint Andrew&#039;s Episcopal Church, Fullerton CA - ECPv6.15.20//NONSGML v1.0//EN
CALSCALE:GREGORIAN
METHOD:PUBLISH
X-ORIGINAL-URL:https://saintandrewsfullerton.com
X-WR-CALDESC:Events for Saint Andrew&#039;s Episcopal Church, Fullerton CA
REFRESH-INTERVAL;VALUE=DURATION:PT1H
X-Robots-Tag:noindex
X-PUBLISHED-TTL:PT1H
BEGIN:VTIMEZONE
TZID:America/Los_Angeles
BEGIN:DAYLIGHT
TZOFFSETFROM:-0800
TZOFFSETTO:-0700
TZNAME:PDT
DTSTART:20260308T100000
END:DAYLIGHT
BEGIN:STANDARD
TZOFFSETFROM:-0700
TZOFFSETTO:-0800
TZNAME:PST
DTSTART:20261101T090000
END:STANDARD
BEGIN:DAYLIGHT
TZOFFSETFROM:-0800
TZOFFSETTO:-0700
TZNAME:PDT
DTSTART:20270314T100000
END:DAYLIGHT
BEGIN:STANDARD
TZOFFSETFROM:-0700
TZOFFSETTO:-0800
TZNAME:PST
DTSTART:20271107T090000
END:STANDARD
BEGIN:DAYLIGHT
TZOFFSETFROM:-0800
TZOFFSETTO:-0700
TZNAME:PDT
DTSTART:20280312T100000
END:DAYLIGHT
BEGIN:STANDARD
TZOFFSETFROM:-0700
TZOFFSETTO:-0800
TZNAME:PST
DTSTART:20281105T090000
END:STANDARD
END:VTIMEZONE
BEGIN:VEVENT
DTSTART;TZID=America/Los_Angeles:20270926T073000
DTEND;TZID=America/Los_Angeles:20270926T083000
DTSTAMP:20260419T174340
CREATED:20251022T203927Z
LAST-MODIFIED:20251022T203927Z
UID:10008144-1821943800-1821947400@saintandrewsfullerton.com
SUMMARY:Holy Eucharist in the Chapel
DESCRIPTION:Join Us for Early Morning Worship! \nBegin your Sunday in quiet reflection and community. We invite you to join us for Holy Communion at 7:30 a.m. in the chapel—a peaceful and prayerful start to your day.
URL:https://saintandrewsfullerton.com/events/holy-eucharist-in-the-chapel/2027-09-26/
LOCATION:Saint Andrew’s Episcopal Church\, 1231 E. Chapman Ave.\, Fullerton\, CA\, 92831\, United States
CATEGORIES:Fellowship,Sermons,Sundays
ATTACH;FMTTYPE=image/jpeg:https://saintandrewsfullerton.com/wp-content/uploads/2023/05/Early-Morning-Eucharist.jpg
END:VEVENT
BEGIN:VEVENT
DTSTART;TZID=America/Los_Angeles:20270926T160000
DTEND;TZID=America/Los_Angeles:20270926T180000
DTSTAMP:20260419T174340
CREATED:20251119T211818Z
LAST-MODIFIED:20260305T225113Z
UID:10009047-1821974400-1821981600@saintandrewsfullerton.com
SUMMARY:Free Outdoor Neighborhood Jazz Concert!
DESCRIPTION:Join us for a free jazz concert on the fourth Sunday of the month. Please note that the date has been changed from the third to the fourth Sunday due to scheduling conflicts. Enjoy fantastic music by Joshua Ryan Wood and the West Coast Combo!  Depending on the weather\, we’ll gather on the lawn or in the Parish Hall. We’ll have signs up so you can find your way!  Bring friends and family and make a picnic of it! BYOB and some free snacks and beverages will be available\, too.
URL:https://saintandrewsfullerton.com/events/free-outdoor-neighborhood-jazz-concert-2/2027-09-26/
LOCATION:St. Andrew’s Episcopal Church\, 1231 E Chapman Ave\, Fullerton\, California\, 92831
CATEGORIES:Special Event
ATTACH;FMTTYPE=image/jpeg:https://saintandrewsfullerton.com/wp-content/uploads/2025/04/Jazz-Concert-3-Optimized.jpg
END:VEVENT
BEGIN:VEVENT
DTSTART;TZID=America/Los_Angeles:20271001T164500
DTEND;TZID=America/Los_Angeles:20271001T180000
DTSTAMP:20260419T174340
CREATED:20260114T170919Z
LAST-MODIFIED:20260114T171018Z
UID:10009237-1822409100-1822413600@saintandrewsfullerton.com
SUMMARY:Clothes Closet
DESCRIPTION:Our Clothes Closet is open every Friday from 4:45–6:00 p.m. All are welcome to receive free clothing\, shoes\, and toiletries.
URL:https://saintandrewsfullerton.com/events/clothes-closet-fridays/2027-10-01/
LOCATION:St. Andrew’s Episcopal Church\, 1231 E Chapman Ave\, Fullerton\, California\, 92831
CATEGORIES:Special Event
ATTACH;FMTTYPE=image/jpeg:https://saintandrewsfullerton.com/wp-content/uploads/2022/04/Clothes-Closet-06-27-2022.jpg
END:VEVENT
BEGIN:VEVENT
DTSTART;TZID=America/Los_Angeles:20271003T073000
DTEND;TZID=America/Los_Angeles:20271003T083000
DTSTAMP:20260419T174340
CREATED:20251022T203927Z
LAST-MODIFIED:20251022T203927Z
UID:10008145-1822548600-1822552200@saintandrewsfullerton.com
SUMMARY:Holy Eucharist in the Chapel
DESCRIPTION:Join Us for Early Morning Worship! \nBegin your Sunday in quiet reflection and community. We invite you to join us for Holy Communion at 7:30 a.m. in the chapel—a peaceful and prayerful start to your day.
URL:https://saintandrewsfullerton.com/events/holy-eucharist-in-the-chapel/2027-10-03/
LOCATION:Saint Andrew’s Episcopal Church\, 1231 E. Chapman Ave.\, Fullerton\, CA\, 92831\, United States
CATEGORIES:Fellowship,Sermons,Sundays
ATTACH;FMTTYPE=image/jpeg:https://saintandrewsfullerton.com/wp-content/uploads/2023/05/Early-Morning-Eucharist.jpg
END:VEVENT
BEGIN:VEVENT
DTSTART;TZID=America/Los_Angeles:20271008T163000
DTEND;TZID=America/Los_Angeles:20271008T173000
DTSTAMP:20260419T174340
CREATED:20260305T230715Z
LAST-MODIFIED:20260305T230715Z
UID:10009631-1823013000-1823016600@saintandrewsfullerton.com
SUMMARY:Word Circle\, St. Andrew’s Creative Writing Group!
DESCRIPTION:Are you a writer looking to improve your skills and connect with like-minded individuals? Join Word Circle\, St. Andrew’s Creative Writing Group! We meet every other Friday in the Orange Room of Moody Hall and welcome new members at any time. \nInterested? Please email Kaye Bellot at Kbellot2@aol.com for more details! We can’t wait to have you join us!
URL:https://saintandrewsfullerton.com/events/word-circle-st-andrews-creative-writing-group/2027-10-08/
LOCATION:St. Andrew’s Episcopal Church\, 1231 E Chapman Ave\, Fullerton\, California\, 92831
CATEGORIES:Special Event
ATTACH;FMTTYPE=image/jpeg:https://saintandrewsfullerton.com/wp-content/uploads/2025/11/Creative-Writing-5-scaled.jpg
END:VEVENT
BEGIN:VEVENT
DTSTART;TZID=America/Los_Angeles:20271008T164500
DTEND;TZID=America/Los_Angeles:20271008T180000
DTSTAMP:20260419T174340
CREATED:20260114T170919Z
LAST-MODIFIED:20260114T171018Z
UID:10009238-1823013900-1823018400@saintandrewsfullerton.com
SUMMARY:Clothes Closet
DESCRIPTION:Our Clothes Closet is open every Friday from 4:45–6:00 p.m. All are welcome to receive free clothing\, shoes\, and toiletries.
URL:https://saintandrewsfullerton.com/events/clothes-closet-fridays/2027-10-08/
LOCATION:St. Andrew’s Episcopal Church\, 1231 E Chapman Ave\, Fullerton\, California\, 92831
CATEGORIES:Special Event
ATTACH;FMTTYPE=image/jpeg:https://saintandrewsfullerton.com/wp-content/uploads/2022/04/Clothes-Closet-06-27-2022.jpg
END:VEVENT
BEGIN:VEVENT
DTSTART;TZID=America/Los_Angeles:20271010T073000
DTEND;TZID=America/Los_Angeles:20271010T083000
DTSTAMP:20260419T174340
CREATED:20251022T203927Z
LAST-MODIFIED:20251022T203927Z
UID:10008146-1823153400-1823157000@saintandrewsfullerton.com
SUMMARY:Holy Eucharist in the Chapel
DESCRIPTION:Join Us for Early Morning Worship! \nBegin your Sunday in quiet reflection and community. We invite you to join us for Holy Communion at 7:30 a.m. in the chapel—a peaceful and prayerful start to your day.
URL:https://saintandrewsfullerton.com/events/holy-eucharist-in-the-chapel/2027-10-10/
LOCATION:Saint Andrew’s Episcopal Church\, 1231 E. Chapman Ave.\, Fullerton\, CA\, 92831\, United States
CATEGORIES:Fellowship,Sermons,Sundays
ATTACH;FMTTYPE=image/jpeg:https://saintandrewsfullerton.com/wp-content/uploads/2023/05/Early-Morning-Eucharist.jpg
END:VEVENT
BEGIN:VEVENT
DTSTART;TZID=America/Los_Angeles:20271013T100000
DTEND;TZID=America/Los_Angeles:20271013T110000
DTSTAMP:20260419T174340
CREATED:20260227T010835Z
LAST-MODIFIED:20260227T010835Z
UID:10009471-1823421600-1823425200@saintandrewsfullerton.com
SUMMARY:Healing Service & Holy Eucharist
DESCRIPTION:We are beginning a healing service twice a month on the second and fourth Wednesdays at 10 a.m. in the chapel. The first service will be on Wednesday\, March 11th. The first service of the month will include Eucharist\, and the second will be a unique version of Morning Prayer. \nWe look forward to being with the people of St. Andrews on these dates. Blessings and good health to all of you.
URL:https://saintandrewsfullerton.com/events/healing-service-holy-eucharist/2027-10-13/
LOCATION:St. Andrew’s Episcopal Church\, 1231 E Chapman Ave\, Fullerton\, California\, 92831
CATEGORIES:Special Event
ATTACH;FMTTYPE=image/jpeg:https://saintandrewsfullerton.com/wp-content/uploads/2024/03/St.-Andrews-Window-07-27-23-scaled.jpg
END:VEVENT
BEGIN:VEVENT
DTSTART;TZID=America/Los_Angeles:20271015T164500
DTEND;TZID=America/Los_Angeles:20271015T180000
DTSTAMP:20260419T174340
CREATED:20260114T170919Z
LAST-MODIFIED:20260114T171018Z
UID:10009239-1823618700-1823623200@saintandrewsfullerton.com
SUMMARY:Clothes Closet
DESCRIPTION:Our Clothes Closet is open every Friday from 4:45–6:00 p.m. All are welcome to receive free clothing\, shoes\, and toiletries.
URL:https://saintandrewsfullerton.com/events/clothes-closet-fridays/2027-10-15/
LOCATION:St. Andrew’s Episcopal Church\, 1231 E Chapman Ave\, Fullerton\, California\, 92831
CATEGORIES:Special Event
ATTACH;FMTTYPE=image/jpeg:https://saintandrewsfullerton.com/wp-content/uploads/2022/04/Clothes-Closet-06-27-2022.jpg
END:VEVENT
BEGIN:VEVENT
DTSTART;TZID=America/Los_Angeles:20271017T073000
DTEND;TZID=America/Los_Angeles:20271017T083000
DTSTAMP:20260419T174340
CREATED:20251022T203927Z
LAST-MODIFIED:20251022T203927Z
UID:10008147-1823758200-1823761800@saintandrewsfullerton.com
SUMMARY:Holy Eucharist in the Chapel
DESCRIPTION:Join Us for Early Morning Worship! \nBegin your Sunday in quiet reflection and community. We invite you to join us for Holy Communion at 7:30 a.m. in the chapel—a peaceful and prayerful start to your day.
URL:https://saintandrewsfullerton.com/events/holy-eucharist-in-the-chapel/2027-10-17/
LOCATION:Saint Andrew’s Episcopal Church\, 1231 E. Chapman Ave.\, Fullerton\, CA\, 92831\, United States
CATEGORIES:Fellowship,Sermons,Sundays
ATTACH;FMTTYPE=image/jpeg:https://saintandrewsfullerton.com/wp-content/uploads/2023/05/Early-Morning-Eucharist.jpg
END:VEVENT
BEGIN:VEVENT
DTSTART;TZID=America/Los_Angeles:20271022T163000
DTEND;TZID=America/Los_Angeles:20271022T173000
DTSTAMP:20260419T174340
CREATED:20260305T230715Z
LAST-MODIFIED:20260305T230715Z
UID:10009632-1824222600-1824226200@saintandrewsfullerton.com
SUMMARY:Word Circle\, St. Andrew’s Creative Writing Group!
DESCRIPTION:Are you a writer looking to improve your skills and connect with like-minded individuals? Join Word Circle\, St. Andrew’s Creative Writing Group! We meet every other Friday in the Orange Room of Moody Hall and welcome new members at any time. \nInterested? Please email Kaye Bellot at Kbellot2@aol.com for more details! We can’t wait to have you join us!
URL:https://saintandrewsfullerton.com/events/word-circle-st-andrews-creative-writing-group/2027-10-22/
LOCATION:St. Andrew’s Episcopal Church\, 1231 E Chapman Ave\, Fullerton\, California\, 92831
CATEGORIES:Special Event
ATTACH;FMTTYPE=image/jpeg:https://saintandrewsfullerton.com/wp-content/uploads/2025/11/Creative-Writing-5-scaled.jpg
END:VEVENT
BEGIN:VEVENT
DTSTART;TZID=America/Los_Angeles:20271022T164500
DTEND;TZID=America/Los_Angeles:20271022T180000
DTSTAMP:20260419T174340
CREATED:20260114T170919Z
LAST-MODIFIED:20260114T171018Z
UID:10009240-1824223500-1824228000@saintandrewsfullerton.com
SUMMARY:Clothes Closet
DESCRIPTION:Our Clothes Closet is open every Friday from 4:45–6:00 p.m. All are welcome to receive free clothing\, shoes\, and toiletries.
URL:https://saintandrewsfullerton.com/events/clothes-closet-fridays/2027-10-22/
LOCATION:St. Andrew’s Episcopal Church\, 1231 E Chapman Ave\, Fullerton\, California\, 92831
CATEGORIES:Special Event
ATTACH;FMTTYPE=image/jpeg:https://saintandrewsfullerton.com/wp-content/uploads/2022/04/Clothes-Closet-06-27-2022.jpg
END:VEVENT
BEGIN:VEVENT
DTSTART;TZID=America/Los_Angeles:20271024T073000
DTEND;TZID=America/Los_Angeles:20271024T083000
DTSTAMP:20260419T174340
CREATED:20251022T203927Z
LAST-MODIFIED:20251022T203927Z
UID:10008148-1824363000-1824366600@saintandrewsfullerton.com
SUMMARY:Holy Eucharist in the Chapel
DESCRIPTION:Join Us for Early Morning Worship! \nBegin your Sunday in quiet reflection and community. We invite you to join us for Holy Communion at 7:30 a.m. in the chapel—a peaceful and prayerful start to your day.
URL:https://saintandrewsfullerton.com/events/holy-eucharist-in-the-chapel/2027-10-24/
LOCATION:Saint Andrew’s Episcopal Church\, 1231 E. Chapman Ave.\, Fullerton\, CA\, 92831\, United States
CATEGORIES:Fellowship,Sermons,Sundays
ATTACH;FMTTYPE=image/jpeg:https://saintandrewsfullerton.com/wp-content/uploads/2023/05/Early-Morning-Eucharist.jpg
END:VEVENT
BEGIN:VEVENT
DTSTART;TZID=America/Los_Angeles:20271024T160000
DTEND;TZID=America/Los_Angeles:20271024T180000
DTSTAMP:20260419T174340
CREATED:20251119T211818Z
LAST-MODIFIED:20260305T225113Z
UID:10009048-1824393600-1824400800@saintandrewsfullerton.com
SUMMARY:Free Outdoor Neighborhood Jazz Concert!
DESCRIPTION:Join us for a free jazz concert on the fourth Sunday of the month. Please note that the date has been changed from the third to the fourth Sunday due to scheduling conflicts. Enjoy fantastic music by Joshua Ryan Wood and the West Coast Combo!  Depending on the weather\, we’ll gather on the lawn or in the Parish Hall. We’ll have signs up so you can find your way!  Bring friends and family and make a picnic of it! BYOB and some free snacks and beverages will be available\, too.
URL:https://saintandrewsfullerton.com/events/free-outdoor-neighborhood-jazz-concert-2/2027-10-24/
LOCATION:St. Andrew’s Episcopal Church\, 1231 E Chapman Ave\, Fullerton\, California\, 92831
CATEGORIES:Special Event
ATTACH;FMTTYPE=image/jpeg:https://saintandrewsfullerton.com/wp-content/uploads/2025/04/Jazz-Concert-3-Optimized.jpg
END:VEVENT
BEGIN:VEVENT
DTSTART;TZID=America/Los_Angeles:20271027T100000
DTEND;TZID=America/Los_Angeles:20271027T110000
DTSTAMP:20260419T174340
CREATED:20260227T011338Z
LAST-MODIFIED:20260227T011648Z
UID:10009531-1824631200-1824634800@saintandrewsfullerton.com
SUMMARY:Healing Service
DESCRIPTION:We are beginning a healing service twice a month on the second and fourth Wednesdays at 10 a.m. in the chapel. The first service will be on Wednesday\, March 11th. The first service of the month will include Eucharist and the second will be a unique version of Morning Prayer. \nWe look forward to being with the people of St. Andrews on these dates. Blessings and good health to all of you.
URL:https://saintandrewsfullerton.com/events/healing-service/2027-10-27/
LOCATION:St. Andrew’s Episcopal Church\, 1231 E Chapman Ave\, Fullerton\, California\, 92831
CATEGORIES:Special Event
ATTACH;FMTTYPE=image/jpeg:https://saintandrewsfullerton.com/wp-content/uploads/2025/04/Chapel-2-Optimized.jpg
END:VEVENT
BEGIN:VEVENT
DTSTART;TZID=America/Los_Angeles:20271029T164500
DTEND;TZID=America/Los_Angeles:20271029T180000
DTSTAMP:20260419T174340
CREATED:20260114T170919Z
LAST-MODIFIED:20260114T171018Z
UID:10009241-1824828300-1824832800@saintandrewsfullerton.com
SUMMARY:Clothes Closet
DESCRIPTION:Our Clothes Closet is open every Friday from 4:45–6:00 p.m. All are welcome to receive free clothing\, shoes\, and toiletries.
URL:https://saintandrewsfullerton.com/events/clothes-closet-fridays/2027-10-29/
LOCATION:St. Andrew’s Episcopal Church\, 1231 E Chapman Ave\, Fullerton\, California\, 92831
CATEGORIES:Special Event
ATTACH;FMTTYPE=image/jpeg:https://saintandrewsfullerton.com/wp-content/uploads/2022/04/Clothes-Closet-06-27-2022.jpg
END:VEVENT
BEGIN:VEVENT
DTSTART;TZID=America/Los_Angeles:20271031T073000
DTEND;TZID=America/Los_Angeles:20271031T083000
DTSTAMP:20260419T174340
CREATED:20251022T203927Z
LAST-MODIFIED:20251022T203927Z
UID:10008149-1824967800-1824971400@saintandrewsfullerton.com
SUMMARY:Holy Eucharist in the Chapel
DESCRIPTION:Join Us for Early Morning Worship! \nBegin your Sunday in quiet reflection and community. We invite you to join us for Holy Communion at 7:30 a.m. in the chapel—a peaceful and prayerful start to your day.
URL:https://saintandrewsfullerton.com/events/holy-eucharist-in-the-chapel/2027-10-31/
LOCATION:Saint Andrew’s Episcopal Church\, 1231 E. Chapman Ave.\, Fullerton\, CA\, 92831\, United States
CATEGORIES:Fellowship,Sermons,Sundays
ATTACH;FMTTYPE=image/jpeg:https://saintandrewsfullerton.com/wp-content/uploads/2023/05/Early-Morning-Eucharist.jpg
END:VEVENT
BEGIN:VEVENT
DTSTART;TZID=America/Los_Angeles:20271105T163000
DTEND;TZID=America/Los_Angeles:20271105T173000
DTSTAMP:20260419T174340
CREATED:20260305T230715Z
LAST-MODIFIED:20260305T230715Z
UID:10009633-1825432200-1825435800@saintandrewsfullerton.com
SUMMARY:Word Circle\, St. Andrew’s Creative Writing Group!
DESCRIPTION:Are you a writer looking to improve your skills and connect with like-minded individuals? Join Word Circle\, St. Andrew’s Creative Writing Group! We meet every other Friday in the Orange Room of Moody Hall and welcome new members at any time. \nInterested? Please email Kaye Bellot at Kbellot2@aol.com for more details! We can’t wait to have you join us!
URL:https://saintandrewsfullerton.com/events/word-circle-st-andrews-creative-writing-group/2027-11-05/
LOCATION:St. Andrew’s Episcopal Church\, 1231 E Chapman Ave\, Fullerton\, California\, 92831
CATEGORIES:Special Event
ATTACH;FMTTYPE=image/jpeg:https://saintandrewsfullerton.com/wp-content/uploads/2025/11/Creative-Writing-5-scaled.jpg
END:VEVENT
BEGIN:VEVENT
DTSTART;TZID=America/Los_Angeles:20271105T164500
DTEND;TZID=America/Los_Angeles:20271105T180000
DTSTAMP:20260419T174340
CREATED:20260114T170919Z
LAST-MODIFIED:20260114T171018Z
UID:10009242-1825433100-1825437600@saintandrewsfullerton.com
SUMMARY:Clothes Closet
DESCRIPTION:Our Clothes Closet is open every Friday from 4:45–6:00 p.m. All are welcome to receive free clothing\, shoes\, and toiletries.
URL:https://saintandrewsfullerton.com/events/clothes-closet-fridays/2027-11-05/
LOCATION:St. Andrew’s Episcopal Church\, 1231 E Chapman Ave\, Fullerton\, California\, 92831
CATEGORIES:Special Event
ATTACH;FMTTYPE=image/jpeg:https://saintandrewsfullerton.com/wp-content/uploads/2022/04/Clothes-Closet-06-27-2022.jpg
END:VEVENT
BEGIN:VEVENT
DTSTART;TZID=America/Los_Angeles:20271107T073000
DTEND;TZID=America/Los_Angeles:20271107T083000
DTSTAMP:20260419T174340
CREATED:20251022T203927Z
LAST-MODIFIED:20251022T203927Z
UID:10008150-1825572600-1825576200@saintandrewsfullerton.com
SUMMARY:Holy Eucharist in the Chapel
DESCRIPTION:Join Us for Early Morning Worship! \nBegin your Sunday in quiet reflection and community. We invite you to join us for Holy Communion at 7:30 a.m. in the chapel—a peaceful and prayerful start to your day.
URL:https://saintandrewsfullerton.com/events/holy-eucharist-in-the-chapel/2027-11-07/
LOCATION:Saint Andrew’s Episcopal Church\, 1231 E. Chapman Ave.\, Fullerton\, CA\, 92831\, United States
CATEGORIES:Fellowship,Sermons,Sundays
ATTACH;FMTTYPE=image/jpeg:https://saintandrewsfullerton.com/wp-content/uploads/2023/05/Early-Morning-Eucharist.jpg
END:VEVENT
BEGIN:VEVENT
DTSTART;TZID=America/Los_Angeles:20271110T100000
DTEND;TZID=America/Los_Angeles:20271110T110000
DTSTAMP:20260419T174340
CREATED:20260227T010835Z
LAST-MODIFIED:20260227T010835Z
UID:10009472-1825840800-1825844400@saintandrewsfullerton.com
SUMMARY:Healing Service & Holy Eucharist
DESCRIPTION:We are beginning a healing service twice a month on the second and fourth Wednesdays at 10 a.m. in the chapel. The first service will be on Wednesday\, March 11th. The first service of the month will include Eucharist\, and the second will be a unique version of Morning Prayer. \nWe look forward to being with the people of St. Andrews on these dates. Blessings and good health to all of you.
URL:https://saintandrewsfullerton.com/events/healing-service-holy-eucharist/2027-11-10/
LOCATION:St. Andrew’s Episcopal Church\, 1231 E Chapman Ave\, Fullerton\, California\, 92831
CATEGORIES:Special Event
ATTACH;FMTTYPE=image/jpeg:https://saintandrewsfullerton.com/wp-content/uploads/2024/03/St.-Andrews-Window-07-27-23-scaled.jpg
END:VEVENT
BEGIN:VEVENT
DTSTART;TZID=America/Los_Angeles:20271112T164500
DTEND;TZID=America/Los_Angeles:20271112T180000
DTSTAMP:20260419T174340
CREATED:20260114T170919Z
LAST-MODIFIED:20260114T171018Z
UID:10009243-1826037900-1826042400@saintandrewsfullerton.com
SUMMARY:Clothes Closet
DESCRIPTION:Our Clothes Closet is open every Friday from 4:45–6:00 p.m. All are welcome to receive free clothing\, shoes\, and toiletries.
URL:https://saintandrewsfullerton.com/events/clothes-closet-fridays/2027-11-12/
LOCATION:St. Andrew’s Episcopal Church\, 1231 E Chapman Ave\, Fullerton\, California\, 92831
CATEGORIES:Special Event
ATTACH;FMTTYPE=image/jpeg:https://saintandrewsfullerton.com/wp-content/uploads/2022/04/Clothes-Closet-06-27-2022.jpg
END:VEVENT
BEGIN:VEVENT
DTSTART;TZID=America/Los_Angeles:20271114T073000
DTEND;TZID=America/Los_Angeles:20271114T083000
DTSTAMP:20260419T174340
CREATED:20251022T203927Z
LAST-MODIFIED:20251022T203927Z
UID:10008151-1826177400-1826181000@saintandrewsfullerton.com
SUMMARY:Holy Eucharist in the Chapel
DESCRIPTION:Join Us for Early Morning Worship! \nBegin your Sunday in quiet reflection and community. We invite you to join us for Holy Communion at 7:30 a.m. in the chapel—a peaceful and prayerful start to your day.
URL:https://saintandrewsfullerton.com/events/holy-eucharist-in-the-chapel/2027-11-14/
LOCATION:Saint Andrew’s Episcopal Church\, 1231 E. Chapman Ave.\, Fullerton\, CA\, 92831\, United States
CATEGORIES:Fellowship,Sermons,Sundays
ATTACH;FMTTYPE=image/jpeg:https://saintandrewsfullerton.com/wp-content/uploads/2023/05/Early-Morning-Eucharist.jpg
END:VEVENT
BEGIN:VEVENT
DTSTART;TZID=America/Los_Angeles:20271119T163000
DTEND;TZID=America/Los_Angeles:20271119T173000
DTSTAMP:20260419T174340
CREATED:20260305T230715Z
LAST-MODIFIED:20260305T230715Z
UID:10009634-1826641800-1826645400@saintandrewsfullerton.com
SUMMARY:Word Circle\, St. Andrew’s Creative Writing Group!
DESCRIPTION:Are you a writer looking to improve your skills and connect with like-minded individuals? Join Word Circle\, St. Andrew’s Creative Writing Group! We meet every other Friday in the Orange Room of Moody Hall and welcome new members at any time. \nInterested? Please email Kaye Bellot at Kbellot2@aol.com for more details! We can’t wait to have you join us!
URL:https://saintandrewsfullerton.com/events/word-circle-st-andrews-creative-writing-group/2027-11-19/
LOCATION:St. Andrew’s Episcopal Church\, 1231 E Chapman Ave\, Fullerton\, California\, 92831
CATEGORIES:Special Event
ATTACH;FMTTYPE=image/jpeg:https://saintandrewsfullerton.com/wp-content/uploads/2025/11/Creative-Writing-5-scaled.jpg
END:VEVENT
BEGIN:VEVENT
DTSTART;TZID=America/Los_Angeles:20271119T164500
DTEND;TZID=America/Los_Angeles:20271119T180000
DTSTAMP:20260419T174340
CREATED:20260114T170919Z
LAST-MODIFIED:20260114T171018Z
UID:10009244-1826642700-1826647200@saintandrewsfullerton.com
SUMMARY:Clothes Closet
DESCRIPTION:Our Clothes Closet is open every Friday from 4:45–6:00 p.m. All are welcome to receive free clothing\, shoes\, and toiletries.
URL:https://saintandrewsfullerton.com/events/clothes-closet-fridays/2027-11-19/
LOCATION:St. Andrew’s Episcopal Church\, 1231 E Chapman Ave\, Fullerton\, California\, 92831
CATEGORIES:Special Event
ATTACH;FMTTYPE=image/jpeg:https://saintandrewsfullerton.com/wp-content/uploads/2022/04/Clothes-Closet-06-27-2022.jpg
END:VEVENT
BEGIN:VEVENT
DTSTART;TZID=America/Los_Angeles:20271121T073000
DTEND;TZID=America/Los_Angeles:20271121T083000
DTSTAMP:20260419T174340
CREATED:20251022T203927Z
LAST-MODIFIED:20251022T203927Z
UID:10008152-1826782200-1826785800@saintandrewsfullerton.com
SUMMARY:Holy Eucharist in the Chapel
DESCRIPTION:Join Us for Early Morning Worship! \nBegin your Sunday in quiet reflection and community. We invite you to join us for Holy Communion at 7:30 a.m. in the chapel—a peaceful and prayerful start to your day.
URL:https://saintandrewsfullerton.com/events/holy-eucharist-in-the-chapel/2027-11-21/
LOCATION:Saint Andrew’s Episcopal Church\, 1231 E. Chapman Ave.\, Fullerton\, CA\, 92831\, United States
CATEGORIES:Fellowship,Sermons,Sundays
ATTACH;FMTTYPE=image/jpeg:https://saintandrewsfullerton.com/wp-content/uploads/2023/05/Early-Morning-Eucharist.jpg
END:VEVENT
BEGIN:VEVENT
DTSTART;TZID=America/Los_Angeles:20271124T100000
DTEND;TZID=America/Los_Angeles:20271124T110000
DTSTAMP:20260419T174340
CREATED:20260227T011338Z
LAST-MODIFIED:20260227T011648Z
UID:10009532-1827050400-1827054000@saintandrewsfullerton.com
SUMMARY:Healing Service
DESCRIPTION:We are beginning a healing service twice a month on the second and fourth Wednesdays at 10 a.m. in the chapel. The first service will be on Wednesday\, March 11th. The first service of the month will include Eucharist and the second will be a unique version of Morning Prayer. \nWe look forward to being with the people of St. Andrews on these dates. Blessings and good health to all of you.
URL:https://saintandrewsfullerton.com/events/healing-service/2027-11-24/
LOCATION:St. Andrew’s Episcopal Church\, 1231 E Chapman Ave\, Fullerton\, California\, 92831
CATEGORIES:Special Event
ATTACH;FMTTYPE=image/jpeg:https://saintandrewsfullerton.com/wp-content/uploads/2025/04/Chapel-2-Optimized.jpg
END:VEVENT
BEGIN:VEVENT
DTSTART;TZID=America/Los_Angeles:20271126T164500
DTEND;TZID=America/Los_Angeles:20271126T180000
DTSTAMP:20260419T174340
CREATED:20260114T170919Z
LAST-MODIFIED:20260114T171018Z
UID:10009245-1827247500-1827252000@saintandrewsfullerton.com
SUMMARY:Clothes Closet
DESCRIPTION:Our Clothes Closet is open every Friday from 4:45–6:00 p.m. All are welcome to receive free clothing\, shoes\, and toiletries.
URL:https://saintandrewsfullerton.com/events/clothes-closet-fridays/2027-11-26/
LOCATION:St. Andrew’s Episcopal Church\, 1231 E Chapman Ave\, Fullerton\, California\, 92831
CATEGORIES:Special Event
ATTACH;FMTTYPE=image/jpeg:https://saintandrewsfullerton.com/wp-content/uploads/2022/04/Clothes-Closet-06-27-2022.jpg
END:VEVENT
BEGIN:VEVENT
DTSTART;TZID=America/Los_Angeles:20271128T073000
DTEND;TZID=America/Los_Angeles:20271128T083000
DTSTAMP:20260419T174340
CREATED:20251022T203927Z
LAST-MODIFIED:20251022T203927Z
UID:10008153-1827387000-1827390600@saintandrewsfullerton.com
SUMMARY:Holy Eucharist in the Chapel
DESCRIPTION:Join Us for Early Morning Worship! \nBegin your Sunday in quiet reflection and community. We invite you to join us for Holy Communion at 7:30 a.m. in the chapel—a peaceful and prayerful start to your day.
URL:https://saintandrewsfullerton.com/events/holy-eucharist-in-the-chapel/2027-11-28/
LOCATION:Saint Andrew’s Episcopal Church\, 1231 E. Chapman Ave.\, Fullerton\, CA\, 92831\, United States
CATEGORIES:Fellowship,Sermons,Sundays
ATTACH;FMTTYPE=image/jpeg:https://saintandrewsfullerton.com/wp-content/uploads/2023/05/Early-Morning-Eucharist.jpg
END:VEVENT
BEGIN:VEVENT
DTSTART;TZID=America/Los_Angeles:20271128T160000
DTEND;TZID=America/Los_Angeles:20271128T180000
DTSTAMP:20260419T174340
CREATED:20251119T211818Z
LAST-MODIFIED:20260305T225113Z
UID:10009049-1827417600-1827424800@saintandrewsfullerton.com
SUMMARY:Free Outdoor Neighborhood Jazz Concert!
DESCRIPTION:Join us for a free jazz concert on the fourth Sunday of the month. Please note that the date has been changed from the third to the fourth Sunday due to scheduling conflicts. Enjoy fantastic music by Joshua Ryan Wood and the West Coast Combo!  Depending on the weather\, we’ll gather on the lawn or in the Parish Hall. We’ll have signs up so you can find your way!  Bring friends and family and make a picnic of it! BYOB and some free snacks and beverages will be available\, too.
URL:https://saintandrewsfullerton.com/events/free-outdoor-neighborhood-jazz-concert-2/2027-11-28/
LOCATION:St. Andrew’s Episcopal Church\, 1231 E Chapman Ave\, Fullerton\, California\, 92831
CATEGORIES:Special Event
ATTACH;FMTTYPE=image/jpeg:https://saintandrewsfullerton.com/wp-content/uploads/2025/04/Jazz-Concert-3-Optimized.jpg
END:VEVENT
END:VCALENDAR