BEGIN:VCALENDAR
VERSION:2.0
PRODID:-//Saint Andrew&#039;s Episcopal Church, Fullerton CA - ECPv6.15.20//NONSGML v1.0//EN
CALSCALE:GREGORIAN
METHOD:PUBLISH
X-WR-CALNAME:Saint Andrew&#039;s Episcopal Church, Fullerton CA
X-ORIGINAL-URL:https://saintandrewsfullerton.com
X-WR-CALDESC:Events for Saint Andrew&#039;s Episcopal Church, Fullerton CA
REFRESH-INTERVAL;VALUE=DURATION:PT1H
X-Robots-Tag:noindex
X-PUBLISHED-TTL:PT1H
BEGIN:VTIMEZONE
TZID:America/Los_Angeles
BEGIN:DAYLIGHT
TZOFFSETFROM:-0800
TZOFFSETTO:-0700
TZNAME:PDT
DTSTART:20280312T100000
END:DAYLIGHT
BEGIN:STANDARD
TZOFFSETFROM:-0700
TZOFFSETTO:-0800
TZNAME:PST
DTSTART:20281105T090000
END:STANDARD
BEGIN:DAYLIGHT
TZOFFSETFROM:-0800
TZOFFSETTO:-0700
TZNAME:PDT
DTSTART:20290311T100000
END:DAYLIGHT
BEGIN:STANDARD
TZOFFSETFROM:-0700
TZOFFSETTO:-0800
TZNAME:PST
DTSTART:20291104T090000
END:STANDARD
BEGIN:DAYLIGHT
TZOFFSETFROM:-0800
TZOFFSETTO:-0700
TZNAME:PDT
DTSTART:20300310T100000
END:DAYLIGHT
BEGIN:STANDARD
TZOFFSETFROM:-0700
TZOFFSETTO:-0800
TZNAME:PST
DTSTART:20301103T090000
END:STANDARD
END:VTIMEZONE
BEGIN:VEVENT
DTSTART;TZID=America/Los_Angeles:20290209T164500
DTEND;TZID=America/Los_Angeles:20290209T180000
DTSTAMP:20260421T044008
CREATED:20260114T170919Z
LAST-MODIFIED:20260114T171018Z
UID:10009308-1865349900-1865354400@saintandrewsfullerton.com
SUMMARY:Clothes Closet
DESCRIPTION:Our Clothes Closet is open every Friday from 4:45–6:00 p.m. All are welcome to receive free clothing\, shoes\, and toiletries.
URL:https://saintandrewsfullerton.com/events/clothes-closet-fridays/2029-02-09/
LOCATION:St. Andrew’s Episcopal Church\, 1231 E Chapman Ave\, Fullerton\, California\, 92831
CATEGORIES:Special Event
ATTACH;FMTTYPE=image/jpeg:https://saintandrewsfullerton.com/wp-content/uploads/2022/04/Clothes-Closet-06-27-2022.jpg
END:VEVENT
BEGIN:VEVENT
DTSTART;TZID=America/Los_Angeles:20290211T073000
DTEND;TZID=America/Los_Angeles:20290211T083000
DTSTAMP:20260421T044008
CREATED:20251022T203927Z
LAST-MODIFIED:20251022T203927Z
UID:10008216-1865489400-1865493000@saintandrewsfullerton.com
SUMMARY:Holy Eucharist in the Chapel
DESCRIPTION:Join Us for Early Morning Worship! \nBegin your Sunday in quiet reflection and community. We invite you to join us for Holy Communion at 7:30 a.m. in the chapel—a peaceful and prayerful start to your day.
URL:https://saintandrewsfullerton.com/events/holy-eucharist-in-the-chapel/2029-02-11/
LOCATION:Saint Andrew’s Episcopal Church\, 1231 E. Chapman Ave.\, Fullerton\, CA\, 92831\, United States
CATEGORIES:Fellowship,Sermons,Sundays
ATTACH;FMTTYPE=image/jpeg:https://saintandrewsfullerton.com/wp-content/uploads/2023/05/Early-Morning-Eucharist.jpg
END:VEVENT
BEGIN:VEVENT
DTSTART;TZID=America/Los_Angeles:20290214T100000
DTEND;TZID=America/Los_Angeles:20290214T110000
DTSTAMP:20260421T044009
CREATED:20260227T010835Z
LAST-MODIFIED:20260227T010835Z
UID:10009487-1865757600-1865761200@saintandrewsfullerton.com
SUMMARY:Healing Service & Holy Eucharist
DESCRIPTION:We are beginning a healing service twice a month on the second and fourth Wednesdays at 10 a.m. in the chapel. The first service will be on Wednesday\, March 11th. The first service of the month will include Eucharist\, and the second will be a unique version of Morning Prayer. \nWe look forward to being with the people of St. Andrews on these dates. Blessings and good health to all of you.
URL:https://saintandrewsfullerton.com/events/healing-service-holy-eucharist/2029-02-14/
LOCATION:St. Andrew’s Episcopal Church\, 1231 E Chapman Ave\, Fullerton\, California\, 92831
CATEGORIES:Special Event
ATTACH;FMTTYPE=image/jpeg:https://saintandrewsfullerton.com/wp-content/uploads/2024/03/St.-Andrews-Window-07-27-23-scaled.jpg
END:VEVENT
BEGIN:VEVENT
DTSTART;TZID=America/Los_Angeles:20290216T164500
DTEND;TZID=America/Los_Angeles:20290216T180000
DTSTAMP:20260421T044009
CREATED:20260114T170919Z
LAST-MODIFIED:20260114T171018Z
UID:10009309-1865954700-1865959200@saintandrewsfullerton.com
SUMMARY:Clothes Closet
DESCRIPTION:Our Clothes Closet is open every Friday from 4:45–6:00 p.m. All are welcome to receive free clothing\, shoes\, and toiletries.
URL:https://saintandrewsfullerton.com/events/clothes-closet-fridays/2029-02-16/
LOCATION:St. Andrew’s Episcopal Church\, 1231 E Chapman Ave\, Fullerton\, California\, 92831
CATEGORIES:Special Event
ATTACH;FMTTYPE=image/jpeg:https://saintandrewsfullerton.com/wp-content/uploads/2022/04/Clothes-Closet-06-27-2022.jpg
END:VEVENT
BEGIN:VEVENT
DTSTART;TZID=America/Los_Angeles:20290218T073000
DTEND;TZID=America/Los_Angeles:20290218T083000
DTSTAMP:20260421T044009
CREATED:20251022T203927Z
LAST-MODIFIED:20251022T203927Z
UID:10008217-1866094200-1866097800@saintandrewsfullerton.com
SUMMARY:Holy Eucharist in the Chapel
DESCRIPTION:Join Us for Early Morning Worship! \nBegin your Sunday in quiet reflection and community. We invite you to join us for Holy Communion at 7:30 a.m. in the chapel—a peaceful and prayerful start to your day.
URL:https://saintandrewsfullerton.com/events/holy-eucharist-in-the-chapel/2029-02-18/
LOCATION:Saint Andrew’s Episcopal Church\, 1231 E. Chapman Ave.\, Fullerton\, CA\, 92831\, United States
CATEGORIES:Fellowship,Sermons,Sundays
ATTACH;FMTTYPE=image/jpeg:https://saintandrewsfullerton.com/wp-content/uploads/2023/05/Early-Morning-Eucharist.jpg
END:VEVENT
BEGIN:VEVENT
DTSTART;TZID=America/Los_Angeles:20290223T163000
DTEND;TZID=America/Los_Angeles:20290223T173000
DTSTAMP:20260421T044009
CREATED:20260305T230715Z
LAST-MODIFIED:20260305T230715Z
UID:10009667-1866558600-1866562200@saintandrewsfullerton.com
SUMMARY:Word Circle\, St. Andrew’s Creative Writing Group!
DESCRIPTION:Are you a writer looking to improve your skills and connect with like-minded individuals? Join Word Circle\, St. Andrew’s Creative Writing Group! We meet every other Friday in the Orange Room of Moody Hall and welcome new members at any time. \nInterested? Please email Kaye Bellot at Kbellot2@aol.com for more details! We can’t wait to have you join us!
URL:https://saintandrewsfullerton.com/events/word-circle-st-andrews-creative-writing-group/2029-02-23/
LOCATION:St. Andrew’s Episcopal Church\, 1231 E Chapman Ave\, Fullerton\, California\, 92831
CATEGORIES:Special Event
ATTACH;FMTTYPE=image/jpeg:https://saintandrewsfullerton.com/wp-content/uploads/2025/11/Creative-Writing-5-scaled.jpg
END:VEVENT
BEGIN:VEVENT
DTSTART;TZID=America/Los_Angeles:20290223T164500
DTEND;TZID=America/Los_Angeles:20290223T180000
DTSTAMP:20260421T044009
CREATED:20260114T170919Z
LAST-MODIFIED:20260114T171018Z
UID:10009310-1866559500-1866564000@saintandrewsfullerton.com
SUMMARY:Clothes Closet
DESCRIPTION:Our Clothes Closet is open every Friday from 4:45–6:00 p.m. All are welcome to receive free clothing\, shoes\, and toiletries.
URL:https://saintandrewsfullerton.com/events/clothes-closet-fridays/2029-02-23/
LOCATION:St. Andrew’s Episcopal Church\, 1231 E Chapman Ave\, Fullerton\, California\, 92831
CATEGORIES:Special Event
ATTACH;FMTTYPE=image/jpeg:https://saintandrewsfullerton.com/wp-content/uploads/2022/04/Clothes-Closet-06-27-2022.jpg
END:VEVENT
BEGIN:VEVENT
DTSTART;TZID=America/Los_Angeles:20290225T073000
DTEND;TZID=America/Los_Angeles:20290225T083000
DTSTAMP:20260421T044009
CREATED:20251022T203927Z
LAST-MODIFIED:20251022T203927Z
UID:10008218-1866699000-1866702600@saintandrewsfullerton.com
SUMMARY:Holy Eucharist in the Chapel
DESCRIPTION:Join Us for Early Morning Worship! \nBegin your Sunday in quiet reflection and community. We invite you to join us for Holy Communion at 7:30 a.m. in the chapel—a peaceful and prayerful start to your day.
URL:https://saintandrewsfullerton.com/events/holy-eucharist-in-the-chapel/2029-02-25/
LOCATION:Saint Andrew’s Episcopal Church\, 1231 E. Chapman Ave.\, Fullerton\, CA\, 92831\, United States
CATEGORIES:Fellowship,Sermons,Sundays
ATTACH;FMTTYPE=image/jpeg:https://saintandrewsfullerton.com/wp-content/uploads/2023/05/Early-Morning-Eucharist.jpg
END:VEVENT
BEGIN:VEVENT
DTSTART;TZID=America/Los_Angeles:20290225T160000
DTEND;TZID=America/Los_Angeles:20290225T180000
DTSTAMP:20260421T044009
CREATED:20251119T211818Z
LAST-MODIFIED:20260305T225113Z
UID:10009064-1866729600-1866736800@saintandrewsfullerton.com
SUMMARY:Free Outdoor Neighborhood Jazz Concert!
DESCRIPTION:Join us for a free jazz concert on the fourth Sunday of the month. Please note that the date has been changed from the third to the fourth Sunday due to scheduling conflicts. Enjoy fantastic music by Joshua Ryan Wood and the West Coast Combo!  Depending on the weather\, we’ll gather on the lawn or in the Parish Hall. We’ll have signs up so you can find your way!  Bring friends and family and make a picnic of it! BYOB and some free snacks and beverages will be available\, too.
URL:https://saintandrewsfullerton.com/events/free-outdoor-neighborhood-jazz-concert-2/2029-02-25/
LOCATION:St. Andrew’s Episcopal Church\, 1231 E Chapman Ave\, Fullerton\, California\, 92831
CATEGORIES:Special Event
ATTACH;FMTTYPE=image/jpeg:https://saintandrewsfullerton.com/wp-content/uploads/2025/04/Jazz-Concert-3-Optimized.jpg
END:VEVENT
BEGIN:VEVENT
DTSTART;TZID=America/Los_Angeles:20290228T100000
DTEND;TZID=America/Los_Angeles:20290228T110000
DTSTAMP:20260421T044009
CREATED:20260227T011338Z
LAST-MODIFIED:20260227T011648Z
UID:10009547-1866967200-1866970800@saintandrewsfullerton.com
SUMMARY:Healing Service
DESCRIPTION:We are beginning a healing service twice a month on the second and fourth Wednesdays at 10 a.m. in the chapel. The first service will be on Wednesday\, March 11th. The first service of the month will include Eucharist and the second will be a unique version of Morning Prayer. \nWe look forward to being with the people of St. Andrews on these dates. Blessings and good health to all of you.
URL:https://saintandrewsfullerton.com/events/healing-service/2029-02-28/
LOCATION:St. Andrew’s Episcopal Church\, 1231 E Chapman Ave\, Fullerton\, California\, 92831
CATEGORIES:Special Event
ATTACH;FMTTYPE=image/jpeg:https://saintandrewsfullerton.com/wp-content/uploads/2025/04/Chapel-2-Optimized.jpg
END:VEVENT
BEGIN:VEVENT
DTSTART;TZID=America/Los_Angeles:20290302T164500
DTEND;TZID=America/Los_Angeles:20290302T180000
DTSTAMP:20260421T044009
CREATED:20260114T170919Z
LAST-MODIFIED:20260114T171018Z
UID:10009311-1867164300-1867168800@saintandrewsfullerton.com
SUMMARY:Clothes Closet
DESCRIPTION:Our Clothes Closet is open every Friday from 4:45–6:00 p.m. All are welcome to receive free clothing\, shoes\, and toiletries.
URL:https://saintandrewsfullerton.com/events/clothes-closet-fridays/2029-03-02/
LOCATION:St. Andrew’s Episcopal Church\, 1231 E Chapman Ave\, Fullerton\, California\, 92831
CATEGORIES:Special Event
ATTACH;FMTTYPE=image/jpeg:https://saintandrewsfullerton.com/wp-content/uploads/2022/04/Clothes-Closet-06-27-2022.jpg
END:VEVENT
BEGIN:VEVENT
DTSTART;TZID=America/Los_Angeles:20290304T073000
DTEND;TZID=America/Los_Angeles:20290304T083000
DTSTAMP:20260421T044009
CREATED:20251022T203927Z
LAST-MODIFIED:20251022T203927Z
UID:10008219-1867303800-1867307400@saintandrewsfullerton.com
SUMMARY:Holy Eucharist in the Chapel
DESCRIPTION:Join Us for Early Morning Worship! \nBegin your Sunday in quiet reflection and community. We invite you to join us for Holy Communion at 7:30 a.m. in the chapel—a peaceful and prayerful start to your day.
URL:https://saintandrewsfullerton.com/events/holy-eucharist-in-the-chapel/2029-03-04/
LOCATION:Saint Andrew’s Episcopal Church\, 1231 E. Chapman Ave.\, Fullerton\, CA\, 92831\, United States
CATEGORIES:Fellowship,Sermons,Sundays
ATTACH;FMTTYPE=image/jpeg:https://saintandrewsfullerton.com/wp-content/uploads/2023/05/Early-Morning-Eucharist.jpg
END:VEVENT
BEGIN:VEVENT
DTSTART;TZID=America/Los_Angeles:20290309T163000
DTEND;TZID=America/Los_Angeles:20290309T173000
DTSTAMP:20260421T044009
CREATED:20260305T230715Z
LAST-MODIFIED:20260305T230715Z
UID:10009668-1867768200-1867771800@saintandrewsfullerton.com
SUMMARY:Word Circle\, St. Andrew’s Creative Writing Group!
DESCRIPTION:Are you a writer looking to improve your skills and connect with like-minded individuals? Join Word Circle\, St. Andrew’s Creative Writing Group! We meet every other Friday in the Orange Room of Moody Hall and welcome new members at any time. \nInterested? Please email Kaye Bellot at Kbellot2@aol.com for more details! We can’t wait to have you join us!
URL:https://saintandrewsfullerton.com/events/word-circle-st-andrews-creative-writing-group/2029-03-09/
LOCATION:St. Andrew’s Episcopal Church\, 1231 E Chapman Ave\, Fullerton\, California\, 92831
CATEGORIES:Special Event
ATTACH;FMTTYPE=image/jpeg:https://saintandrewsfullerton.com/wp-content/uploads/2025/11/Creative-Writing-5-scaled.jpg
END:VEVENT
BEGIN:VEVENT
DTSTART;TZID=America/Los_Angeles:20290309T164500
DTEND;TZID=America/Los_Angeles:20290309T180000
DTSTAMP:20260421T044009
CREATED:20260114T170919Z
LAST-MODIFIED:20260114T171018Z
UID:10009312-1867769100-1867773600@saintandrewsfullerton.com
SUMMARY:Clothes Closet
DESCRIPTION:Our Clothes Closet is open every Friday from 4:45–6:00 p.m. All are welcome to receive free clothing\, shoes\, and toiletries.
URL:https://saintandrewsfullerton.com/events/clothes-closet-fridays/2029-03-09/
LOCATION:St. Andrew’s Episcopal Church\, 1231 E Chapman Ave\, Fullerton\, California\, 92831
CATEGORIES:Special Event
ATTACH;FMTTYPE=image/jpeg:https://saintandrewsfullerton.com/wp-content/uploads/2022/04/Clothes-Closet-06-27-2022.jpg
END:VEVENT
BEGIN:VEVENT
DTSTART;TZID=America/Los_Angeles:20290311T073000
DTEND;TZID=America/Los_Angeles:20290311T083000
DTSTAMP:20260421T044009
CREATED:20251022T203927Z
LAST-MODIFIED:20251022T203927Z
UID:10008220-1867908600-1867912200@saintandrewsfullerton.com
SUMMARY:Holy Eucharist in the Chapel
DESCRIPTION:Join Us for Early Morning Worship! \nBegin your Sunday in quiet reflection and community. We invite you to join us for Holy Communion at 7:30 a.m. in the chapel—a peaceful and prayerful start to your day.
URL:https://saintandrewsfullerton.com/events/holy-eucharist-in-the-chapel/2029-03-11/
LOCATION:Saint Andrew’s Episcopal Church\, 1231 E. Chapman Ave.\, Fullerton\, CA\, 92831\, United States
CATEGORIES:Fellowship,Sermons,Sundays
ATTACH;FMTTYPE=image/jpeg:https://saintandrewsfullerton.com/wp-content/uploads/2023/05/Early-Morning-Eucharist.jpg
END:VEVENT
BEGIN:VEVENT
DTSTART;TZID=America/Los_Angeles:20290314T100000
DTEND;TZID=America/Los_Angeles:20290314T110000
DTSTAMP:20260421T044009
CREATED:20260227T010835Z
LAST-MODIFIED:20260227T010835Z
UID:10009488-1868176800-1868180400@saintandrewsfullerton.com
SUMMARY:Healing Service & Holy Eucharist
DESCRIPTION:We are beginning a healing service twice a month on the second and fourth Wednesdays at 10 a.m. in the chapel. The first service will be on Wednesday\, March 11th. The first service of the month will include Eucharist\, and the second will be a unique version of Morning Prayer. \nWe look forward to being with the people of St. Andrews on these dates. Blessings and good health to all of you.
URL:https://saintandrewsfullerton.com/events/healing-service-holy-eucharist/2029-03-14/
LOCATION:St. Andrew’s Episcopal Church\, 1231 E Chapman Ave\, Fullerton\, California\, 92831
CATEGORIES:Special Event
ATTACH;FMTTYPE=image/jpeg:https://saintandrewsfullerton.com/wp-content/uploads/2024/03/St.-Andrews-Window-07-27-23-scaled.jpg
END:VEVENT
BEGIN:VEVENT
DTSTART;TZID=America/Los_Angeles:20290316T164500
DTEND;TZID=America/Los_Angeles:20290316T180000
DTSTAMP:20260421T044009
CREATED:20260114T170919Z
LAST-MODIFIED:20260114T171018Z
UID:10009313-1868373900-1868378400@saintandrewsfullerton.com
SUMMARY:Clothes Closet
DESCRIPTION:Our Clothes Closet is open every Friday from 4:45–6:00 p.m. All are welcome to receive free clothing\, shoes\, and toiletries.
URL:https://saintandrewsfullerton.com/events/clothes-closet-fridays/2029-03-16/
LOCATION:St. Andrew’s Episcopal Church\, 1231 E Chapman Ave\, Fullerton\, California\, 92831
CATEGORIES:Special Event
ATTACH;FMTTYPE=image/jpeg:https://saintandrewsfullerton.com/wp-content/uploads/2022/04/Clothes-Closet-06-27-2022.jpg
END:VEVENT
BEGIN:VEVENT
DTSTART;TZID=America/Los_Angeles:20290318T073000
DTEND;TZID=America/Los_Angeles:20290318T083000
DTSTAMP:20260421T044009
CREATED:20251022T203927Z
LAST-MODIFIED:20251022T203927Z
UID:10008221-1868513400-1868517000@saintandrewsfullerton.com
SUMMARY:Holy Eucharist in the Chapel
DESCRIPTION:Join Us for Early Morning Worship! \nBegin your Sunday in quiet reflection and community. We invite you to join us for Holy Communion at 7:30 a.m. in the chapel—a peaceful and prayerful start to your day.
URL:https://saintandrewsfullerton.com/events/holy-eucharist-in-the-chapel/2029-03-18/
LOCATION:Saint Andrew’s Episcopal Church\, 1231 E. Chapman Ave.\, Fullerton\, CA\, 92831\, United States
CATEGORIES:Fellowship,Sermons,Sundays
ATTACH;FMTTYPE=image/jpeg:https://saintandrewsfullerton.com/wp-content/uploads/2023/05/Early-Morning-Eucharist.jpg
END:VEVENT
BEGIN:VEVENT
DTSTART;TZID=America/Los_Angeles:20290323T163000
DTEND;TZID=America/Los_Angeles:20290323T173000
DTSTAMP:20260421T044009
CREATED:20260305T230715Z
LAST-MODIFIED:20260305T230715Z
UID:10009669-1868977800-1868981400@saintandrewsfullerton.com
SUMMARY:Word Circle\, St. Andrew’s Creative Writing Group!
DESCRIPTION:Are you a writer looking to improve your skills and connect with like-minded individuals? Join Word Circle\, St. Andrew’s Creative Writing Group! We meet every other Friday in the Orange Room of Moody Hall and welcome new members at any time. \nInterested? Please email Kaye Bellot at Kbellot2@aol.com for more details! We can’t wait to have you join us!
URL:https://saintandrewsfullerton.com/events/word-circle-st-andrews-creative-writing-group/2029-03-23/
LOCATION:St. Andrew’s Episcopal Church\, 1231 E Chapman Ave\, Fullerton\, California\, 92831
CATEGORIES:Special Event
ATTACH;FMTTYPE=image/jpeg:https://saintandrewsfullerton.com/wp-content/uploads/2025/11/Creative-Writing-5-scaled.jpg
END:VEVENT
BEGIN:VEVENT
DTSTART;TZID=America/Los_Angeles:20290323T164500
DTEND;TZID=America/Los_Angeles:20290323T180000
DTSTAMP:20260421T044009
CREATED:20260114T170919Z
LAST-MODIFIED:20260114T171018Z
UID:10009314-1868978700-1868983200@saintandrewsfullerton.com
SUMMARY:Clothes Closet
DESCRIPTION:Our Clothes Closet is open every Friday from 4:45–6:00 p.m. All are welcome to receive free clothing\, shoes\, and toiletries.
URL:https://saintandrewsfullerton.com/events/clothes-closet-fridays/2029-03-23/
LOCATION:St. Andrew’s Episcopal Church\, 1231 E Chapman Ave\, Fullerton\, California\, 92831
CATEGORIES:Special Event
ATTACH;FMTTYPE=image/jpeg:https://saintandrewsfullerton.com/wp-content/uploads/2022/04/Clothes-Closet-06-27-2022.jpg
END:VEVENT
BEGIN:VEVENT
DTSTART;TZID=America/Los_Angeles:20290325T073000
DTEND;TZID=America/Los_Angeles:20290325T083000
DTSTAMP:20260421T044009
CREATED:20251022T203927Z
LAST-MODIFIED:20251022T203927Z
UID:10008222-1869118200-1869121800@saintandrewsfullerton.com
SUMMARY:Holy Eucharist in the Chapel
DESCRIPTION:Join Us for Early Morning Worship! \nBegin your Sunday in quiet reflection and community. We invite you to join us for Holy Communion at 7:30 a.m. in the chapel—a peaceful and prayerful start to your day.
URL:https://saintandrewsfullerton.com/events/holy-eucharist-in-the-chapel/2029-03-25/
LOCATION:Saint Andrew’s Episcopal Church\, 1231 E. Chapman Ave.\, Fullerton\, CA\, 92831\, United States
CATEGORIES:Fellowship,Sermons,Sundays
ATTACH;FMTTYPE=image/jpeg:https://saintandrewsfullerton.com/wp-content/uploads/2023/05/Early-Morning-Eucharist.jpg
END:VEVENT
BEGIN:VEVENT
DTSTART;TZID=America/Los_Angeles:20290325T160000
DTEND;TZID=America/Los_Angeles:20290325T180000
DTSTAMP:20260421T044009
CREATED:20251119T211818Z
LAST-MODIFIED:20260305T225113Z
UID:10009065-1869148800-1869156000@saintandrewsfullerton.com
SUMMARY:Free Outdoor Neighborhood Jazz Concert!
DESCRIPTION:Join us for a free jazz concert on the fourth Sunday of the month. Please note that the date has been changed from the third to the fourth Sunday due to scheduling conflicts. Enjoy fantastic music by Joshua Ryan Wood and the West Coast Combo!  Depending on the weather\, we’ll gather on the lawn or in the Parish Hall. We’ll have signs up so you can find your way!  Bring friends and family and make a picnic of it! BYOB and some free snacks and beverages will be available\, too.
URL:https://saintandrewsfullerton.com/events/free-outdoor-neighborhood-jazz-concert-2/2029-03-25/
LOCATION:St. Andrew’s Episcopal Church\, 1231 E Chapman Ave\, Fullerton\, California\, 92831
CATEGORIES:Special Event
ATTACH;FMTTYPE=image/jpeg:https://saintandrewsfullerton.com/wp-content/uploads/2025/04/Jazz-Concert-3-Optimized.jpg
END:VEVENT
BEGIN:VEVENT
DTSTART;TZID=America/Los_Angeles:20290328T100000
DTEND;TZID=America/Los_Angeles:20290328T110000
DTSTAMP:20260421T044009
CREATED:20260227T011338Z
LAST-MODIFIED:20260227T011648Z
UID:10009548-1869386400-1869390000@saintandrewsfullerton.com
SUMMARY:Healing Service
DESCRIPTION:We are beginning a healing service twice a month on the second and fourth Wednesdays at 10 a.m. in the chapel. The first service will be on Wednesday\, March 11th. The first service of the month will include Eucharist and the second will be a unique version of Morning Prayer. \nWe look forward to being with the people of St. Andrews on these dates. Blessings and good health to all of you.
URL:https://saintandrewsfullerton.com/events/healing-service/2029-03-28/
LOCATION:St. Andrew’s Episcopal Church\, 1231 E Chapman Ave\, Fullerton\, California\, 92831
CATEGORIES:Special Event
ATTACH;FMTTYPE=image/jpeg:https://saintandrewsfullerton.com/wp-content/uploads/2025/04/Chapel-2-Optimized.jpg
END:VEVENT
BEGIN:VEVENT
DTSTART;TZID=America/Los_Angeles:20290330T164500
DTEND;TZID=America/Los_Angeles:20290330T180000
DTSTAMP:20260421T044009
CREATED:20260114T170919Z
LAST-MODIFIED:20260114T171018Z
UID:10009315-1869583500-1869588000@saintandrewsfullerton.com
SUMMARY:Clothes Closet
DESCRIPTION:Our Clothes Closet is open every Friday from 4:45–6:00 p.m. All are welcome to receive free clothing\, shoes\, and toiletries.
URL:https://saintandrewsfullerton.com/events/clothes-closet-fridays/2029-03-30/
LOCATION:St. Andrew’s Episcopal Church\, 1231 E Chapman Ave\, Fullerton\, California\, 92831
CATEGORIES:Special Event
ATTACH;FMTTYPE=image/jpeg:https://saintandrewsfullerton.com/wp-content/uploads/2022/04/Clothes-Closet-06-27-2022.jpg
END:VEVENT
BEGIN:VEVENT
DTSTART;TZID=America/Los_Angeles:20290401T073000
DTEND;TZID=America/Los_Angeles:20290401T083000
DTSTAMP:20260421T044009
CREATED:20251022T203927Z
LAST-MODIFIED:20251022T203927Z
UID:10008223-1869723000-1869726600@saintandrewsfullerton.com
SUMMARY:Holy Eucharist in the Chapel
DESCRIPTION:Join Us for Early Morning Worship! \nBegin your Sunday in quiet reflection and community. We invite you to join us for Holy Communion at 7:30 a.m. in the chapel—a peaceful and prayerful start to your day.
URL:https://saintandrewsfullerton.com/events/holy-eucharist-in-the-chapel/2029-04-01/
LOCATION:Saint Andrew’s Episcopal Church\, 1231 E. Chapman Ave.\, Fullerton\, CA\, 92831\, United States
CATEGORIES:Fellowship,Sermons,Sundays
ATTACH;FMTTYPE=image/jpeg:https://saintandrewsfullerton.com/wp-content/uploads/2023/05/Early-Morning-Eucharist.jpg
END:VEVENT
BEGIN:VEVENT
DTSTART;TZID=America/Los_Angeles:20290406T163000
DTEND;TZID=America/Los_Angeles:20290406T173000
DTSTAMP:20260421T044009
CREATED:20260305T230715Z
LAST-MODIFIED:20260305T230715Z
UID:10009670-1870187400-1870191000@saintandrewsfullerton.com
SUMMARY:Word Circle\, St. Andrew’s Creative Writing Group!
DESCRIPTION:Are you a writer looking to improve your skills and connect with like-minded individuals? Join Word Circle\, St. Andrew’s Creative Writing Group! We meet every other Friday in the Orange Room of Moody Hall and welcome new members at any time. \nInterested? Please email Kaye Bellot at Kbellot2@aol.com for more details! We can’t wait to have you join us!
URL:https://saintandrewsfullerton.com/events/word-circle-st-andrews-creative-writing-group/2029-04-06/
LOCATION:St. Andrew’s Episcopal Church\, 1231 E Chapman Ave\, Fullerton\, California\, 92831
CATEGORIES:Special Event
ATTACH;FMTTYPE=image/jpeg:https://saintandrewsfullerton.com/wp-content/uploads/2025/11/Creative-Writing-5-scaled.jpg
END:VEVENT
BEGIN:VEVENT
DTSTART;TZID=America/Los_Angeles:20290406T164500
DTEND;TZID=America/Los_Angeles:20290406T180000
DTSTAMP:20260421T044009
CREATED:20260114T170919Z
LAST-MODIFIED:20260114T171018Z
UID:10009316-1870188300-1870192800@saintandrewsfullerton.com
SUMMARY:Clothes Closet
DESCRIPTION:Our Clothes Closet is open every Friday from 4:45–6:00 p.m. All are welcome to receive free clothing\, shoes\, and toiletries.
URL:https://saintandrewsfullerton.com/events/clothes-closet-fridays/2029-04-06/
LOCATION:St. Andrew’s Episcopal Church\, 1231 E Chapman Ave\, Fullerton\, California\, 92831
CATEGORIES:Special Event
ATTACH;FMTTYPE=image/jpeg:https://saintandrewsfullerton.com/wp-content/uploads/2022/04/Clothes-Closet-06-27-2022.jpg
END:VEVENT
BEGIN:VEVENT
DTSTART;TZID=America/Los_Angeles:20290408T073000
DTEND;TZID=America/Los_Angeles:20290408T083000
DTSTAMP:20260421T044009
CREATED:20251022T203927Z
LAST-MODIFIED:20251022T203927Z
UID:10008224-1870327800-1870331400@saintandrewsfullerton.com
SUMMARY:Holy Eucharist in the Chapel
DESCRIPTION:Join Us for Early Morning Worship! \nBegin your Sunday in quiet reflection and community. We invite you to join us for Holy Communion at 7:30 a.m. in the chapel—a peaceful and prayerful start to your day.
URL:https://saintandrewsfullerton.com/events/holy-eucharist-in-the-chapel/2029-04-08/
LOCATION:Saint Andrew’s Episcopal Church\, 1231 E. Chapman Ave.\, Fullerton\, CA\, 92831\, United States
CATEGORIES:Fellowship,Sermons,Sundays
ATTACH;FMTTYPE=image/jpeg:https://saintandrewsfullerton.com/wp-content/uploads/2023/05/Early-Morning-Eucharist.jpg
END:VEVENT
BEGIN:VEVENT
DTSTART;TZID=America/Los_Angeles:20290411T100000
DTEND;TZID=America/Los_Angeles:20290411T110000
DTSTAMP:20260421T044009
CREATED:20260227T010835Z
LAST-MODIFIED:20260227T010835Z
UID:10009489-1870596000-1870599600@saintandrewsfullerton.com
SUMMARY:Healing Service & Holy Eucharist
DESCRIPTION:We are beginning a healing service twice a month on the second and fourth Wednesdays at 10 a.m. in the chapel. The first service will be on Wednesday\, March 11th. The first service of the month will include Eucharist\, and the second will be a unique version of Morning Prayer. \nWe look forward to being with the people of St. Andrews on these dates. Blessings and good health to all of you.
URL:https://saintandrewsfullerton.com/events/healing-service-holy-eucharist/2029-04-11/
LOCATION:St. Andrew’s Episcopal Church\, 1231 E Chapman Ave\, Fullerton\, California\, 92831
CATEGORIES:Special Event
ATTACH;FMTTYPE=image/jpeg:https://saintandrewsfullerton.com/wp-content/uploads/2024/03/St.-Andrews-Window-07-27-23-scaled.jpg
END:VEVENT
BEGIN:VEVENT
DTSTART;TZID=America/Los_Angeles:20290413T164500
DTEND;TZID=America/Los_Angeles:20290413T180000
DTSTAMP:20260421T044009
CREATED:20260114T170919Z
LAST-MODIFIED:20260114T171018Z
UID:10009317-1870793100-1870797600@saintandrewsfullerton.com
SUMMARY:Clothes Closet
DESCRIPTION:Our Clothes Closet is open every Friday from 4:45–6:00 p.m. All are welcome to receive free clothing\, shoes\, and toiletries.
URL:https://saintandrewsfullerton.com/events/clothes-closet-fridays/2029-04-13/
LOCATION:St. Andrew’s Episcopal Church\, 1231 E Chapman Ave\, Fullerton\, California\, 92831
CATEGORIES:Special Event
ATTACH;FMTTYPE=image/jpeg:https://saintandrewsfullerton.com/wp-content/uploads/2022/04/Clothes-Closet-06-27-2022.jpg
END:VEVENT
END:VCALENDAR