BEGIN:VCALENDAR
VERSION:2.0
PRODID:-//Saint Andrew&#039;s Episcopal Church, Fullerton CA - ECPv6.15.20//NONSGML v1.0//EN
CALSCALE:GREGORIAN
METHOD:PUBLISH
X-ORIGINAL-URL:https://saintandrewsfullerton.com
X-WR-CALDESC:Events for Saint Andrew&#039;s Episcopal Church, Fullerton CA
REFRESH-INTERVAL;VALUE=DURATION:PT1H
X-Robots-Tag:noindex
X-PUBLISHED-TTL:PT1H
BEGIN:VTIMEZONE
TZID:America/Los_Angeles
BEGIN:DAYLIGHT
TZOFFSETFROM:-0800
TZOFFSETTO:-0700
TZNAME:PDT
DTSTART:20250309T100000
END:DAYLIGHT
BEGIN:STANDARD
TZOFFSETFROM:-0700
TZOFFSETTO:-0800
TZNAME:PST
DTSTART:20251102T090000
END:STANDARD
BEGIN:DAYLIGHT
TZOFFSETFROM:-0800
TZOFFSETTO:-0700
TZNAME:PDT
DTSTART:20260308T100000
END:DAYLIGHT
BEGIN:STANDARD
TZOFFSETFROM:-0700
TZOFFSETTO:-0800
TZNAME:PST
DTSTART:20261101T090000
END:STANDARD
BEGIN:DAYLIGHT
TZOFFSETFROM:-0800
TZOFFSETTO:-0700
TZNAME:PDT
DTSTART:20270314T100000
END:DAYLIGHT
BEGIN:STANDARD
TZOFFSETFROM:-0700
TZOFFSETTO:-0800
TZNAME:PST
DTSTART:20271107T090000
END:STANDARD
END:VTIMEZONE
BEGIN:VEVENT
DTSTART;TZID=America/Los_Angeles:20260402T190000
DTEND;TZID=America/Los_Angeles:20260402T200000
DTSTAMP:20260422T033429
CREATED:20260227T203047Z
LAST-MODIFIED:20260227T203047Z
UID:10009574-1775156400-1775160000@saintandrewsfullerton.com
SUMMARY:Liturgy for Maundy Thursday with Choir & The Stripping of the Altar
DESCRIPTION:Join us as we commemorate the Last Supper with Holy Eucharist and choral music. The service concludes with the Stripping of the Altar\, leaving the church bare as we enter the solemnity of Good Friday and the sacred Triduum.
URL:https://saintandrewsfullerton.com/events/liturgy-for-maundy-thursday-with-choir-the-stripping-of-the-altar/
LOCATION:Saint Andrew’s Episcopal Church\, 1231 E. Chapman Ave.\, Fullerton\, CA\, 92831\, United States
CATEGORIES:Special Event
ATTACH;FMTTYPE=image/jpeg:https://saintandrewsfullerton.com/wp-content/uploads/2020/04/StA-socialmedia_MaundyThursday-01.jpg
END:VEVENT
BEGIN:VEVENT
DTSTART;TZID=America/Los_Angeles:20260403T120000
DTEND;TZID=America/Los_Angeles:20260403T130000
DTSTAMP:20260422T033429
CREATED:20260227T204027Z
LAST-MODIFIED:20260227T204027Z
UID:10009575-1775217600-1775221200@saintandrewsfullerton.com
SUMMARY:Good Friday Stations of the Cross
DESCRIPTION:
URL:https://saintandrewsfullerton.com/events/good-friday-stations-of-the-cross/
LOCATION:Saint Andrew’s Episcopal Church\, 1231 E. Chapman Ave.\, Fullerton\, CA\, 92831\, United States
CATEGORIES:Special Event
ATTACH;FMTTYPE=image/jpeg:https://saintandrewsfullerton.com/wp-content/uploads/2026/02/Good-Friday-scaled.jpeg
END:VEVENT
BEGIN:VEVENT
DTSTART;TZID=America/Los_Angeles:20260403T164500
DTEND;TZID=America/Los_Angeles:20260403T180000
DTSTAMP:20260422T033429
CREATED:20260114T170919Z
LAST-MODIFIED:20260114T171018Z
UID:10009159-1775234700-1775239200@saintandrewsfullerton.com
SUMMARY:Clothes Closet
DESCRIPTION:Our Clothes Closet is open every Friday from 4:45–6:00 p.m. All are welcome to receive free clothing\, shoes\, and toiletries.
URL:https://saintandrewsfullerton.com/events/clothes-closet-fridays/2026-04-03/
LOCATION:St. Andrew’s Episcopal Church\, 1231 E Chapman Ave\, Fullerton\, California\, 92831
CATEGORIES:Special Event
ATTACH;FMTTYPE=image/jpeg:https://saintandrewsfullerton.com/wp-content/uploads/2022/04/Clothes-Closet-06-27-2022.jpg
END:VEVENT
BEGIN:VEVENT
DTSTART;TZID=America/Los_Angeles:20260403T190000
DTEND;TZID=America/Los_Angeles:20260403T200000
DTSTAMP:20260422T033429
CREATED:20260227T204721Z
LAST-MODIFIED:20260227T204721Z
UID:10009576-1775242800-1775246400@saintandrewsfullerton.com
SUMMARY:Liturgy for Good Friday with Choir
DESCRIPTION:
URL:https://saintandrewsfullerton.com/events/liturgy-for-good-friday-with-choir/
LOCATION:Saint Andrew’s Episcopal Church\, 1231 E. Chapman Ave.\, Fullerton\, CA\, 92831\, United States
CATEGORIES:Special Event
ATTACH;FMTTYPE=image/jpeg:https://saintandrewsfullerton.com/wp-content/uploads/2026/02/Crown-of-Thorns-scaled.jpeg
END:VEVENT
BEGIN:VEVENT
DTSTART;TZID=America/Los_Angeles:20260404T080000
DTEND;TZID=America/Los_Angeles:20260404T100000
DTSTAMP:20260422T033429
CREATED:20251022T174534Z
LAST-MODIFIED:20251030T175318Z
UID:10007625-1775289600-1775296800@saintandrewsfullerton.com
SUMMARY:Seeds of Hope Garden
DESCRIPTION:Join us in the garden every Saturday from 8 a.m. to 10 a.m. We need volunteers to help with tasks like weeding\, pruning\, sowing seeds\, and harvesting. You can come anytime you are available. Please wear closed-toe shoes\, as the ground can be uneven\, and bring your own gloves if you have them. We also have some available. There is limited shade\, so plan accordingly. No experience is needed\, but healthy knees are important. \nAll the produce goes to our Soup Kitchen and the Pathways of Hope food bank “The HUB” in Fullerton.
URL:https://saintandrewsfullerton.com/events/seeds-of-hope-garden/2026-04-04/
LOCATION:St. Andrew’s Episcopal Church\, 1231 E Chapman Ave\, Fullerton\, California\, 92831
CATEGORIES:Outreach,Special Event
ATTACH;FMTTYPE=image/jpeg:https://saintandrewsfullerton.com/wp-content/uploads/2020/03/garden2015-1_web.jpg
END:VEVENT
BEGIN:VEVENT
DTSTART;TZID=America/Los_Angeles:20260404T083000
DTEND;TZID=America/Los_Angeles:20260404T140000
DTSTAMP:20260422T033429
CREATED:20260227T204920Z
LAST-MODIFIED:20260227T204920Z
UID:10009577-1775291400-1775311200@saintandrewsfullerton.com
SUMMARY:Quiet Day
DESCRIPTION:
URL:https://saintandrewsfullerton.com/events/quiet-day/
LOCATION:St. Andrew’s Episcopal Church\, 1231 E Chapman Ave\, Fullerton\, California\, 92831
CATEGORIES:Special Event
ATTACH;FMTTYPE=image/jpeg:https://saintandrewsfullerton.com/wp-content/uploads/2024/02/Quiet-Day.jpg
END:VEVENT
BEGIN:VEVENT
DTSTART;TZID=America/Los_Angeles:20260405T073000
DTEND;TZID=America/Los_Angeles:20260405T083000
DTSTAMP:20260422T033429
CREATED:20251022T203927Z
LAST-MODIFIED:20251022T203927Z
UID:10008067-1775374200-1775377800@saintandrewsfullerton.com
SUMMARY:Holy Eucharist in the Chapel
DESCRIPTION:Join Us for Early Morning Worship! \nBegin your Sunday in quiet reflection and community. We invite you to join us for Holy Communion at 7:30 a.m. in the chapel—a peaceful and prayerful start to your day.
URL:https://saintandrewsfullerton.com/events/holy-eucharist-in-the-chapel/2026-04-05/
LOCATION:Saint Andrew’s Episcopal Church\, 1231 E. Chapman Ave.\, Fullerton\, CA\, 92831\, United States
CATEGORIES:Fellowship,Sermons,Sundays
ATTACH;FMTTYPE=image/jpeg:https://saintandrewsfullerton.com/wp-content/uploads/2023/05/Early-Morning-Eucharist.jpg
END:VEVENT
BEGIN:VEVENT
DTSTART;TZID=America/Los_Angeles:20260405T120000
DTEND;TZID=America/Los_Angeles:20260405T123000
DTSTAMP:20260422T033430
CREATED:20260227T205803Z
LAST-MODIFIED:20260227T205907Z
UID:10009578-1775390400-1775392200@saintandrewsfullerton.com
SUMMARY:Easter Egg Hunt
DESCRIPTION:Children and families are invited to join us for a festive Easter Egg Hunt on the church grounds! Bring your baskets and enjoy a fun afternoon of treats\, laughter\, and celebration. All are welcome!
URL:https://saintandrewsfullerton.com/events/easter-egg-hunt/
LOCATION:Saint Andrew’s Episcopal Church\, 1231 E. Chapman Ave.\, Fullerton\, CA\, 92831\, United States
CATEGORIES:Special Event
ATTACH;FMTTYPE=image/jpeg:https://saintandrewsfullerton.com/wp-content/uploads/2026/02/Easter-Egg-Hunt-5-scaled.jpeg
END:VEVENT
BEGIN:VEVENT
DTSTART;TZID=America/Los_Angeles:20260408T100000
DTEND;TZID=America/Los_Angeles:20260408T110000
DTSTAMP:20260422T033430
CREATED:20260227T010835Z
LAST-MODIFIED:20260227T010835Z
UID:10009453-1775642400-1775646000@saintandrewsfullerton.com
SUMMARY:Healing Service & Holy Eucharist
DESCRIPTION:We are beginning a healing service twice a month on the second and fourth Wednesdays at 10 a.m. in the chapel. The first service will be on Wednesday\, March 11th. The first service of the month will include Eucharist\, and the second will be a unique version of Morning Prayer. \nWe look forward to being with the people of St. Andrews on these dates. Blessings and good health to all of you.
URL:https://saintandrewsfullerton.com/events/healing-service-holy-eucharist/2026-04-08/
LOCATION:St. Andrew’s Episcopal Church\, 1231 E Chapman Ave\, Fullerton\, California\, 92831
CATEGORIES:Special Event
ATTACH;FMTTYPE=image/jpeg:https://saintandrewsfullerton.com/wp-content/uploads/2024/03/St.-Andrews-Window-07-27-23-scaled.jpg
END:VEVENT
BEGIN:VEVENT
DTSTART;TZID=America/Los_Angeles:20260410T163000
DTEND;TZID=America/Los_Angeles:20260410T173000
DTSTAMP:20260422T033430
CREATED:20260305T230715Z
LAST-MODIFIED:20260305T230715Z
UID:10009592-1775838600-1775842200@saintandrewsfullerton.com
SUMMARY:Word Circle\, St. Andrew’s Creative Writing Group!
DESCRIPTION:Are you a writer looking to improve your skills and connect with like-minded individuals? Join Word Circle\, St. Andrew’s Creative Writing Group! We meet every other Friday in the Orange Room of Moody Hall and welcome new members at any time. \nInterested? Please email Kaye Bellot at Kbellot2@aol.com for more details! We can’t wait to have you join us!
URL:https://saintandrewsfullerton.com/events/word-circle-st-andrews-creative-writing-group/2026-04-10/
LOCATION:St. Andrew’s Episcopal Church\, 1231 E Chapman Ave\, Fullerton\, California\, 92831
CATEGORIES:Special Event
ATTACH;FMTTYPE=image/jpeg:https://saintandrewsfullerton.com/wp-content/uploads/2025/11/Creative-Writing-5-scaled.jpg
END:VEVENT
BEGIN:VEVENT
DTSTART;TZID=America/Los_Angeles:20260410T164500
DTEND;TZID=America/Los_Angeles:20260410T180000
DTSTAMP:20260422T033430
CREATED:20260114T170919Z
LAST-MODIFIED:20260114T171018Z
UID:10009160-1775839500-1775844000@saintandrewsfullerton.com
SUMMARY:Clothes Closet
DESCRIPTION:Our Clothes Closet is open every Friday from 4:45–6:00 p.m. All are welcome to receive free clothing\, shoes\, and toiletries.
URL:https://saintandrewsfullerton.com/events/clothes-closet-fridays/2026-04-10/
LOCATION:St. Andrew’s Episcopal Church\, 1231 E Chapman Ave\, Fullerton\, California\, 92831
CATEGORIES:Special Event
ATTACH;FMTTYPE=image/jpeg:https://saintandrewsfullerton.com/wp-content/uploads/2022/04/Clothes-Closet-06-27-2022.jpg
END:VEVENT
BEGIN:VEVENT
DTSTART;TZID=America/Los_Angeles:20260411T080000
DTEND;TZID=America/Los_Angeles:20260411T100000
DTSTAMP:20260422T033430
CREATED:20251022T174534Z
LAST-MODIFIED:20251030T175318Z
UID:10007626-1775894400-1775901600@saintandrewsfullerton.com
SUMMARY:Seeds of Hope Garden
DESCRIPTION:Join us in the garden every Saturday from 8 a.m. to 10 a.m. We need volunteers to help with tasks like weeding\, pruning\, sowing seeds\, and harvesting. You can come anytime you are available. Please wear closed-toe shoes\, as the ground can be uneven\, and bring your own gloves if you have them. We also have some available. There is limited shade\, so plan accordingly. No experience is needed\, but healthy knees are important. \nAll the produce goes to our Soup Kitchen and the Pathways of Hope food bank “The HUB” in Fullerton.
URL:https://saintandrewsfullerton.com/events/seeds-of-hope-garden/2026-04-11/
LOCATION:St. Andrew’s Episcopal Church\, 1231 E Chapman Ave\, Fullerton\, California\, 92831
CATEGORIES:Outreach,Special Event
ATTACH;FMTTYPE=image/jpeg:https://saintandrewsfullerton.com/wp-content/uploads/2020/03/garden2015-1_web.jpg
END:VEVENT
BEGIN:VEVENT
DTSTART;TZID=America/Los_Angeles:20260412T073000
DTEND;TZID=America/Los_Angeles:20260412T083000
DTSTAMP:20260422T033430
CREATED:20251022T203927Z
LAST-MODIFIED:20251022T203927Z
UID:10008068-1775979000-1775982600@saintandrewsfullerton.com
SUMMARY:Holy Eucharist in the Chapel
DESCRIPTION:Join Us for Early Morning Worship! \nBegin your Sunday in quiet reflection and community. We invite you to join us for Holy Communion at 7:30 a.m. in the chapel—a peaceful and prayerful start to your day.
URL:https://saintandrewsfullerton.com/events/holy-eucharist-in-the-chapel/2026-04-12/
LOCATION:Saint Andrew’s Episcopal Church\, 1231 E. Chapman Ave.\, Fullerton\, CA\, 92831\, United States
CATEGORIES:Fellowship,Sermons,Sundays
ATTACH;FMTTYPE=image/jpeg:https://saintandrewsfullerton.com/wp-content/uploads/2023/05/Early-Morning-Eucharist.jpg
END:VEVENT
BEGIN:VEVENT
DTSTART;TZID=America/Los_Angeles:20260417T164500
DTEND;TZID=America/Los_Angeles:20260417T180000
DTSTAMP:20260422T033430
CREATED:20260114T170919Z
LAST-MODIFIED:20260114T171018Z
UID:10009161-1776444300-1776448800@saintandrewsfullerton.com
SUMMARY:Clothes Closet
DESCRIPTION:Our Clothes Closet is open every Friday from 4:45–6:00 p.m. All are welcome to receive free clothing\, shoes\, and toiletries.
URL:https://saintandrewsfullerton.com/events/clothes-closet-fridays/2026-04-17/
LOCATION:St. Andrew’s Episcopal Church\, 1231 E Chapman Ave\, Fullerton\, California\, 92831
CATEGORIES:Special Event
ATTACH;FMTTYPE=image/jpeg:https://saintandrewsfullerton.com/wp-content/uploads/2022/04/Clothes-Closet-06-27-2022.jpg
END:VEVENT
BEGIN:VEVENT
DTSTART;TZID=America/Los_Angeles:20260418T080000
DTEND;TZID=America/Los_Angeles:20260418T100000
DTSTAMP:20260422T033430
CREATED:20251022T174534Z
LAST-MODIFIED:20251030T175318Z
UID:10007627-1776499200-1776506400@saintandrewsfullerton.com
SUMMARY:Seeds of Hope Garden
DESCRIPTION:Join us in the garden every Saturday from 8 a.m. to 10 a.m. We need volunteers to help with tasks like weeding\, pruning\, sowing seeds\, and harvesting. You can come anytime you are available. Please wear closed-toe shoes\, as the ground can be uneven\, and bring your own gloves if you have them. We also have some available. There is limited shade\, so plan accordingly. No experience is needed\, but healthy knees are important. \nAll the produce goes to our Soup Kitchen and the Pathways of Hope food bank “The HUB” in Fullerton.
URL:https://saintandrewsfullerton.com/events/seeds-of-hope-garden/2026-04-18/
LOCATION:St. Andrew’s Episcopal Church\, 1231 E Chapman Ave\, Fullerton\, California\, 92831
CATEGORIES:Outreach,Special Event
ATTACH;FMTTYPE=image/jpeg:https://saintandrewsfullerton.com/wp-content/uploads/2020/03/garden2015-1_web.jpg
END:VEVENT
BEGIN:VEVENT
DTSTART;TZID=America/Los_Angeles:20260419T073000
DTEND;TZID=America/Los_Angeles:20260419T083000
DTSTAMP:20260422T033430
CREATED:20251022T203927Z
LAST-MODIFIED:20251022T203927Z
UID:10008069-1776583800-1776587400@saintandrewsfullerton.com
SUMMARY:Holy Eucharist in the Chapel
DESCRIPTION:Join Us for Early Morning Worship! \nBegin your Sunday in quiet reflection and community. We invite you to join us for Holy Communion at 7:30 a.m. in the chapel—a peaceful and prayerful start to your day.
URL:https://saintandrewsfullerton.com/events/holy-eucharist-in-the-chapel/2026-04-19/
LOCATION:Saint Andrew’s Episcopal Church\, 1231 E. Chapman Ave.\, Fullerton\, CA\, 92831\, United States
CATEGORIES:Fellowship,Sermons,Sundays
ATTACH;FMTTYPE=image/jpeg:https://saintandrewsfullerton.com/wp-content/uploads/2023/05/Early-Morning-Eucharist.jpg
END:VEVENT
BEGIN:VEVENT
DTSTART;TZID=America/Los_Angeles:20260422T100000
DTEND;TZID=America/Los_Angeles:20260422T110000
DTSTAMP:20260422T033430
CREATED:20260227T011338Z
LAST-MODIFIED:20260227T011648Z
UID:10009513-1776852000-1776855600@saintandrewsfullerton.com
SUMMARY:Healing Service
DESCRIPTION:We are beginning a healing service twice a month on the second and fourth Wednesdays at 10 a.m. in the chapel. The first service will be on Wednesday\, March 11th. The first service of the month will include Eucharist and the second will be a unique version of Morning Prayer. \nWe look forward to being with the people of St. Andrews on these dates. Blessings and good health to all of you.
URL:https://saintandrewsfullerton.com/events/healing-service/2026-04-22/
LOCATION:St. Andrew’s Episcopal Church\, 1231 E Chapman Ave\, Fullerton\, California\, 92831
CATEGORIES:Special Event
ATTACH;FMTTYPE=image/jpeg:https://saintandrewsfullerton.com/wp-content/uploads/2025/04/Chapel-2-Optimized.jpg
END:VEVENT
BEGIN:VEVENT
DTSTART;TZID=America/Los_Angeles:20260424T163000
DTEND;TZID=America/Los_Angeles:20260424T173000
DTSTAMP:20260422T033430
CREATED:20260305T230715Z
LAST-MODIFIED:20260305T230715Z
UID:10009593-1777048200-1777051800@saintandrewsfullerton.com
SUMMARY:Word Circle\, St. Andrew’s Creative Writing Group!
DESCRIPTION:Are you a writer looking to improve your skills and connect with like-minded individuals? Join Word Circle\, St. Andrew’s Creative Writing Group! We meet every other Friday in the Orange Room of Moody Hall and welcome new members at any time. \nInterested? Please email Kaye Bellot at Kbellot2@aol.com for more details! We can’t wait to have you join us!
URL:https://saintandrewsfullerton.com/events/word-circle-st-andrews-creative-writing-group/2026-04-24/
LOCATION:St. Andrew’s Episcopal Church\, 1231 E Chapman Ave\, Fullerton\, California\, 92831
CATEGORIES:Special Event
ATTACH;FMTTYPE=image/jpeg:https://saintandrewsfullerton.com/wp-content/uploads/2025/11/Creative-Writing-5-scaled.jpg
END:VEVENT
BEGIN:VEVENT
DTSTART;TZID=America/Los_Angeles:20260424T164500
DTEND;TZID=America/Los_Angeles:20260424T180000
DTSTAMP:20260422T033430
CREATED:20260114T170919Z
LAST-MODIFIED:20260114T171018Z
UID:10009162-1777049100-1777053600@saintandrewsfullerton.com
SUMMARY:Clothes Closet
DESCRIPTION:Our Clothes Closet is open every Friday from 4:45–6:00 p.m. All are welcome to receive free clothing\, shoes\, and toiletries.
URL:https://saintandrewsfullerton.com/events/clothes-closet-fridays/2026-04-24/
LOCATION:St. Andrew’s Episcopal Church\, 1231 E Chapman Ave\, Fullerton\, California\, 92831
CATEGORIES:Special Event
ATTACH;FMTTYPE=image/jpeg:https://saintandrewsfullerton.com/wp-content/uploads/2022/04/Clothes-Closet-06-27-2022.jpg
END:VEVENT
BEGIN:VEVENT
DTSTART;TZID=America/Los_Angeles:20260425T080000
DTEND;TZID=America/Los_Angeles:20260425T100000
DTSTAMP:20260422T033430
CREATED:20251022T174534Z
LAST-MODIFIED:20251030T175318Z
UID:10007628-1777104000-1777111200@saintandrewsfullerton.com
SUMMARY:Seeds of Hope Garden
DESCRIPTION:Join us in the garden every Saturday from 8 a.m. to 10 a.m. We need volunteers to help with tasks like weeding\, pruning\, sowing seeds\, and harvesting. You can come anytime you are available. Please wear closed-toe shoes\, as the ground can be uneven\, and bring your own gloves if you have them. We also have some available. There is limited shade\, so plan accordingly. No experience is needed\, but healthy knees are important. \nAll the produce goes to our Soup Kitchen and the Pathways of Hope food bank “The HUB” in Fullerton.
URL:https://saintandrewsfullerton.com/events/seeds-of-hope-garden/2026-04-25/
LOCATION:St. Andrew’s Episcopal Church\, 1231 E Chapman Ave\, Fullerton\, California\, 92831
CATEGORIES:Outreach,Special Event
ATTACH;FMTTYPE=image/jpeg:https://saintandrewsfullerton.com/wp-content/uploads/2020/03/garden2015-1_web.jpg
END:VEVENT
BEGIN:VEVENT
DTSTART;TZID=America/Los_Angeles:20260426T073000
DTEND;TZID=America/Los_Angeles:20260426T083000
DTSTAMP:20260422T033430
CREATED:20251022T203927Z
LAST-MODIFIED:20251022T203927Z
UID:10008070-1777188600-1777192200@saintandrewsfullerton.com
SUMMARY:Holy Eucharist in the Chapel
DESCRIPTION:Join Us for Early Morning Worship! \nBegin your Sunday in quiet reflection and community. We invite you to join us for Holy Communion at 7:30 a.m. in the chapel—a peaceful and prayerful start to your day.
URL:https://saintandrewsfullerton.com/events/holy-eucharist-in-the-chapel/2026-04-26/
LOCATION:Saint Andrew’s Episcopal Church\, 1231 E. Chapman Ave.\, Fullerton\, CA\, 92831\, United States
CATEGORIES:Fellowship,Sermons,Sundays
ATTACH;FMTTYPE=image/jpeg:https://saintandrewsfullerton.com/wp-content/uploads/2023/05/Early-Morning-Eucharist.jpg
END:VEVENT
BEGIN:VEVENT
DTSTART;TZID=America/Los_Angeles:20260426T160000
DTEND;TZID=America/Los_Angeles:20260426T180000
DTSTAMP:20260422T033430
CREATED:20251119T211818Z
LAST-MODIFIED:20260305T225113Z
UID:10009030-1777219200-1777226400@saintandrewsfullerton.com
SUMMARY:Free Outdoor Neighborhood Jazz Concert!
DESCRIPTION:Join us for a free jazz concert on the fourth Sunday of the month. Please note that the date has been changed from the third to the fourth Sunday due to scheduling conflicts. Enjoy fantastic music by Joshua Ryan Wood and the West Coast Combo!  Depending on the weather\, we’ll gather on the lawn or in the Parish Hall. We’ll have signs up so you can find your way!  Bring friends and family and make a picnic of it! BYOB and some free snacks and beverages will be available\, too.
URL:https://saintandrewsfullerton.com/events/free-outdoor-neighborhood-jazz-concert-2/2026-04-26/
LOCATION:St. Andrew’s Episcopal Church\, 1231 E Chapman Ave\, Fullerton\, California\, 92831
CATEGORIES:Special Event
ATTACH;FMTTYPE=image/jpeg:https://saintandrewsfullerton.com/wp-content/uploads/2025/04/Jazz-Concert-3-Optimized.jpg
END:VEVENT
BEGIN:VEVENT
DTSTART;TZID=America/Los_Angeles:20260501T164500
DTEND;TZID=America/Los_Angeles:20260501T180000
DTSTAMP:20260422T033430
CREATED:20260114T170919Z
LAST-MODIFIED:20260114T171018Z
UID:10009163-1777653900-1777658400@saintandrewsfullerton.com
SUMMARY:Clothes Closet
DESCRIPTION:Our Clothes Closet is open every Friday from 4:45–6:00 p.m. All are welcome to receive free clothing\, shoes\, and toiletries.
URL:https://saintandrewsfullerton.com/events/clothes-closet-fridays/2026-05-01/
LOCATION:St. Andrew’s Episcopal Church\, 1231 E Chapman Ave\, Fullerton\, California\, 92831
CATEGORIES:Special Event
ATTACH;FMTTYPE=image/jpeg:https://saintandrewsfullerton.com/wp-content/uploads/2022/04/Clothes-Closet-06-27-2022.jpg
END:VEVENT
BEGIN:VEVENT
DTSTART;TZID=America/Los_Angeles:20260502T080000
DTEND;TZID=America/Los_Angeles:20260502T100000
DTSTAMP:20260422T033430
CREATED:20251022T174534Z
LAST-MODIFIED:20251030T175318Z
UID:10007629-1777708800-1777716000@saintandrewsfullerton.com
SUMMARY:Seeds of Hope Garden
DESCRIPTION:Join us in the garden every Saturday from 8 a.m. to 10 a.m. We need volunteers to help with tasks like weeding\, pruning\, sowing seeds\, and harvesting. You can come anytime you are available. Please wear closed-toe shoes\, as the ground can be uneven\, and bring your own gloves if you have them. We also have some available. There is limited shade\, so plan accordingly. No experience is needed\, but healthy knees are important. \nAll the produce goes to our Soup Kitchen and the Pathways of Hope food bank “The HUB” in Fullerton.
URL:https://saintandrewsfullerton.com/events/seeds-of-hope-garden/2026-05-02/
LOCATION:St. Andrew’s Episcopal Church\, 1231 E Chapman Ave\, Fullerton\, California\, 92831
CATEGORIES:Outreach,Special Event
ATTACH;FMTTYPE=image/jpeg:https://saintandrewsfullerton.com/wp-content/uploads/2020/03/garden2015-1_web.jpg
END:VEVENT
BEGIN:VEVENT
DTSTART;TZID=America/Los_Angeles:20260503T073000
DTEND;TZID=America/Los_Angeles:20260503T083000
DTSTAMP:20260422T033430
CREATED:20251022T203927Z
LAST-MODIFIED:20251022T203927Z
UID:10008071-1777793400-1777797000@saintandrewsfullerton.com
SUMMARY:Holy Eucharist in the Chapel
DESCRIPTION:Join Us for Early Morning Worship! \nBegin your Sunday in quiet reflection and community. We invite you to join us for Holy Communion at 7:30 a.m. in the chapel—a peaceful and prayerful start to your day.
URL:https://saintandrewsfullerton.com/events/holy-eucharist-in-the-chapel/2026-05-03/
LOCATION:Saint Andrew’s Episcopal Church\, 1231 E. Chapman Ave.\, Fullerton\, CA\, 92831\, United States
CATEGORIES:Fellowship,Sermons,Sundays
ATTACH;FMTTYPE=image/jpeg:https://saintandrewsfullerton.com/wp-content/uploads/2023/05/Early-Morning-Eucharist.jpg
END:VEVENT
BEGIN:VEVENT
DTSTART;TZID=America/Los_Angeles:20260508T163000
DTEND;TZID=America/Los_Angeles:20260508T173000
DTSTAMP:20260422T033430
CREATED:20260305T230715Z
LAST-MODIFIED:20260305T230715Z
UID:10009594-1778257800-1778261400@saintandrewsfullerton.com
SUMMARY:Word Circle\, St. Andrew’s Creative Writing Group!
DESCRIPTION:Are you a writer looking to improve your skills and connect with like-minded individuals? Join Word Circle\, St. Andrew’s Creative Writing Group! We meet every other Friday in the Orange Room of Moody Hall and welcome new members at any time. \nInterested? Please email Kaye Bellot at Kbellot2@aol.com for more details! We can’t wait to have you join us!
URL:https://saintandrewsfullerton.com/events/word-circle-st-andrews-creative-writing-group/2026-05-08/
LOCATION:St. Andrew’s Episcopal Church\, 1231 E Chapman Ave\, Fullerton\, California\, 92831
CATEGORIES:Special Event
ATTACH;FMTTYPE=image/jpeg:https://saintandrewsfullerton.com/wp-content/uploads/2025/11/Creative-Writing-5-scaled.jpg
END:VEVENT
BEGIN:VEVENT
DTSTART;TZID=America/Los_Angeles:20260508T164500
DTEND;TZID=America/Los_Angeles:20260508T180000
DTSTAMP:20260422T033430
CREATED:20260114T170919Z
LAST-MODIFIED:20260114T171018Z
UID:10009164-1778258700-1778263200@saintandrewsfullerton.com
SUMMARY:Clothes Closet
DESCRIPTION:Our Clothes Closet is open every Friday from 4:45–6:00 p.m. All are welcome to receive free clothing\, shoes\, and toiletries.
URL:https://saintandrewsfullerton.com/events/clothes-closet-fridays/2026-05-08/
LOCATION:St. Andrew’s Episcopal Church\, 1231 E Chapman Ave\, Fullerton\, California\, 92831
CATEGORIES:Special Event
ATTACH;FMTTYPE=image/jpeg:https://saintandrewsfullerton.com/wp-content/uploads/2022/04/Clothes-Closet-06-27-2022.jpg
END:VEVENT
BEGIN:VEVENT
DTSTART;TZID=America/Los_Angeles:20260509T080000
DTEND;TZID=America/Los_Angeles:20260509T100000
DTSTAMP:20260422T033430
CREATED:20251022T174534Z
LAST-MODIFIED:20251030T175318Z
UID:10007630-1778313600-1778320800@saintandrewsfullerton.com
SUMMARY:Seeds of Hope Garden
DESCRIPTION:Join us in the garden every Saturday from 8 a.m. to 10 a.m. We need volunteers to help with tasks like weeding\, pruning\, sowing seeds\, and harvesting. You can come anytime you are available. Please wear closed-toe shoes\, as the ground can be uneven\, and bring your own gloves if you have them. We also have some available. There is limited shade\, so plan accordingly. No experience is needed\, but healthy knees are important. \nAll the produce goes to our Soup Kitchen and the Pathways of Hope food bank “The HUB” in Fullerton.
URL:https://saintandrewsfullerton.com/events/seeds-of-hope-garden/2026-05-09/
LOCATION:St. Andrew’s Episcopal Church\, 1231 E Chapman Ave\, Fullerton\, California\, 92831
CATEGORIES:Outreach,Special Event
ATTACH;FMTTYPE=image/jpeg:https://saintandrewsfullerton.com/wp-content/uploads/2020/03/garden2015-1_web.jpg
END:VEVENT
BEGIN:VEVENT
DTSTART;TZID=America/Los_Angeles:20260510T073000
DTEND;TZID=America/Los_Angeles:20260510T083000
DTSTAMP:20260422T033430
CREATED:20251022T203927Z
LAST-MODIFIED:20251022T203927Z
UID:10008072-1778398200-1778401800@saintandrewsfullerton.com
SUMMARY:Holy Eucharist in the Chapel
DESCRIPTION:Join Us for Early Morning Worship! \nBegin your Sunday in quiet reflection and community. We invite you to join us for Holy Communion at 7:30 a.m. in the chapel—a peaceful and prayerful start to your day.
URL:https://saintandrewsfullerton.com/events/holy-eucharist-in-the-chapel/2026-05-10/
LOCATION:Saint Andrew’s Episcopal Church\, 1231 E. Chapman Ave.\, Fullerton\, CA\, 92831\, United States
CATEGORIES:Fellowship,Sermons,Sundays
ATTACH;FMTTYPE=image/jpeg:https://saintandrewsfullerton.com/wp-content/uploads/2023/05/Early-Morning-Eucharist.jpg
END:VEVENT
BEGIN:VEVENT
DTSTART;TZID=America/Los_Angeles:20260513T100000
DTEND;TZID=America/Los_Angeles:20260513T110000
DTSTAMP:20260422T033430
CREATED:20260227T010835Z
LAST-MODIFIED:20260227T010835Z
UID:10009454-1778666400-1778670000@saintandrewsfullerton.com
SUMMARY:Healing Service & Holy Eucharist
DESCRIPTION:We are beginning a healing service twice a month on the second and fourth Wednesdays at 10 a.m. in the chapel. The first service will be on Wednesday\, March 11th. The first service of the month will include Eucharist\, and the second will be a unique version of Morning Prayer. \nWe look forward to being with the people of St. Andrews on these dates. Blessings and good health to all of you.
URL:https://saintandrewsfullerton.com/events/healing-service-holy-eucharist/2026-05-13/
LOCATION:St. Andrew’s Episcopal Church\, 1231 E Chapman Ave\, Fullerton\, California\, 92831
CATEGORIES:Special Event
ATTACH;FMTTYPE=image/jpeg:https://saintandrewsfullerton.com/wp-content/uploads/2024/03/St.-Andrews-Window-07-27-23-scaled.jpg
END:VEVENT
END:VCALENDAR