BEGIN:VCALENDAR
VERSION:2.0
PRODID:-//Saint Andrew&#039;s Episcopal Church, Fullerton CA - ECPv6.15.20//NONSGML v1.0//EN
CALSCALE:GREGORIAN
METHOD:PUBLISH
X-ORIGINAL-URL:https://saintandrewsfullerton.com
X-WR-CALDESC:Events for Saint Andrew&#039;s Episcopal Church, Fullerton CA
REFRESH-INTERVAL;VALUE=DURATION:PT1H
X-Robots-Tag:noindex
X-PUBLISHED-TTL:PT1H
BEGIN:VTIMEZONE
TZID:America/Los_Angeles
BEGIN:DAYLIGHT
TZOFFSETFROM:-0800
TZOFFSETTO:-0700
TZNAME:PDT
DTSTART:20270314T100000
END:DAYLIGHT
BEGIN:STANDARD
TZOFFSETFROM:-0700
TZOFFSETTO:-0800
TZNAME:PST
DTSTART:20271107T090000
END:STANDARD
BEGIN:DAYLIGHT
TZOFFSETFROM:-0800
TZOFFSETTO:-0700
TZNAME:PDT
DTSTART:20280312T100000
END:DAYLIGHT
BEGIN:STANDARD
TZOFFSETFROM:-0700
TZOFFSETTO:-0800
TZNAME:PST
DTSTART:20281105T090000
END:STANDARD
BEGIN:DAYLIGHT
TZOFFSETFROM:-0800
TZOFFSETTO:-0700
TZNAME:PDT
DTSTART:20290311T100000
END:DAYLIGHT
BEGIN:STANDARD
TZOFFSETFROM:-0700
TZOFFSETTO:-0800
TZNAME:PST
DTSTART:20291104T090000
END:STANDARD
END:VTIMEZONE
BEGIN:VEVENT
DTSTART;TZID=America/Los_Angeles:20280112T100000
DTEND;TZID=America/Los_Angeles:20280112T110000
DTSTAMP:20260419T234117
CREATED:20260227T010835Z
LAST-MODIFIED:20260227T010835Z
UID:10009474-1831284000-1831287600@saintandrewsfullerton.com
SUMMARY:Healing Service & Holy Eucharist
DESCRIPTION:We are beginning a healing service twice a month on the second and fourth Wednesdays at 10 a.m. in the chapel. The first service will be on Wednesday\, March 11th. The first service of the month will include Eucharist\, and the second will be a unique version of Morning Prayer. \nWe look forward to being with the people of St. Andrews on these dates. Blessings and good health to all of you.
URL:https://saintandrewsfullerton.com/events/healing-service-holy-eucharist/2028-01-12/
LOCATION:St. Andrew’s Episcopal Church\, 1231 E Chapman Ave\, Fullerton\, California\, 92831
CATEGORIES:Special Event
ATTACH;FMTTYPE=image/jpeg:https://saintandrewsfullerton.com/wp-content/uploads/2024/03/St.-Andrews-Window-07-27-23-scaled.jpg
END:VEVENT
BEGIN:VEVENT
DTSTART;TZID=America/Los_Angeles:20280114T163000
DTEND;TZID=America/Los_Angeles:20280114T173000
DTSTAMP:20260419T234117
CREATED:20260305T230715Z
LAST-MODIFIED:20260305T230715Z
UID:10009638-1831480200-1831483800@saintandrewsfullerton.com
SUMMARY:Word Circle\, St. Andrew’s Creative Writing Group!
DESCRIPTION:Are you a writer looking to improve your skills and connect with like-minded individuals? Join Word Circle\, St. Andrew’s Creative Writing Group! We meet every other Friday in the Orange Room of Moody Hall and welcome new members at any time. \nInterested? Please email Kaye Bellot at Kbellot2@aol.com for more details! We can’t wait to have you join us!
URL:https://saintandrewsfullerton.com/events/word-circle-st-andrews-creative-writing-group/2028-01-14/
LOCATION:St. Andrew’s Episcopal Church\, 1231 E Chapman Ave\, Fullerton\, California\, 92831
CATEGORIES:Special Event
ATTACH;FMTTYPE=image/jpeg:https://saintandrewsfullerton.com/wp-content/uploads/2025/11/Creative-Writing-5-scaled.jpg
END:VEVENT
BEGIN:VEVENT
DTSTART;TZID=America/Los_Angeles:20280114T164500
DTEND;TZID=America/Los_Angeles:20280114T180000
DTSTAMP:20260419T234117
CREATED:20260114T170919Z
LAST-MODIFIED:20260114T171018Z
UID:10009252-1831481100-1831485600@saintandrewsfullerton.com
SUMMARY:Clothes Closet
DESCRIPTION:Our Clothes Closet is open every Friday from 4:45–6:00 p.m. All are welcome to receive free clothing\, shoes\, and toiletries.
URL:https://saintandrewsfullerton.com/events/clothes-closet-fridays/2028-01-14/
LOCATION:St. Andrew’s Episcopal Church\, 1231 E Chapman Ave\, Fullerton\, California\, 92831
CATEGORIES:Special Event
ATTACH;FMTTYPE=image/jpeg:https://saintandrewsfullerton.com/wp-content/uploads/2022/04/Clothes-Closet-06-27-2022.jpg
END:VEVENT
BEGIN:VEVENT
DTSTART;TZID=America/Los_Angeles:20280116T073000
DTEND;TZID=America/Los_Angeles:20280116T083000
DTSTAMP:20260419T234117
CREATED:20251022T203927Z
LAST-MODIFIED:20251022T203927Z
UID:10008160-1831620600-1831624200@saintandrewsfullerton.com
SUMMARY:Holy Eucharist in the Chapel
DESCRIPTION:Join Us for Early Morning Worship! \nBegin your Sunday in quiet reflection and community. We invite you to join us for Holy Communion at 7:30 a.m. in the chapel—a peaceful and prayerful start to your day.
URL:https://saintandrewsfullerton.com/events/holy-eucharist-in-the-chapel/2028-01-16/
LOCATION:Saint Andrew’s Episcopal Church\, 1231 E. Chapman Ave.\, Fullerton\, CA\, 92831\, United States
CATEGORIES:Fellowship,Sermons,Sundays
ATTACH;FMTTYPE=image/jpeg:https://saintandrewsfullerton.com/wp-content/uploads/2023/05/Early-Morning-Eucharist.jpg
END:VEVENT
BEGIN:VEVENT
DTSTART;TZID=America/Los_Angeles:20280121T164500
DTEND;TZID=America/Los_Angeles:20280121T180000
DTSTAMP:20260419T234117
CREATED:20260114T170919Z
LAST-MODIFIED:20260114T171018Z
UID:10009253-1832085900-1832090400@saintandrewsfullerton.com
SUMMARY:Clothes Closet
DESCRIPTION:Our Clothes Closet is open every Friday from 4:45–6:00 p.m. All are welcome to receive free clothing\, shoes\, and toiletries.
URL:https://saintandrewsfullerton.com/events/clothes-closet-fridays/2028-01-21/
LOCATION:St. Andrew’s Episcopal Church\, 1231 E Chapman Ave\, Fullerton\, California\, 92831
CATEGORIES:Special Event
ATTACH;FMTTYPE=image/jpeg:https://saintandrewsfullerton.com/wp-content/uploads/2022/04/Clothes-Closet-06-27-2022.jpg
END:VEVENT
BEGIN:VEVENT
DTSTART;TZID=America/Los_Angeles:20280123T073000
DTEND;TZID=America/Los_Angeles:20280123T083000
DTSTAMP:20260419T234117
CREATED:20251022T203927Z
LAST-MODIFIED:20251022T203927Z
UID:10008161-1832225400-1832229000@saintandrewsfullerton.com
SUMMARY:Holy Eucharist in the Chapel
DESCRIPTION:Join Us for Early Morning Worship! \nBegin your Sunday in quiet reflection and community. We invite you to join us for Holy Communion at 7:30 a.m. in the chapel—a peaceful and prayerful start to your day.
URL:https://saintandrewsfullerton.com/events/holy-eucharist-in-the-chapel/2028-01-23/
LOCATION:Saint Andrew’s Episcopal Church\, 1231 E. Chapman Ave.\, Fullerton\, CA\, 92831\, United States
CATEGORIES:Fellowship,Sermons,Sundays
ATTACH;FMTTYPE=image/jpeg:https://saintandrewsfullerton.com/wp-content/uploads/2023/05/Early-Morning-Eucharist.jpg
END:VEVENT
BEGIN:VEVENT
DTSTART;TZID=America/Los_Angeles:20280123T160000
DTEND;TZID=America/Los_Angeles:20280123T180000
DTSTAMP:20260419T234117
CREATED:20251119T211818Z
LAST-MODIFIED:20260305T225113Z
UID:10009051-1832256000-1832263200@saintandrewsfullerton.com
SUMMARY:Free Outdoor Neighborhood Jazz Concert!
DESCRIPTION:Join us for a free jazz concert on the fourth Sunday of the month. Please note that the date has been changed from the third to the fourth Sunday due to scheduling conflicts. Enjoy fantastic music by Joshua Ryan Wood and the West Coast Combo!  Depending on the weather\, we’ll gather on the lawn or in the Parish Hall. We’ll have signs up so you can find your way!  Bring friends and family and make a picnic of it! BYOB and some free snacks and beverages will be available\, too.
URL:https://saintandrewsfullerton.com/events/free-outdoor-neighborhood-jazz-concert-2/2028-01-23/
LOCATION:St. Andrew’s Episcopal Church\, 1231 E Chapman Ave\, Fullerton\, California\, 92831
CATEGORIES:Special Event
ATTACH;FMTTYPE=image/jpeg:https://saintandrewsfullerton.com/wp-content/uploads/2025/04/Jazz-Concert-3-Optimized.jpg
END:VEVENT
BEGIN:VEVENT
DTSTART;TZID=America/Los_Angeles:20280126T100000
DTEND;TZID=America/Los_Angeles:20280126T110000
DTSTAMP:20260419T234117
CREATED:20260227T011338Z
LAST-MODIFIED:20260227T011648Z
UID:10009534-1832493600-1832497200@saintandrewsfullerton.com
SUMMARY:Healing Service
DESCRIPTION:We are beginning a healing service twice a month on the second and fourth Wednesdays at 10 a.m. in the chapel. The first service will be on Wednesday\, March 11th. The first service of the month will include Eucharist and the second will be a unique version of Morning Prayer. \nWe look forward to being with the people of St. Andrews on these dates. Blessings and good health to all of you.
URL:https://saintandrewsfullerton.com/events/healing-service/2028-01-26/
LOCATION:St. Andrew’s Episcopal Church\, 1231 E Chapman Ave\, Fullerton\, California\, 92831
CATEGORIES:Special Event
ATTACH;FMTTYPE=image/jpeg:https://saintandrewsfullerton.com/wp-content/uploads/2025/04/Chapel-2-Optimized.jpg
END:VEVENT
BEGIN:VEVENT
DTSTART;TZID=America/Los_Angeles:20280128T163000
DTEND;TZID=America/Los_Angeles:20280128T173000
DTSTAMP:20260419T234117
CREATED:20260305T230715Z
LAST-MODIFIED:20260305T230715Z
UID:10009639-1832689800-1832693400@saintandrewsfullerton.com
SUMMARY:Word Circle\, St. Andrew’s Creative Writing Group!
DESCRIPTION:Are you a writer looking to improve your skills and connect with like-minded individuals? Join Word Circle\, St. Andrew’s Creative Writing Group! We meet every other Friday in the Orange Room of Moody Hall and welcome new members at any time. \nInterested? Please email Kaye Bellot at Kbellot2@aol.com for more details! We can’t wait to have you join us!
URL:https://saintandrewsfullerton.com/events/word-circle-st-andrews-creative-writing-group/2028-01-28/
LOCATION:St. Andrew’s Episcopal Church\, 1231 E Chapman Ave\, Fullerton\, California\, 92831
CATEGORIES:Special Event
ATTACH;FMTTYPE=image/jpeg:https://saintandrewsfullerton.com/wp-content/uploads/2025/11/Creative-Writing-5-scaled.jpg
END:VEVENT
BEGIN:VEVENT
DTSTART;TZID=America/Los_Angeles:20280128T164500
DTEND;TZID=America/Los_Angeles:20280128T180000
DTSTAMP:20260419T234117
CREATED:20260114T170919Z
LAST-MODIFIED:20260114T171018Z
UID:10009254-1832690700-1832695200@saintandrewsfullerton.com
SUMMARY:Clothes Closet
DESCRIPTION:Our Clothes Closet is open every Friday from 4:45–6:00 p.m. All are welcome to receive free clothing\, shoes\, and toiletries.
URL:https://saintandrewsfullerton.com/events/clothes-closet-fridays/2028-01-28/
LOCATION:St. Andrew’s Episcopal Church\, 1231 E Chapman Ave\, Fullerton\, California\, 92831
CATEGORIES:Special Event
ATTACH;FMTTYPE=image/jpeg:https://saintandrewsfullerton.com/wp-content/uploads/2022/04/Clothes-Closet-06-27-2022.jpg
END:VEVENT
BEGIN:VEVENT
DTSTART;TZID=America/Los_Angeles:20280130T073000
DTEND;TZID=America/Los_Angeles:20280130T083000
DTSTAMP:20260419T234117
CREATED:20251022T203927Z
LAST-MODIFIED:20251022T203927Z
UID:10008162-1832830200-1832833800@saintandrewsfullerton.com
SUMMARY:Holy Eucharist in the Chapel
DESCRIPTION:Join Us for Early Morning Worship! \nBegin your Sunday in quiet reflection and community. We invite you to join us for Holy Communion at 7:30 a.m. in the chapel—a peaceful and prayerful start to your day.
URL:https://saintandrewsfullerton.com/events/holy-eucharist-in-the-chapel/2028-01-30/
LOCATION:Saint Andrew’s Episcopal Church\, 1231 E. Chapman Ave.\, Fullerton\, CA\, 92831\, United States
CATEGORIES:Fellowship,Sermons,Sundays
ATTACH;FMTTYPE=image/jpeg:https://saintandrewsfullerton.com/wp-content/uploads/2023/05/Early-Morning-Eucharist.jpg
END:VEVENT
BEGIN:VEVENT
DTSTART;TZID=America/Los_Angeles:20280204T164500
DTEND;TZID=America/Los_Angeles:20280204T180000
DTSTAMP:20260419T234117
CREATED:20260114T170919Z
LAST-MODIFIED:20260114T171018Z
UID:10009255-1833295500-1833300000@saintandrewsfullerton.com
SUMMARY:Clothes Closet
DESCRIPTION:Our Clothes Closet is open every Friday from 4:45–6:00 p.m. All are welcome to receive free clothing\, shoes\, and toiletries.
URL:https://saintandrewsfullerton.com/events/clothes-closet-fridays/2028-02-04/
LOCATION:St. Andrew’s Episcopal Church\, 1231 E Chapman Ave\, Fullerton\, California\, 92831
CATEGORIES:Special Event
ATTACH;FMTTYPE=image/jpeg:https://saintandrewsfullerton.com/wp-content/uploads/2022/04/Clothes-Closet-06-27-2022.jpg
END:VEVENT
BEGIN:VEVENT
DTSTART;TZID=America/Los_Angeles:20280206T073000
DTEND;TZID=America/Los_Angeles:20280206T083000
DTSTAMP:20260419T234117
CREATED:20251022T203927Z
LAST-MODIFIED:20251022T203927Z
UID:10008163-1833435000-1833438600@saintandrewsfullerton.com
SUMMARY:Holy Eucharist in the Chapel
DESCRIPTION:Join Us for Early Morning Worship! \nBegin your Sunday in quiet reflection and community. We invite you to join us for Holy Communion at 7:30 a.m. in the chapel—a peaceful and prayerful start to your day.
URL:https://saintandrewsfullerton.com/events/holy-eucharist-in-the-chapel/2028-02-06/
LOCATION:Saint Andrew’s Episcopal Church\, 1231 E. Chapman Ave.\, Fullerton\, CA\, 92831\, United States
CATEGORIES:Fellowship,Sermons,Sundays
ATTACH;FMTTYPE=image/jpeg:https://saintandrewsfullerton.com/wp-content/uploads/2023/05/Early-Morning-Eucharist.jpg
END:VEVENT
BEGIN:VEVENT
DTSTART;TZID=America/Los_Angeles:20280209T100000
DTEND;TZID=America/Los_Angeles:20280209T110000
DTSTAMP:20260419T234117
CREATED:20260227T010835Z
LAST-MODIFIED:20260227T010835Z
UID:10009475-1833703200-1833706800@saintandrewsfullerton.com
SUMMARY:Healing Service & Holy Eucharist
DESCRIPTION:We are beginning a healing service twice a month on the second and fourth Wednesdays at 10 a.m. in the chapel. The first service will be on Wednesday\, March 11th. The first service of the month will include Eucharist\, and the second will be a unique version of Morning Prayer. \nWe look forward to being with the people of St. Andrews on these dates. Blessings and good health to all of you.
URL:https://saintandrewsfullerton.com/events/healing-service-holy-eucharist/2028-02-09/
LOCATION:St. Andrew’s Episcopal Church\, 1231 E Chapman Ave\, Fullerton\, California\, 92831
CATEGORIES:Special Event
ATTACH;FMTTYPE=image/jpeg:https://saintandrewsfullerton.com/wp-content/uploads/2024/03/St.-Andrews-Window-07-27-23-scaled.jpg
END:VEVENT
BEGIN:VEVENT
DTSTART;TZID=America/Los_Angeles:20280211T163000
DTEND;TZID=America/Los_Angeles:20280211T173000
DTSTAMP:20260419T234117
CREATED:20260305T230715Z
LAST-MODIFIED:20260305T230715Z
UID:10009640-1833899400-1833903000@saintandrewsfullerton.com
SUMMARY:Word Circle\, St. Andrew’s Creative Writing Group!
DESCRIPTION:Are you a writer looking to improve your skills and connect with like-minded individuals? Join Word Circle\, St. Andrew’s Creative Writing Group! We meet every other Friday in the Orange Room of Moody Hall and welcome new members at any time. \nInterested? Please email Kaye Bellot at Kbellot2@aol.com for more details! We can’t wait to have you join us!
URL:https://saintandrewsfullerton.com/events/word-circle-st-andrews-creative-writing-group/2028-02-11/
LOCATION:St. Andrew’s Episcopal Church\, 1231 E Chapman Ave\, Fullerton\, California\, 92831
CATEGORIES:Special Event
ATTACH;FMTTYPE=image/jpeg:https://saintandrewsfullerton.com/wp-content/uploads/2025/11/Creative-Writing-5-scaled.jpg
END:VEVENT
BEGIN:VEVENT
DTSTART;TZID=America/Los_Angeles:20280211T164500
DTEND;TZID=America/Los_Angeles:20280211T180000
DTSTAMP:20260419T234117
CREATED:20260114T170919Z
LAST-MODIFIED:20260114T171018Z
UID:10009256-1833900300-1833904800@saintandrewsfullerton.com
SUMMARY:Clothes Closet
DESCRIPTION:Our Clothes Closet is open every Friday from 4:45–6:00 p.m. All are welcome to receive free clothing\, shoes\, and toiletries.
URL:https://saintandrewsfullerton.com/events/clothes-closet-fridays/2028-02-11/
LOCATION:St. Andrew’s Episcopal Church\, 1231 E Chapman Ave\, Fullerton\, California\, 92831
CATEGORIES:Special Event
ATTACH;FMTTYPE=image/jpeg:https://saintandrewsfullerton.com/wp-content/uploads/2022/04/Clothes-Closet-06-27-2022.jpg
END:VEVENT
BEGIN:VEVENT
DTSTART;TZID=America/Los_Angeles:20280213T073000
DTEND;TZID=America/Los_Angeles:20280213T083000
DTSTAMP:20260419T234117
CREATED:20251022T203927Z
LAST-MODIFIED:20251022T203927Z
UID:10008164-1834039800-1834043400@saintandrewsfullerton.com
SUMMARY:Holy Eucharist in the Chapel
DESCRIPTION:Join Us for Early Morning Worship! \nBegin your Sunday in quiet reflection and community. We invite you to join us for Holy Communion at 7:30 a.m. in the chapel—a peaceful and prayerful start to your day.
URL:https://saintandrewsfullerton.com/events/holy-eucharist-in-the-chapel/2028-02-13/
LOCATION:Saint Andrew’s Episcopal Church\, 1231 E. Chapman Ave.\, Fullerton\, CA\, 92831\, United States
CATEGORIES:Fellowship,Sermons,Sundays
ATTACH;FMTTYPE=image/jpeg:https://saintandrewsfullerton.com/wp-content/uploads/2023/05/Early-Morning-Eucharist.jpg
END:VEVENT
BEGIN:VEVENT
DTSTART;TZID=America/Los_Angeles:20280218T164500
DTEND;TZID=America/Los_Angeles:20280218T180000
DTSTAMP:20260419T234117
CREATED:20260114T170919Z
LAST-MODIFIED:20260114T171018Z
UID:10009257-1834505100-1834509600@saintandrewsfullerton.com
SUMMARY:Clothes Closet
DESCRIPTION:Our Clothes Closet is open every Friday from 4:45–6:00 p.m. All are welcome to receive free clothing\, shoes\, and toiletries.
URL:https://saintandrewsfullerton.com/events/clothes-closet-fridays/2028-02-18/
LOCATION:St. Andrew’s Episcopal Church\, 1231 E Chapman Ave\, Fullerton\, California\, 92831
CATEGORIES:Special Event
ATTACH;FMTTYPE=image/jpeg:https://saintandrewsfullerton.com/wp-content/uploads/2022/04/Clothes-Closet-06-27-2022.jpg
END:VEVENT
BEGIN:VEVENT
DTSTART;TZID=America/Los_Angeles:20280220T073000
DTEND;TZID=America/Los_Angeles:20280220T083000
DTSTAMP:20260419T234117
CREATED:20251022T203927Z
LAST-MODIFIED:20251022T203927Z
UID:10008165-1834644600-1834648200@saintandrewsfullerton.com
SUMMARY:Holy Eucharist in the Chapel
DESCRIPTION:Join Us for Early Morning Worship! \nBegin your Sunday in quiet reflection and community. We invite you to join us for Holy Communion at 7:30 a.m. in the chapel—a peaceful and prayerful start to your day.
URL:https://saintandrewsfullerton.com/events/holy-eucharist-in-the-chapel/2028-02-20/
LOCATION:Saint Andrew’s Episcopal Church\, 1231 E. Chapman Ave.\, Fullerton\, CA\, 92831\, United States
CATEGORIES:Fellowship,Sermons,Sundays
ATTACH;FMTTYPE=image/jpeg:https://saintandrewsfullerton.com/wp-content/uploads/2023/05/Early-Morning-Eucharist.jpg
END:VEVENT
BEGIN:VEVENT
DTSTART;TZID=America/Los_Angeles:20280223T100000
DTEND;TZID=America/Los_Angeles:20280223T110000
DTSTAMP:20260419T234117
CREATED:20260227T011338Z
LAST-MODIFIED:20260227T011648Z
UID:10009535-1834912800-1834916400@saintandrewsfullerton.com
SUMMARY:Healing Service
DESCRIPTION:We are beginning a healing service twice a month on the second and fourth Wednesdays at 10 a.m. in the chapel. The first service will be on Wednesday\, March 11th. The first service of the month will include Eucharist and the second will be a unique version of Morning Prayer. \nWe look forward to being with the people of St. Andrews on these dates. Blessings and good health to all of you.
URL:https://saintandrewsfullerton.com/events/healing-service/2028-02-23/
LOCATION:St. Andrew’s Episcopal Church\, 1231 E Chapman Ave\, Fullerton\, California\, 92831
CATEGORIES:Special Event
ATTACH;FMTTYPE=image/jpeg:https://saintandrewsfullerton.com/wp-content/uploads/2025/04/Chapel-2-Optimized.jpg
END:VEVENT
BEGIN:VEVENT
DTSTART;TZID=America/Los_Angeles:20280225T163000
DTEND;TZID=America/Los_Angeles:20280225T173000
DTSTAMP:20260419T234117
CREATED:20260305T230715Z
LAST-MODIFIED:20260305T230715Z
UID:10009641-1835109000-1835112600@saintandrewsfullerton.com
SUMMARY:Word Circle\, St. Andrew’s Creative Writing Group!
DESCRIPTION:Are you a writer looking to improve your skills and connect with like-minded individuals? Join Word Circle\, St. Andrew’s Creative Writing Group! We meet every other Friday in the Orange Room of Moody Hall and welcome new members at any time. \nInterested? Please email Kaye Bellot at Kbellot2@aol.com for more details! We can’t wait to have you join us!
URL:https://saintandrewsfullerton.com/events/word-circle-st-andrews-creative-writing-group/2028-02-25/
LOCATION:St. Andrew’s Episcopal Church\, 1231 E Chapman Ave\, Fullerton\, California\, 92831
CATEGORIES:Special Event
ATTACH;FMTTYPE=image/jpeg:https://saintandrewsfullerton.com/wp-content/uploads/2025/11/Creative-Writing-5-scaled.jpg
END:VEVENT
BEGIN:VEVENT
DTSTART;TZID=America/Los_Angeles:20280225T164500
DTEND;TZID=America/Los_Angeles:20280225T180000
DTSTAMP:20260419T234117
CREATED:20260114T170919Z
LAST-MODIFIED:20260114T171018Z
UID:10009258-1835109900-1835114400@saintandrewsfullerton.com
SUMMARY:Clothes Closet
DESCRIPTION:Our Clothes Closet is open every Friday from 4:45–6:00 p.m. All are welcome to receive free clothing\, shoes\, and toiletries.
URL:https://saintandrewsfullerton.com/events/clothes-closet-fridays/2028-02-25/
LOCATION:St. Andrew’s Episcopal Church\, 1231 E Chapman Ave\, Fullerton\, California\, 92831
CATEGORIES:Special Event
ATTACH;FMTTYPE=image/jpeg:https://saintandrewsfullerton.com/wp-content/uploads/2022/04/Clothes-Closet-06-27-2022.jpg
END:VEVENT
BEGIN:VEVENT
DTSTART;TZID=America/Los_Angeles:20280227T073000
DTEND;TZID=America/Los_Angeles:20280227T083000
DTSTAMP:20260419T234117
CREATED:20251022T203927Z
LAST-MODIFIED:20251022T203927Z
UID:10008166-1835249400-1835253000@saintandrewsfullerton.com
SUMMARY:Holy Eucharist in the Chapel
DESCRIPTION:Join Us for Early Morning Worship! \nBegin your Sunday in quiet reflection and community. We invite you to join us for Holy Communion at 7:30 a.m. in the chapel—a peaceful and prayerful start to your day.
URL:https://saintandrewsfullerton.com/events/holy-eucharist-in-the-chapel/2028-02-27/
LOCATION:Saint Andrew’s Episcopal Church\, 1231 E. Chapman Ave.\, Fullerton\, CA\, 92831\, United States
CATEGORIES:Fellowship,Sermons,Sundays
ATTACH;FMTTYPE=image/jpeg:https://saintandrewsfullerton.com/wp-content/uploads/2023/05/Early-Morning-Eucharist.jpg
END:VEVENT
BEGIN:VEVENT
DTSTART;TZID=America/Los_Angeles:20280227T160000
DTEND;TZID=America/Los_Angeles:20280227T180000
DTSTAMP:20260419T234117
CREATED:20251119T211818Z
LAST-MODIFIED:20260305T225113Z
UID:10009052-1835280000-1835287200@saintandrewsfullerton.com
SUMMARY:Free Outdoor Neighborhood Jazz Concert!
DESCRIPTION:Join us for a free jazz concert on the fourth Sunday of the month. Please note that the date has been changed from the third to the fourth Sunday due to scheduling conflicts. Enjoy fantastic music by Joshua Ryan Wood and the West Coast Combo!  Depending on the weather\, we’ll gather on the lawn or in the Parish Hall. We’ll have signs up so you can find your way!  Bring friends and family and make a picnic of it! BYOB and some free snacks and beverages will be available\, too.
URL:https://saintandrewsfullerton.com/events/free-outdoor-neighborhood-jazz-concert-2/2028-02-27/
LOCATION:St. Andrew’s Episcopal Church\, 1231 E Chapman Ave\, Fullerton\, California\, 92831
CATEGORIES:Special Event
ATTACH;FMTTYPE=image/jpeg:https://saintandrewsfullerton.com/wp-content/uploads/2025/04/Jazz-Concert-3-Optimized.jpg
END:VEVENT
BEGIN:VEVENT
DTSTART;TZID=America/Los_Angeles:20280303T164500
DTEND;TZID=America/Los_Angeles:20280303T180000
DTSTAMP:20260419T234117
CREATED:20260114T170919Z
LAST-MODIFIED:20260114T171018Z
UID:10009259-1835714700-1835719200@saintandrewsfullerton.com
SUMMARY:Clothes Closet
DESCRIPTION:Our Clothes Closet is open every Friday from 4:45–6:00 p.m. All are welcome to receive free clothing\, shoes\, and toiletries.
URL:https://saintandrewsfullerton.com/events/clothes-closet-fridays/2028-03-03/
LOCATION:St. Andrew’s Episcopal Church\, 1231 E Chapman Ave\, Fullerton\, California\, 92831
CATEGORIES:Special Event
ATTACH;FMTTYPE=image/jpeg:https://saintandrewsfullerton.com/wp-content/uploads/2022/04/Clothes-Closet-06-27-2022.jpg
END:VEVENT
BEGIN:VEVENT
DTSTART;TZID=America/Los_Angeles:20280305T073000
DTEND;TZID=America/Los_Angeles:20280305T083000
DTSTAMP:20260419T234117
CREATED:20251022T203927Z
LAST-MODIFIED:20251022T203927Z
UID:10008167-1835854200-1835857800@saintandrewsfullerton.com
SUMMARY:Holy Eucharist in the Chapel
DESCRIPTION:Join Us for Early Morning Worship! \nBegin your Sunday in quiet reflection and community. We invite you to join us for Holy Communion at 7:30 a.m. in the chapel—a peaceful and prayerful start to your day.
URL:https://saintandrewsfullerton.com/events/holy-eucharist-in-the-chapel/2028-03-05/
LOCATION:Saint Andrew’s Episcopal Church\, 1231 E. Chapman Ave.\, Fullerton\, CA\, 92831\, United States
CATEGORIES:Fellowship,Sermons,Sundays
ATTACH;FMTTYPE=image/jpeg:https://saintandrewsfullerton.com/wp-content/uploads/2023/05/Early-Morning-Eucharist.jpg
END:VEVENT
BEGIN:VEVENT
DTSTART;TZID=America/Los_Angeles:20280308T100000
DTEND;TZID=America/Los_Angeles:20280308T110000
DTSTAMP:20260419T234117
CREATED:20260227T010835Z
LAST-MODIFIED:20260227T010835Z
UID:10009476-1836122400-1836126000@saintandrewsfullerton.com
SUMMARY:Healing Service & Holy Eucharist
DESCRIPTION:We are beginning a healing service twice a month on the second and fourth Wednesdays at 10 a.m. in the chapel. The first service will be on Wednesday\, March 11th. The first service of the month will include Eucharist\, and the second will be a unique version of Morning Prayer. \nWe look forward to being with the people of St. Andrews on these dates. Blessings and good health to all of you.
URL:https://saintandrewsfullerton.com/events/healing-service-holy-eucharist/2028-03-08/
LOCATION:St. Andrew’s Episcopal Church\, 1231 E Chapman Ave\, Fullerton\, California\, 92831
CATEGORIES:Special Event
ATTACH;FMTTYPE=image/jpeg:https://saintandrewsfullerton.com/wp-content/uploads/2024/03/St.-Andrews-Window-07-27-23-scaled.jpg
END:VEVENT
BEGIN:VEVENT
DTSTART;TZID=America/Los_Angeles:20280310T163000
DTEND;TZID=America/Los_Angeles:20280310T173000
DTSTAMP:20260419T234117
CREATED:20260305T230715Z
LAST-MODIFIED:20260305T230715Z
UID:10009642-1836318600-1836322200@saintandrewsfullerton.com
SUMMARY:Word Circle\, St. Andrew’s Creative Writing Group!
DESCRIPTION:Are you a writer looking to improve your skills and connect with like-minded individuals? Join Word Circle\, St. Andrew’s Creative Writing Group! We meet every other Friday in the Orange Room of Moody Hall and welcome new members at any time. \nInterested? Please email Kaye Bellot at Kbellot2@aol.com for more details! We can’t wait to have you join us!
URL:https://saintandrewsfullerton.com/events/word-circle-st-andrews-creative-writing-group/2028-03-10/
LOCATION:St. Andrew’s Episcopal Church\, 1231 E Chapman Ave\, Fullerton\, California\, 92831
CATEGORIES:Special Event
ATTACH;FMTTYPE=image/jpeg:https://saintandrewsfullerton.com/wp-content/uploads/2025/11/Creative-Writing-5-scaled.jpg
END:VEVENT
BEGIN:VEVENT
DTSTART;TZID=America/Los_Angeles:20280310T164500
DTEND;TZID=America/Los_Angeles:20280310T180000
DTSTAMP:20260419T234117
CREATED:20260114T170919Z
LAST-MODIFIED:20260114T171018Z
UID:10009260-1836319500-1836324000@saintandrewsfullerton.com
SUMMARY:Clothes Closet
DESCRIPTION:Our Clothes Closet is open every Friday from 4:45–6:00 p.m. All are welcome to receive free clothing\, shoes\, and toiletries.
URL:https://saintandrewsfullerton.com/events/clothes-closet-fridays/2028-03-10/
LOCATION:St. Andrew’s Episcopal Church\, 1231 E Chapman Ave\, Fullerton\, California\, 92831
CATEGORIES:Special Event
ATTACH;FMTTYPE=image/jpeg:https://saintandrewsfullerton.com/wp-content/uploads/2022/04/Clothes-Closet-06-27-2022.jpg
END:VEVENT
BEGIN:VEVENT
DTSTART;TZID=America/Los_Angeles:20280312T073000
DTEND;TZID=America/Los_Angeles:20280312T083000
DTSTAMP:20260419T234117
CREATED:20251022T203927Z
LAST-MODIFIED:20251022T203927Z
UID:10008168-1836459000-1836462600@saintandrewsfullerton.com
SUMMARY:Holy Eucharist in the Chapel
DESCRIPTION:Join Us for Early Morning Worship! \nBegin your Sunday in quiet reflection and community. We invite you to join us for Holy Communion at 7:30 a.m. in the chapel—a peaceful and prayerful start to your day.
URL:https://saintandrewsfullerton.com/events/holy-eucharist-in-the-chapel/2028-03-12/
LOCATION:Saint Andrew’s Episcopal Church\, 1231 E. Chapman Ave.\, Fullerton\, CA\, 92831\, United States
CATEGORIES:Fellowship,Sermons,Sundays
ATTACH;FMTTYPE=image/jpeg:https://saintandrewsfullerton.com/wp-content/uploads/2023/05/Early-Morning-Eucharist.jpg
END:VEVENT
END:VCALENDAR