BEGIN:VCALENDAR
VERSION:2.0
PRODID:-//Saint Andrew&#039;s Episcopal Church, Fullerton CA - ECPv6.15.20//NONSGML v1.0//EN
CALSCALE:GREGORIAN
METHOD:PUBLISH
X-WR-CALNAME:Saint Andrew&#039;s Episcopal Church, Fullerton CA
X-ORIGINAL-URL:https://saintandrewsfullerton.com
X-WR-CALDESC:Events for Saint Andrew&#039;s Episcopal Church, Fullerton CA
REFRESH-INTERVAL;VALUE=DURATION:PT1H
X-Robots-Tag:noindex
X-PUBLISHED-TTL:PT1H
BEGIN:VTIMEZONE
TZID:America/Los_Angeles
BEGIN:DAYLIGHT
TZOFFSETFROM:-0800
TZOFFSETTO:-0700
TZNAME:PDT
DTSTART:20270314T100000
END:DAYLIGHT
BEGIN:STANDARD
TZOFFSETFROM:-0700
TZOFFSETTO:-0800
TZNAME:PST
DTSTART:20271107T090000
END:STANDARD
BEGIN:DAYLIGHT
TZOFFSETFROM:-0800
TZOFFSETTO:-0700
TZNAME:PDT
DTSTART:20280312T100000
END:DAYLIGHT
BEGIN:STANDARD
TZOFFSETFROM:-0700
TZOFFSETTO:-0800
TZNAME:PST
DTSTART:20281105T090000
END:STANDARD
BEGIN:DAYLIGHT
TZOFFSETFROM:-0800
TZOFFSETTO:-0700
TZNAME:PDT
DTSTART:20290311T100000
END:DAYLIGHT
BEGIN:STANDARD
TZOFFSETFROM:-0700
TZOFFSETTO:-0800
TZNAME:PST
DTSTART:20291104T090000
END:STANDARD
END:VTIMEZONE
BEGIN:VEVENT
DTSTART;TZID=America/Los_Angeles:20281025T100000
DTEND;TZID=America/Los_Angeles:20281025T110000
DTSTAMP:20260420T225301
CREATED:20260227T011338Z
LAST-MODIFIED:20260227T011648Z
UID:10009543-1856080800-1856084400@saintandrewsfullerton.com
SUMMARY:Healing Service
DESCRIPTION:We are beginning a healing service twice a month on the second and fourth Wednesdays at 10 a.m. in the chapel. The first service will be on Wednesday\, March 11th. The first service of the month will include Eucharist and the second will be a unique version of Morning Prayer. \nWe look forward to being with the people of St. Andrews on these dates. Blessings and good health to all of you.
URL:https://saintandrewsfullerton.com/events/healing-service/2028-10-25/
LOCATION:St. Andrew’s Episcopal Church\, 1231 E Chapman Ave\, Fullerton\, California\, 92831
CATEGORIES:Special Event
ATTACH;FMTTYPE=image/jpeg:https://saintandrewsfullerton.com/wp-content/uploads/2025/04/Chapel-2-Optimized.jpg
END:VEVENT
BEGIN:VEVENT
DTSTART;TZID=America/Los_Angeles:20281027T164500
DTEND;TZID=America/Los_Angeles:20281027T180000
DTSTAMP:20260420T225301
CREATED:20260114T170919Z
LAST-MODIFIED:20260114T171018Z
UID:10009293-1856277900-1856282400@saintandrewsfullerton.com
SUMMARY:Clothes Closet
DESCRIPTION:Our Clothes Closet is open every Friday from 4:45–6:00 p.m. All are welcome to receive free clothing\, shoes\, and toiletries.
URL:https://saintandrewsfullerton.com/events/clothes-closet-fridays/2028-10-27/
LOCATION:St. Andrew’s Episcopal Church\, 1231 E Chapman Ave\, Fullerton\, California\, 92831
CATEGORIES:Special Event
ATTACH;FMTTYPE=image/jpeg:https://saintandrewsfullerton.com/wp-content/uploads/2022/04/Clothes-Closet-06-27-2022.jpg
END:VEVENT
BEGIN:VEVENT
DTSTART;TZID=America/Los_Angeles:20281029T073000
DTEND;TZID=America/Los_Angeles:20281029T083000
DTSTAMP:20260420T225301
CREATED:20251022T203927Z
LAST-MODIFIED:20251022T203927Z
UID:10008201-1856417400-1856421000@saintandrewsfullerton.com
SUMMARY:Holy Eucharist in the Chapel
DESCRIPTION:Join Us for Early Morning Worship! \nBegin your Sunday in quiet reflection and community. We invite you to join us for Holy Communion at 7:30 a.m. in the chapel—a peaceful and prayerful start to your day.
URL:https://saintandrewsfullerton.com/events/holy-eucharist-in-the-chapel/2028-10-29/
LOCATION:Saint Andrew’s Episcopal Church\, 1231 E. Chapman Ave.\, Fullerton\, CA\, 92831\, United States
CATEGORIES:Fellowship,Sermons,Sundays
ATTACH;FMTTYPE=image/jpeg:https://saintandrewsfullerton.com/wp-content/uploads/2023/05/Early-Morning-Eucharist.jpg
END:VEVENT
BEGIN:VEVENT
DTSTART;TZID=America/Los_Angeles:20281103T163000
DTEND;TZID=America/Los_Angeles:20281103T173000
DTSTAMP:20260420T225301
CREATED:20260305T230715Z
LAST-MODIFIED:20260305T230715Z
UID:10009659-1856881800-1856885400@saintandrewsfullerton.com
SUMMARY:Word Circle\, St. Andrew’s Creative Writing Group!
DESCRIPTION:Are you a writer looking to improve your skills and connect with like-minded individuals? Join Word Circle\, St. Andrew’s Creative Writing Group! We meet every other Friday in the Orange Room of Moody Hall and welcome new members at any time. \nInterested? Please email Kaye Bellot at Kbellot2@aol.com for more details! We can’t wait to have you join us!
URL:https://saintandrewsfullerton.com/events/word-circle-st-andrews-creative-writing-group/2028-11-03/
LOCATION:St. Andrew’s Episcopal Church\, 1231 E Chapman Ave\, Fullerton\, California\, 92831
CATEGORIES:Special Event
ATTACH;FMTTYPE=image/jpeg:https://saintandrewsfullerton.com/wp-content/uploads/2025/11/Creative-Writing-5-scaled.jpg
END:VEVENT
BEGIN:VEVENT
DTSTART;TZID=America/Los_Angeles:20281103T164500
DTEND;TZID=America/Los_Angeles:20281103T180000
DTSTAMP:20260420T225301
CREATED:20260114T170919Z
LAST-MODIFIED:20260114T171018Z
UID:10009294-1856882700-1856887200@saintandrewsfullerton.com
SUMMARY:Clothes Closet
DESCRIPTION:Our Clothes Closet is open every Friday from 4:45–6:00 p.m. All are welcome to receive free clothing\, shoes\, and toiletries.
URL:https://saintandrewsfullerton.com/events/clothes-closet-fridays/2028-11-03/
LOCATION:St. Andrew’s Episcopal Church\, 1231 E Chapman Ave\, Fullerton\, California\, 92831
CATEGORIES:Special Event
ATTACH;FMTTYPE=image/jpeg:https://saintandrewsfullerton.com/wp-content/uploads/2022/04/Clothes-Closet-06-27-2022.jpg
END:VEVENT
BEGIN:VEVENT
DTSTART;TZID=America/Los_Angeles:20281105T073000
DTEND;TZID=America/Los_Angeles:20281105T083000
DTSTAMP:20260420T225301
CREATED:20251022T203927Z
LAST-MODIFIED:20251022T203927Z
UID:10008202-1857022200-1857025800@saintandrewsfullerton.com
SUMMARY:Holy Eucharist in the Chapel
DESCRIPTION:Join Us for Early Morning Worship! \nBegin your Sunday in quiet reflection and community. We invite you to join us for Holy Communion at 7:30 a.m. in the chapel—a peaceful and prayerful start to your day.
URL:https://saintandrewsfullerton.com/events/holy-eucharist-in-the-chapel/2028-11-05/
LOCATION:Saint Andrew’s Episcopal Church\, 1231 E. Chapman Ave.\, Fullerton\, CA\, 92831\, United States
CATEGORIES:Fellowship,Sermons,Sundays
ATTACH;FMTTYPE=image/jpeg:https://saintandrewsfullerton.com/wp-content/uploads/2023/05/Early-Morning-Eucharist.jpg
END:VEVENT
BEGIN:VEVENT
DTSTART;TZID=America/Los_Angeles:20281108T100000
DTEND;TZID=America/Los_Angeles:20281108T110000
DTSTAMP:20260420T225301
CREATED:20260227T010835Z
LAST-MODIFIED:20260227T010835Z
UID:10009484-1857290400-1857294000@saintandrewsfullerton.com
SUMMARY:Healing Service & Holy Eucharist
DESCRIPTION:We are beginning a healing service twice a month on the second and fourth Wednesdays at 10 a.m. in the chapel. The first service will be on Wednesday\, March 11th. The first service of the month will include Eucharist\, and the second will be a unique version of Morning Prayer. \nWe look forward to being with the people of St. Andrews on these dates. Blessings and good health to all of you.
URL:https://saintandrewsfullerton.com/events/healing-service-holy-eucharist/2028-11-08/
LOCATION:St. Andrew’s Episcopal Church\, 1231 E Chapman Ave\, Fullerton\, California\, 92831
CATEGORIES:Special Event
ATTACH;FMTTYPE=image/jpeg:https://saintandrewsfullerton.com/wp-content/uploads/2024/03/St.-Andrews-Window-07-27-23-scaled.jpg
END:VEVENT
BEGIN:VEVENT
DTSTART;TZID=America/Los_Angeles:20281110T164500
DTEND;TZID=America/Los_Angeles:20281110T180000
DTSTAMP:20260420T225301
CREATED:20260114T170919Z
LAST-MODIFIED:20260114T171018Z
UID:10009295-1857487500-1857492000@saintandrewsfullerton.com
SUMMARY:Clothes Closet
DESCRIPTION:Our Clothes Closet is open every Friday from 4:45–6:00 p.m. All are welcome to receive free clothing\, shoes\, and toiletries.
URL:https://saintandrewsfullerton.com/events/clothes-closet-fridays/2028-11-10/
LOCATION:St. Andrew’s Episcopal Church\, 1231 E Chapman Ave\, Fullerton\, California\, 92831
CATEGORIES:Special Event
ATTACH;FMTTYPE=image/jpeg:https://saintandrewsfullerton.com/wp-content/uploads/2022/04/Clothes-Closet-06-27-2022.jpg
END:VEVENT
BEGIN:VEVENT
DTSTART;TZID=America/Los_Angeles:20281112T073000
DTEND;TZID=America/Los_Angeles:20281112T083000
DTSTAMP:20260420T225301
CREATED:20251022T203927Z
LAST-MODIFIED:20251022T203927Z
UID:10008203-1857627000-1857630600@saintandrewsfullerton.com
SUMMARY:Holy Eucharist in the Chapel
DESCRIPTION:Join Us for Early Morning Worship! \nBegin your Sunday in quiet reflection and community. We invite you to join us for Holy Communion at 7:30 a.m. in the chapel—a peaceful and prayerful start to your day.
URL:https://saintandrewsfullerton.com/events/holy-eucharist-in-the-chapel/2028-11-12/
LOCATION:Saint Andrew’s Episcopal Church\, 1231 E. Chapman Ave.\, Fullerton\, CA\, 92831\, United States
CATEGORIES:Fellowship,Sermons,Sundays
ATTACH;FMTTYPE=image/jpeg:https://saintandrewsfullerton.com/wp-content/uploads/2023/05/Early-Morning-Eucharist.jpg
END:VEVENT
BEGIN:VEVENT
DTSTART;TZID=America/Los_Angeles:20281117T163000
DTEND;TZID=America/Los_Angeles:20281117T173000
DTSTAMP:20260420T225301
CREATED:20260305T230715Z
LAST-MODIFIED:20260305T230715Z
UID:10009660-1858091400-1858095000@saintandrewsfullerton.com
SUMMARY:Word Circle\, St. Andrew’s Creative Writing Group!
DESCRIPTION:Are you a writer looking to improve your skills and connect with like-minded individuals? Join Word Circle\, St. Andrew’s Creative Writing Group! We meet every other Friday in the Orange Room of Moody Hall and welcome new members at any time. \nInterested? Please email Kaye Bellot at Kbellot2@aol.com for more details! We can’t wait to have you join us!
URL:https://saintandrewsfullerton.com/events/word-circle-st-andrews-creative-writing-group/2028-11-17/
LOCATION:St. Andrew’s Episcopal Church\, 1231 E Chapman Ave\, Fullerton\, California\, 92831
CATEGORIES:Special Event
ATTACH;FMTTYPE=image/jpeg:https://saintandrewsfullerton.com/wp-content/uploads/2025/11/Creative-Writing-5-scaled.jpg
END:VEVENT
BEGIN:VEVENT
DTSTART;TZID=America/Los_Angeles:20281117T164500
DTEND;TZID=America/Los_Angeles:20281117T180000
DTSTAMP:20260420T225301
CREATED:20260114T170919Z
LAST-MODIFIED:20260114T171018Z
UID:10009296-1858092300-1858096800@saintandrewsfullerton.com
SUMMARY:Clothes Closet
DESCRIPTION:Our Clothes Closet is open every Friday from 4:45–6:00 p.m. All are welcome to receive free clothing\, shoes\, and toiletries.
URL:https://saintandrewsfullerton.com/events/clothes-closet-fridays/2028-11-17/
LOCATION:St. Andrew’s Episcopal Church\, 1231 E Chapman Ave\, Fullerton\, California\, 92831
CATEGORIES:Special Event
ATTACH;FMTTYPE=image/jpeg:https://saintandrewsfullerton.com/wp-content/uploads/2022/04/Clothes-Closet-06-27-2022.jpg
END:VEVENT
BEGIN:VEVENT
DTSTART;TZID=America/Los_Angeles:20281119T073000
DTEND;TZID=America/Los_Angeles:20281119T083000
DTSTAMP:20260420T225301
CREATED:20251022T203927Z
LAST-MODIFIED:20251022T203927Z
UID:10008204-1858231800-1858235400@saintandrewsfullerton.com
SUMMARY:Holy Eucharist in the Chapel
DESCRIPTION:Join Us for Early Morning Worship! \nBegin your Sunday in quiet reflection and community. We invite you to join us for Holy Communion at 7:30 a.m. in the chapel—a peaceful and prayerful start to your day.
URL:https://saintandrewsfullerton.com/events/holy-eucharist-in-the-chapel/2028-11-19/
LOCATION:Saint Andrew’s Episcopal Church\, 1231 E. Chapman Ave.\, Fullerton\, CA\, 92831\, United States
CATEGORIES:Fellowship,Sermons,Sundays
ATTACH;FMTTYPE=image/jpeg:https://saintandrewsfullerton.com/wp-content/uploads/2023/05/Early-Morning-Eucharist.jpg
END:VEVENT
BEGIN:VEVENT
DTSTART;TZID=America/Los_Angeles:20281122T100000
DTEND;TZID=America/Los_Angeles:20281122T110000
DTSTAMP:20260420T225301
CREATED:20260227T011338Z
LAST-MODIFIED:20260227T011648Z
UID:10009544-1858500000-1858503600@saintandrewsfullerton.com
SUMMARY:Healing Service
DESCRIPTION:We are beginning a healing service twice a month on the second and fourth Wednesdays at 10 a.m. in the chapel. The first service will be on Wednesday\, March 11th. The first service of the month will include Eucharist and the second will be a unique version of Morning Prayer. \nWe look forward to being with the people of St. Andrews on these dates. Blessings and good health to all of you.
URL:https://saintandrewsfullerton.com/events/healing-service/2028-11-22/
LOCATION:St. Andrew’s Episcopal Church\, 1231 E Chapman Ave\, Fullerton\, California\, 92831
CATEGORIES:Special Event
ATTACH;FMTTYPE=image/jpeg:https://saintandrewsfullerton.com/wp-content/uploads/2025/04/Chapel-2-Optimized.jpg
END:VEVENT
BEGIN:VEVENT
DTSTART;TZID=America/Los_Angeles:20281124T164500
DTEND;TZID=America/Los_Angeles:20281124T180000
DTSTAMP:20260420T225301
CREATED:20260114T170919Z
LAST-MODIFIED:20260114T171018Z
UID:10009297-1858697100-1858701600@saintandrewsfullerton.com
SUMMARY:Clothes Closet
DESCRIPTION:Our Clothes Closet is open every Friday from 4:45–6:00 p.m. All are welcome to receive free clothing\, shoes\, and toiletries.
URL:https://saintandrewsfullerton.com/events/clothes-closet-fridays/2028-11-24/
LOCATION:St. Andrew’s Episcopal Church\, 1231 E Chapman Ave\, Fullerton\, California\, 92831
CATEGORIES:Special Event
ATTACH;FMTTYPE=image/jpeg:https://saintandrewsfullerton.com/wp-content/uploads/2022/04/Clothes-Closet-06-27-2022.jpg
END:VEVENT
BEGIN:VEVENT
DTSTART;TZID=America/Los_Angeles:20281126T073000
DTEND;TZID=America/Los_Angeles:20281126T083000
DTSTAMP:20260420T225301
CREATED:20251022T203927Z
LAST-MODIFIED:20251022T203927Z
UID:10008205-1858836600-1858840200@saintandrewsfullerton.com
SUMMARY:Holy Eucharist in the Chapel
DESCRIPTION:Join Us for Early Morning Worship! \nBegin your Sunday in quiet reflection and community. We invite you to join us for Holy Communion at 7:30 a.m. in the chapel—a peaceful and prayerful start to your day.
URL:https://saintandrewsfullerton.com/events/holy-eucharist-in-the-chapel/2028-11-26/
LOCATION:Saint Andrew’s Episcopal Church\, 1231 E. Chapman Ave.\, Fullerton\, CA\, 92831\, United States
CATEGORIES:Fellowship,Sermons,Sundays
ATTACH;FMTTYPE=image/jpeg:https://saintandrewsfullerton.com/wp-content/uploads/2023/05/Early-Morning-Eucharist.jpg
END:VEVENT
BEGIN:VEVENT
DTSTART;TZID=America/Los_Angeles:20281126T160000
DTEND;TZID=America/Los_Angeles:20281126T180000
DTSTAMP:20260420T225301
CREATED:20251119T211818Z
LAST-MODIFIED:20260305T225113Z
UID:10009061-1858867200-1858874400@saintandrewsfullerton.com
SUMMARY:Free Outdoor Neighborhood Jazz Concert!
DESCRIPTION:Join us for a free jazz concert on the fourth Sunday of the month. Please note that the date has been changed from the third to the fourth Sunday due to scheduling conflicts. Enjoy fantastic music by Joshua Ryan Wood and the West Coast Combo!  Depending on the weather\, we’ll gather on the lawn or in the Parish Hall. We’ll have signs up so you can find your way!  Bring friends and family and make a picnic of it! BYOB and some free snacks and beverages will be available\, too.
URL:https://saintandrewsfullerton.com/events/free-outdoor-neighborhood-jazz-concert-2/2028-11-26/
LOCATION:St. Andrew’s Episcopal Church\, 1231 E Chapman Ave\, Fullerton\, California\, 92831
CATEGORIES:Special Event
ATTACH;FMTTYPE=image/jpeg:https://saintandrewsfullerton.com/wp-content/uploads/2025/04/Jazz-Concert-3-Optimized.jpg
END:VEVENT
BEGIN:VEVENT
DTSTART;TZID=America/Los_Angeles:20281201T163000
DTEND;TZID=America/Los_Angeles:20281201T173000
DTSTAMP:20260420T225301
CREATED:20260305T230715Z
LAST-MODIFIED:20260305T230715Z
UID:10009661-1859301000-1859304600@saintandrewsfullerton.com
SUMMARY:Word Circle\, St. Andrew’s Creative Writing Group!
DESCRIPTION:Are you a writer looking to improve your skills and connect with like-minded individuals? Join Word Circle\, St. Andrew’s Creative Writing Group! We meet every other Friday in the Orange Room of Moody Hall and welcome new members at any time. \nInterested? Please email Kaye Bellot at Kbellot2@aol.com for more details! We can’t wait to have you join us!
URL:https://saintandrewsfullerton.com/events/word-circle-st-andrews-creative-writing-group/2028-12-01/
LOCATION:St. Andrew’s Episcopal Church\, 1231 E Chapman Ave\, Fullerton\, California\, 92831
CATEGORIES:Special Event
ATTACH;FMTTYPE=image/jpeg:https://saintandrewsfullerton.com/wp-content/uploads/2025/11/Creative-Writing-5-scaled.jpg
END:VEVENT
BEGIN:VEVENT
DTSTART;TZID=America/Los_Angeles:20281201T164500
DTEND;TZID=America/Los_Angeles:20281201T180000
DTSTAMP:20260420T225301
CREATED:20260114T170919Z
LAST-MODIFIED:20260114T171018Z
UID:10009298-1859301900-1859306400@saintandrewsfullerton.com
SUMMARY:Clothes Closet
DESCRIPTION:Our Clothes Closet is open every Friday from 4:45–6:00 p.m. All are welcome to receive free clothing\, shoes\, and toiletries.
URL:https://saintandrewsfullerton.com/events/clothes-closet-fridays/2028-12-01/
LOCATION:St. Andrew’s Episcopal Church\, 1231 E Chapman Ave\, Fullerton\, California\, 92831
CATEGORIES:Special Event
ATTACH;FMTTYPE=image/jpeg:https://saintandrewsfullerton.com/wp-content/uploads/2022/04/Clothes-Closet-06-27-2022.jpg
END:VEVENT
BEGIN:VEVENT
DTSTART;TZID=America/Los_Angeles:20281203T073000
DTEND;TZID=America/Los_Angeles:20281203T083000
DTSTAMP:20260420T225301
CREATED:20251022T203927Z
LAST-MODIFIED:20251022T203927Z
UID:10008206-1859441400-1859445000@saintandrewsfullerton.com
SUMMARY:Holy Eucharist in the Chapel
DESCRIPTION:Join Us for Early Morning Worship! \nBegin your Sunday in quiet reflection and community. We invite you to join us for Holy Communion at 7:30 a.m. in the chapel—a peaceful and prayerful start to your day.
URL:https://saintandrewsfullerton.com/events/holy-eucharist-in-the-chapel/2028-12-03/
LOCATION:Saint Andrew’s Episcopal Church\, 1231 E. Chapman Ave.\, Fullerton\, CA\, 92831\, United States
CATEGORIES:Fellowship,Sermons,Sundays
ATTACH;FMTTYPE=image/jpeg:https://saintandrewsfullerton.com/wp-content/uploads/2023/05/Early-Morning-Eucharist.jpg
END:VEVENT
BEGIN:VEVENT
DTSTART;TZID=America/Los_Angeles:20281208T164500
DTEND;TZID=America/Los_Angeles:20281208T180000
DTSTAMP:20260420T225301
CREATED:20260114T170919Z
LAST-MODIFIED:20260114T171018Z
UID:10009299-1859906700-1859911200@saintandrewsfullerton.com
SUMMARY:Clothes Closet
DESCRIPTION:Our Clothes Closet is open every Friday from 4:45–6:00 p.m. All are welcome to receive free clothing\, shoes\, and toiletries.
URL:https://saintandrewsfullerton.com/events/clothes-closet-fridays/2028-12-08/
LOCATION:St. Andrew’s Episcopal Church\, 1231 E Chapman Ave\, Fullerton\, California\, 92831
CATEGORIES:Special Event
ATTACH;FMTTYPE=image/jpeg:https://saintandrewsfullerton.com/wp-content/uploads/2022/04/Clothes-Closet-06-27-2022.jpg
END:VEVENT
BEGIN:VEVENT
DTSTART;TZID=America/Los_Angeles:20281210T073000
DTEND;TZID=America/Los_Angeles:20281210T083000
DTSTAMP:20260420T225301
CREATED:20251022T203927Z
LAST-MODIFIED:20251022T203927Z
UID:10008207-1860046200-1860049800@saintandrewsfullerton.com
SUMMARY:Holy Eucharist in the Chapel
DESCRIPTION:Join Us for Early Morning Worship! \nBegin your Sunday in quiet reflection and community. We invite you to join us for Holy Communion at 7:30 a.m. in the chapel—a peaceful and prayerful start to your day.
URL:https://saintandrewsfullerton.com/events/holy-eucharist-in-the-chapel/2028-12-10/
LOCATION:Saint Andrew’s Episcopal Church\, 1231 E. Chapman Ave.\, Fullerton\, CA\, 92831\, United States
CATEGORIES:Fellowship,Sermons,Sundays
ATTACH;FMTTYPE=image/jpeg:https://saintandrewsfullerton.com/wp-content/uploads/2023/05/Early-Morning-Eucharist.jpg
END:VEVENT
BEGIN:VEVENT
DTSTART;TZID=America/Los_Angeles:20281213T100000
DTEND;TZID=America/Los_Angeles:20281213T110000
DTSTAMP:20260420T225301
CREATED:20260227T010835Z
LAST-MODIFIED:20260227T010835Z
UID:10009485-1860314400-1860318000@saintandrewsfullerton.com
SUMMARY:Healing Service & Holy Eucharist
DESCRIPTION:We are beginning a healing service twice a month on the second and fourth Wednesdays at 10 a.m. in the chapel. The first service will be on Wednesday\, March 11th. The first service of the month will include Eucharist\, and the second will be a unique version of Morning Prayer. \nWe look forward to being with the people of St. Andrews on these dates. Blessings and good health to all of you.
URL:https://saintandrewsfullerton.com/events/healing-service-holy-eucharist/2028-12-13/
LOCATION:St. Andrew’s Episcopal Church\, 1231 E Chapman Ave\, Fullerton\, California\, 92831
CATEGORIES:Special Event
ATTACH;FMTTYPE=image/jpeg:https://saintandrewsfullerton.com/wp-content/uploads/2024/03/St.-Andrews-Window-07-27-23-scaled.jpg
END:VEVENT
BEGIN:VEVENT
DTSTART;TZID=America/Los_Angeles:20281215T163000
DTEND;TZID=America/Los_Angeles:20281215T173000
DTSTAMP:20260420T225301
CREATED:20260305T230715Z
LAST-MODIFIED:20260305T230715Z
UID:10009662-1860510600-1860514200@saintandrewsfullerton.com
SUMMARY:Word Circle\, St. Andrew’s Creative Writing Group!
DESCRIPTION:Are you a writer looking to improve your skills and connect with like-minded individuals? Join Word Circle\, St. Andrew’s Creative Writing Group! We meet every other Friday in the Orange Room of Moody Hall and welcome new members at any time. \nInterested? Please email Kaye Bellot at Kbellot2@aol.com for more details! We can’t wait to have you join us!
URL:https://saintandrewsfullerton.com/events/word-circle-st-andrews-creative-writing-group/2028-12-15/
LOCATION:St. Andrew’s Episcopal Church\, 1231 E Chapman Ave\, Fullerton\, California\, 92831
CATEGORIES:Special Event
ATTACH;FMTTYPE=image/jpeg:https://saintandrewsfullerton.com/wp-content/uploads/2025/11/Creative-Writing-5-scaled.jpg
END:VEVENT
BEGIN:VEVENT
DTSTART;TZID=America/Los_Angeles:20281215T164500
DTEND;TZID=America/Los_Angeles:20281215T180000
DTSTAMP:20260420T225301
CREATED:20260114T170919Z
LAST-MODIFIED:20260114T171018Z
UID:10009300-1860511500-1860516000@saintandrewsfullerton.com
SUMMARY:Clothes Closet
DESCRIPTION:Our Clothes Closet is open every Friday from 4:45–6:00 p.m. All are welcome to receive free clothing\, shoes\, and toiletries.
URL:https://saintandrewsfullerton.com/events/clothes-closet-fridays/2028-12-15/
LOCATION:St. Andrew’s Episcopal Church\, 1231 E Chapman Ave\, Fullerton\, California\, 92831
CATEGORIES:Special Event
ATTACH;FMTTYPE=image/jpeg:https://saintandrewsfullerton.com/wp-content/uploads/2022/04/Clothes-Closet-06-27-2022.jpg
END:VEVENT
BEGIN:VEVENT
DTSTART;TZID=America/Los_Angeles:20281217T073000
DTEND;TZID=America/Los_Angeles:20281217T083000
DTSTAMP:20260420T225301
CREATED:20251022T203927Z
LAST-MODIFIED:20251022T203927Z
UID:10008208-1860651000-1860654600@saintandrewsfullerton.com
SUMMARY:Holy Eucharist in the Chapel
DESCRIPTION:Join Us for Early Morning Worship! \nBegin your Sunday in quiet reflection and community. We invite you to join us for Holy Communion at 7:30 a.m. in the chapel—a peaceful and prayerful start to your day.
URL:https://saintandrewsfullerton.com/events/holy-eucharist-in-the-chapel/2028-12-17/
LOCATION:Saint Andrew’s Episcopal Church\, 1231 E. Chapman Ave.\, Fullerton\, CA\, 92831\, United States
CATEGORIES:Fellowship,Sermons,Sundays
ATTACH;FMTTYPE=image/jpeg:https://saintandrewsfullerton.com/wp-content/uploads/2023/05/Early-Morning-Eucharist.jpg
END:VEVENT
BEGIN:VEVENT
DTSTART;TZID=America/Los_Angeles:20281222T164500
DTEND;TZID=America/Los_Angeles:20281222T180000
DTSTAMP:20260420T225301
CREATED:20260114T170919Z
LAST-MODIFIED:20260114T171018Z
UID:10009301-1861116300-1861120800@saintandrewsfullerton.com
SUMMARY:Clothes Closet
DESCRIPTION:Our Clothes Closet is open every Friday from 4:45–6:00 p.m. All are welcome to receive free clothing\, shoes\, and toiletries.
URL:https://saintandrewsfullerton.com/events/clothes-closet-fridays/2028-12-22/
LOCATION:St. Andrew’s Episcopal Church\, 1231 E Chapman Ave\, Fullerton\, California\, 92831
CATEGORIES:Special Event
ATTACH;FMTTYPE=image/jpeg:https://saintandrewsfullerton.com/wp-content/uploads/2022/04/Clothes-Closet-06-27-2022.jpg
END:VEVENT
BEGIN:VEVENT
DTSTART;TZID=America/Los_Angeles:20281224T073000
DTEND;TZID=America/Los_Angeles:20281224T083000
DTSTAMP:20260420T225301
CREATED:20251022T203927Z
LAST-MODIFIED:20251022T203927Z
UID:10008209-1861255800-1861259400@saintandrewsfullerton.com
SUMMARY:Holy Eucharist in the Chapel
DESCRIPTION:Join Us for Early Morning Worship! \nBegin your Sunday in quiet reflection and community. We invite you to join us for Holy Communion at 7:30 a.m. in the chapel—a peaceful and prayerful start to your day.
URL:https://saintandrewsfullerton.com/events/holy-eucharist-in-the-chapel/2028-12-24/
LOCATION:Saint Andrew’s Episcopal Church\, 1231 E. Chapman Ave.\, Fullerton\, CA\, 92831\, United States
CATEGORIES:Fellowship,Sermons,Sundays
ATTACH;FMTTYPE=image/jpeg:https://saintandrewsfullerton.com/wp-content/uploads/2023/05/Early-Morning-Eucharist.jpg
END:VEVENT
BEGIN:VEVENT
DTSTART;TZID=America/Los_Angeles:20281224T160000
DTEND;TZID=America/Los_Angeles:20281224T180000
DTSTAMP:20260420T225301
CREATED:20251119T211818Z
LAST-MODIFIED:20260305T225113Z
UID:10009062-1861286400-1861293600@saintandrewsfullerton.com
SUMMARY:Free Outdoor Neighborhood Jazz Concert!
DESCRIPTION:Join us for a free jazz concert on the fourth Sunday of the month. Please note that the date has been changed from the third to the fourth Sunday due to scheduling conflicts. Enjoy fantastic music by Joshua Ryan Wood and the West Coast Combo!  Depending on the weather\, we’ll gather on the lawn or in the Parish Hall. We’ll have signs up so you can find your way!  Bring friends and family and make a picnic of it! BYOB and some free snacks and beverages will be available\, too.
URL:https://saintandrewsfullerton.com/events/free-outdoor-neighborhood-jazz-concert-2/2028-12-24/
LOCATION:St. Andrew’s Episcopal Church\, 1231 E Chapman Ave\, Fullerton\, California\, 92831
CATEGORIES:Special Event
ATTACH;FMTTYPE=image/jpeg:https://saintandrewsfullerton.com/wp-content/uploads/2025/04/Jazz-Concert-3-Optimized.jpg
END:VEVENT
BEGIN:VEVENT
DTSTART;TZID=America/Los_Angeles:20281227T100000
DTEND;TZID=America/Los_Angeles:20281227T110000
DTSTAMP:20260420T225301
CREATED:20260227T011338Z
LAST-MODIFIED:20260227T011648Z
UID:10009545-1861524000-1861527600@saintandrewsfullerton.com
SUMMARY:Healing Service
DESCRIPTION:We are beginning a healing service twice a month on the second and fourth Wednesdays at 10 a.m. in the chapel. The first service will be on Wednesday\, March 11th. The first service of the month will include Eucharist and the second will be a unique version of Morning Prayer. \nWe look forward to being with the people of St. Andrews on these dates. Blessings and good health to all of you.
URL:https://saintandrewsfullerton.com/events/healing-service/2028-12-27/
LOCATION:St. Andrew’s Episcopal Church\, 1231 E Chapman Ave\, Fullerton\, California\, 92831
CATEGORIES:Special Event
ATTACH;FMTTYPE=image/jpeg:https://saintandrewsfullerton.com/wp-content/uploads/2025/04/Chapel-2-Optimized.jpg
END:VEVENT
BEGIN:VEVENT
DTSTART;TZID=America/Los_Angeles:20281229T163000
DTEND;TZID=America/Los_Angeles:20281229T173000
DTSTAMP:20260420T225301
CREATED:20260305T230715Z
LAST-MODIFIED:20260305T230715Z
UID:10009663-1861720200-1861723800@saintandrewsfullerton.com
SUMMARY:Word Circle\, St. Andrew’s Creative Writing Group!
DESCRIPTION:Are you a writer looking to improve your skills and connect with like-minded individuals? Join Word Circle\, St. Andrew’s Creative Writing Group! We meet every other Friday in the Orange Room of Moody Hall and welcome new members at any time. \nInterested? Please email Kaye Bellot at Kbellot2@aol.com for more details! We can’t wait to have you join us!
URL:https://saintandrewsfullerton.com/events/word-circle-st-andrews-creative-writing-group/2028-12-29/
LOCATION:St. Andrew’s Episcopal Church\, 1231 E Chapman Ave\, Fullerton\, California\, 92831
CATEGORIES:Special Event
ATTACH;FMTTYPE=image/jpeg:https://saintandrewsfullerton.com/wp-content/uploads/2025/11/Creative-Writing-5-scaled.jpg
END:VEVENT
END:VCALENDAR