BEGIN:VCALENDAR
VERSION:2.0
PRODID:-//Saint Andrew&#039;s Episcopal Church, Fullerton CA - ECPv6.15.20//NONSGML v1.0//EN
CALSCALE:GREGORIAN
METHOD:PUBLISH
X-WR-CALNAME:Saint Andrew&#039;s Episcopal Church, Fullerton CA
X-ORIGINAL-URL:https://saintandrewsfullerton.com
X-WR-CALDESC:Events for Saint Andrew&#039;s Episcopal Church, Fullerton CA
REFRESH-INTERVAL;VALUE=DURATION:PT1H
X-Robots-Tag:noindex
X-PUBLISHED-TTL:PT1H
BEGIN:VTIMEZONE
TZID:America/Los_Angeles
BEGIN:DAYLIGHT
TZOFFSETFROM:-0800
TZOFFSETTO:-0700
TZNAME:PDT
DTSTART:20280312T100000
END:DAYLIGHT
BEGIN:STANDARD
TZOFFSETFROM:-0700
TZOFFSETTO:-0800
TZNAME:PST
DTSTART:20281105T090000
END:STANDARD
BEGIN:DAYLIGHT
TZOFFSETFROM:-0800
TZOFFSETTO:-0700
TZNAME:PDT
DTSTART:20290311T100000
END:DAYLIGHT
BEGIN:STANDARD
TZOFFSETFROM:-0700
TZOFFSETTO:-0800
TZNAME:PST
DTSTART:20291104T090000
END:STANDARD
BEGIN:DAYLIGHT
TZOFFSETFROM:-0800
TZOFFSETTO:-0700
TZNAME:PDT
DTSTART:20300310T100000
END:DAYLIGHT
BEGIN:STANDARD
TZOFFSETFROM:-0700
TZOFFSETTO:-0800
TZNAME:PST
DTSTART:20301103T090000
END:STANDARD
BEGIN:DAYLIGHT
TZOFFSETFROM:-0800
TZOFFSETTO:-0700
TZNAME:PDT
DTSTART:20310309T100000
END:DAYLIGHT
BEGIN:STANDARD
TZOFFSETFROM:-0700
TZOFFSETTO:-0800
TZNAME:PST
DTSTART:20311102T090000
END:STANDARD
END:VTIMEZONE
BEGIN:VEVENT
DTSTART;TZID=America/Los_Angeles:20290422T094500
DTEND;TZID=America/Los_Angeles:20290422T103000
DTSTAMP:20260421T165449
CREATED:20251022T201915Z
LAST-MODIFIED:20251022T201915Z
UID:10007708-1871545500-1871548200@saintandrewsfullerton.com
SUMMARY:Centering Prayer Group
DESCRIPTION:Join our uplifting Centering Prayer Group on the second and fourth Sundays of each month! We will meet at St. Andrew’s Center for Spiritual Direction. For more information or to let us know you’re coming\, please contact the office at office@saintandrewsfullerton.com.
URL:https://saintandrewsfullerton.com/events/centering-prayer-group/2029-04-22/
LOCATION:St. Andrew’s Episcopal Church\, 1231 E Chapman Ave\, Fullerton\, California\, 92831
CATEGORIES:Centering Prayer
ATTACH;FMTTYPE=image/jpeg:https://saintandrewsfullerton.com/wp-content/uploads/2025/10/Candles-1.jpg
END:VEVENT
BEGIN:VEVENT
DTSTART;TZID=America/Los_Angeles:20290513T094500
DTEND;TZID=America/Los_Angeles:20290513T103000
DTSTAMP:20260421T165449
CREATED:20251022T202149Z
LAST-MODIFIED:20251022T202149Z
UID:10007768-1873359900-1873362600@saintandrewsfullerton.com
SUMMARY:Centering Prayer Group
DESCRIPTION:Join our uplifting Centering Prayer Group on the second and fourth Sundays of each month! We will meet at St. Andrew’s Center for Spiritual Direction. For more information or to let us know you’re coming\, please contact the office at office@saintandrewsfullerton.com.
URL:https://saintandrewsfullerton.com/events/centering-prayer-group-3/2029-05-13/
LOCATION:St. Andrew’s Episcopal Church\, 1231 E Chapman Ave\, Fullerton\, California\, 92831
CATEGORIES:Centering Prayer
ATTACH;FMTTYPE=image/jpeg:https://saintandrewsfullerton.com/wp-content/uploads/2025/10/Candles-1.jpg
END:VEVENT
BEGIN:VEVENT
DTSTART;TZID=America/Los_Angeles:20290527T094500
DTEND;TZID=America/Los_Angeles:20290527T103000
DTSTAMP:20260421T165449
CREATED:20251022T201915Z
LAST-MODIFIED:20251022T201915Z
UID:10007709-1874569500-1874572200@saintandrewsfullerton.com
SUMMARY:Centering Prayer Group
DESCRIPTION:Join our uplifting Centering Prayer Group on the second and fourth Sundays of each month! We will meet at St. Andrew’s Center for Spiritual Direction. For more information or to let us know you’re coming\, please contact the office at office@saintandrewsfullerton.com.
URL:https://saintandrewsfullerton.com/events/centering-prayer-group/2029-05-27/
LOCATION:St. Andrew’s Episcopal Church\, 1231 E Chapman Ave\, Fullerton\, California\, 92831
CATEGORIES:Centering Prayer
ATTACH;FMTTYPE=image/jpeg:https://saintandrewsfullerton.com/wp-content/uploads/2025/10/Candles-1.jpg
END:VEVENT
BEGIN:VEVENT
DTSTART;TZID=America/Los_Angeles:20290610T094500
DTEND;TZID=America/Los_Angeles:20290610T103000
DTSTAMP:20260421T165449
CREATED:20251022T202149Z
LAST-MODIFIED:20251022T202149Z
UID:10007769-1875779100-1875781800@saintandrewsfullerton.com
SUMMARY:Centering Prayer Group
DESCRIPTION:Join our uplifting Centering Prayer Group on the second and fourth Sundays of each month! We will meet at St. Andrew’s Center for Spiritual Direction. For more information or to let us know you’re coming\, please contact the office at office@saintandrewsfullerton.com.
URL:https://saintandrewsfullerton.com/events/centering-prayer-group-3/2029-06-10/
LOCATION:St. Andrew’s Episcopal Church\, 1231 E Chapman Ave\, Fullerton\, California\, 92831
CATEGORIES:Centering Prayer
ATTACH;FMTTYPE=image/jpeg:https://saintandrewsfullerton.com/wp-content/uploads/2025/10/Candles-1.jpg
END:VEVENT
BEGIN:VEVENT
DTSTART;TZID=America/Los_Angeles:20290624T094500
DTEND;TZID=America/Los_Angeles:20290624T103000
DTSTAMP:20260421T165449
CREATED:20251022T201915Z
LAST-MODIFIED:20251022T201915Z
UID:10007710-1876988700-1876991400@saintandrewsfullerton.com
SUMMARY:Centering Prayer Group
DESCRIPTION:Join our uplifting Centering Prayer Group on the second and fourth Sundays of each month! We will meet at St. Andrew’s Center for Spiritual Direction. For more information or to let us know you’re coming\, please contact the office at office@saintandrewsfullerton.com.
URL:https://saintandrewsfullerton.com/events/centering-prayer-group/2029-06-24/
LOCATION:St. Andrew’s Episcopal Church\, 1231 E Chapman Ave\, Fullerton\, California\, 92831
CATEGORIES:Centering Prayer
ATTACH;FMTTYPE=image/jpeg:https://saintandrewsfullerton.com/wp-content/uploads/2025/10/Candles-1.jpg
END:VEVENT
BEGIN:VEVENT
DTSTART;TZID=America/Los_Angeles:20290708T094500
DTEND;TZID=America/Los_Angeles:20290708T103000
DTSTAMP:20260421T165449
CREATED:20251022T202149Z
LAST-MODIFIED:20251022T202149Z
UID:10007770-1878198300-1878201000@saintandrewsfullerton.com
SUMMARY:Centering Prayer Group
DESCRIPTION:Join our uplifting Centering Prayer Group on the second and fourth Sundays of each month! We will meet at St. Andrew’s Center for Spiritual Direction. For more information or to let us know you’re coming\, please contact the office at office@saintandrewsfullerton.com.
URL:https://saintandrewsfullerton.com/events/centering-prayer-group-3/2029-07-08/
LOCATION:St. Andrew’s Episcopal Church\, 1231 E Chapman Ave\, Fullerton\, California\, 92831
CATEGORIES:Centering Prayer
ATTACH;FMTTYPE=image/jpeg:https://saintandrewsfullerton.com/wp-content/uploads/2025/10/Candles-1.jpg
END:VEVENT
BEGIN:VEVENT
DTSTART;TZID=America/Los_Angeles:20290722T094500
DTEND;TZID=America/Los_Angeles:20290722T103000
DTSTAMP:20260421T165449
CREATED:20251022T201915Z
LAST-MODIFIED:20251022T201915Z
UID:10007711-1879407900-1879410600@saintandrewsfullerton.com
SUMMARY:Centering Prayer Group
DESCRIPTION:Join our uplifting Centering Prayer Group on the second and fourth Sundays of each month! We will meet at St. Andrew’s Center for Spiritual Direction. For more information or to let us know you’re coming\, please contact the office at office@saintandrewsfullerton.com.
URL:https://saintandrewsfullerton.com/events/centering-prayer-group/2029-07-22/
LOCATION:St. Andrew’s Episcopal Church\, 1231 E Chapman Ave\, Fullerton\, California\, 92831
CATEGORIES:Centering Prayer
ATTACH;FMTTYPE=image/jpeg:https://saintandrewsfullerton.com/wp-content/uploads/2025/10/Candles-1.jpg
END:VEVENT
BEGIN:VEVENT
DTSTART;TZID=America/Los_Angeles:20290812T094500
DTEND;TZID=America/Los_Angeles:20290812T103000
DTSTAMP:20260421T165449
CREATED:20251022T202149Z
LAST-MODIFIED:20251022T202149Z
UID:10007771-1881222300-1881225000@saintandrewsfullerton.com
SUMMARY:Centering Prayer Group
DESCRIPTION:Join our uplifting Centering Prayer Group on the second and fourth Sundays of each month! We will meet at St. Andrew’s Center for Spiritual Direction. For more information or to let us know you’re coming\, please contact the office at office@saintandrewsfullerton.com.
URL:https://saintandrewsfullerton.com/events/centering-prayer-group-3/2029-08-12/
LOCATION:St. Andrew’s Episcopal Church\, 1231 E Chapman Ave\, Fullerton\, California\, 92831
CATEGORIES:Centering Prayer
ATTACH;FMTTYPE=image/jpeg:https://saintandrewsfullerton.com/wp-content/uploads/2025/10/Candles-1.jpg
END:VEVENT
BEGIN:VEVENT
DTSTART;TZID=America/Los_Angeles:20290826T094500
DTEND;TZID=America/Los_Angeles:20290826T103000
DTSTAMP:20260421T165449
CREATED:20251022T201915Z
LAST-MODIFIED:20251022T201915Z
UID:10007712-1882431900-1882434600@saintandrewsfullerton.com
SUMMARY:Centering Prayer Group
DESCRIPTION:Join our uplifting Centering Prayer Group on the second and fourth Sundays of each month! We will meet at St. Andrew’s Center for Spiritual Direction. For more information or to let us know you’re coming\, please contact the office at office@saintandrewsfullerton.com.
URL:https://saintandrewsfullerton.com/events/centering-prayer-group/2029-08-26/
LOCATION:St. Andrew’s Episcopal Church\, 1231 E Chapman Ave\, Fullerton\, California\, 92831
CATEGORIES:Centering Prayer
ATTACH;FMTTYPE=image/jpeg:https://saintandrewsfullerton.com/wp-content/uploads/2025/10/Candles-1.jpg
END:VEVENT
BEGIN:VEVENT
DTSTART;TZID=America/Los_Angeles:20290909T094500
DTEND;TZID=America/Los_Angeles:20290909T103000
DTSTAMP:20260421T165449
CREATED:20251022T202149Z
LAST-MODIFIED:20251022T202149Z
UID:10007772-1883641500-1883644200@saintandrewsfullerton.com
SUMMARY:Centering Prayer Group
DESCRIPTION:Join our uplifting Centering Prayer Group on the second and fourth Sundays of each month! We will meet at St. Andrew’s Center for Spiritual Direction. For more information or to let us know you’re coming\, please contact the office at office@saintandrewsfullerton.com.
URL:https://saintandrewsfullerton.com/events/centering-prayer-group-3/2029-09-09/
LOCATION:St. Andrew’s Episcopal Church\, 1231 E Chapman Ave\, Fullerton\, California\, 92831
CATEGORIES:Centering Prayer
ATTACH;FMTTYPE=image/jpeg:https://saintandrewsfullerton.com/wp-content/uploads/2025/10/Candles-1.jpg
END:VEVENT
BEGIN:VEVENT
DTSTART;TZID=America/Los_Angeles:20290923T094500
DTEND;TZID=America/Los_Angeles:20290923T103000
DTSTAMP:20260421T165449
CREATED:20251022T201915Z
LAST-MODIFIED:20251022T201915Z
UID:10007713-1884851100-1884853800@saintandrewsfullerton.com
SUMMARY:Centering Prayer Group
DESCRIPTION:Join our uplifting Centering Prayer Group on the second and fourth Sundays of each month! We will meet at St. Andrew’s Center for Spiritual Direction. For more information or to let us know you’re coming\, please contact the office at office@saintandrewsfullerton.com.
URL:https://saintandrewsfullerton.com/events/centering-prayer-group/2029-09-23/
LOCATION:St. Andrew’s Episcopal Church\, 1231 E Chapman Ave\, Fullerton\, California\, 92831
CATEGORIES:Centering Prayer
ATTACH;FMTTYPE=image/jpeg:https://saintandrewsfullerton.com/wp-content/uploads/2025/10/Candles-1.jpg
END:VEVENT
BEGIN:VEVENT
DTSTART;TZID=America/Los_Angeles:20291014T094500
DTEND;TZID=America/Los_Angeles:20291014T103000
DTSTAMP:20260421T165449
CREATED:20251022T202149Z
LAST-MODIFIED:20251022T202149Z
UID:10007773-1886665500-1886668200@saintandrewsfullerton.com
SUMMARY:Centering Prayer Group
DESCRIPTION:Join our uplifting Centering Prayer Group on the second and fourth Sundays of each month! We will meet at St. Andrew’s Center for Spiritual Direction. For more information or to let us know you’re coming\, please contact the office at office@saintandrewsfullerton.com.
URL:https://saintandrewsfullerton.com/events/centering-prayer-group-3/2029-10-14/
LOCATION:St. Andrew’s Episcopal Church\, 1231 E Chapman Ave\, Fullerton\, California\, 92831
CATEGORIES:Centering Prayer
ATTACH;FMTTYPE=image/jpeg:https://saintandrewsfullerton.com/wp-content/uploads/2025/10/Candles-1.jpg
END:VEVENT
BEGIN:VEVENT
DTSTART;TZID=America/Los_Angeles:20291028T094500
DTEND;TZID=America/Los_Angeles:20291028T103000
DTSTAMP:20260421T165449
CREATED:20251022T201915Z
LAST-MODIFIED:20251022T201915Z
UID:10007714-1887875100-1887877800@saintandrewsfullerton.com
SUMMARY:Centering Prayer Group
DESCRIPTION:Join our uplifting Centering Prayer Group on the second and fourth Sundays of each month! We will meet at St. Andrew’s Center for Spiritual Direction. For more information or to let us know you’re coming\, please contact the office at office@saintandrewsfullerton.com.
URL:https://saintandrewsfullerton.com/events/centering-prayer-group/2029-10-28/
LOCATION:St. Andrew’s Episcopal Church\, 1231 E Chapman Ave\, Fullerton\, California\, 92831
CATEGORIES:Centering Prayer
ATTACH;FMTTYPE=image/jpeg:https://saintandrewsfullerton.com/wp-content/uploads/2025/10/Candles-1.jpg
END:VEVENT
BEGIN:VEVENT
DTSTART;TZID=America/Los_Angeles:20291111T094500
DTEND;TZID=America/Los_Angeles:20291111T103000
DTSTAMP:20260421T165449
CREATED:20251022T202149Z
LAST-MODIFIED:20251022T202149Z
UID:10007774-1889084700-1889087400@saintandrewsfullerton.com
SUMMARY:Centering Prayer Group
DESCRIPTION:Join our uplifting Centering Prayer Group on the second and fourth Sundays of each month! We will meet at St. Andrew’s Center for Spiritual Direction. For more information or to let us know you’re coming\, please contact the office at office@saintandrewsfullerton.com.
URL:https://saintandrewsfullerton.com/events/centering-prayer-group-3/2029-11-11/
LOCATION:St. Andrew’s Episcopal Church\, 1231 E Chapman Ave\, Fullerton\, California\, 92831
CATEGORIES:Centering Prayer
ATTACH;FMTTYPE=image/jpeg:https://saintandrewsfullerton.com/wp-content/uploads/2025/10/Candles-1.jpg
END:VEVENT
BEGIN:VEVENT
DTSTART;TZID=America/Los_Angeles:20291125T094500
DTEND;TZID=America/Los_Angeles:20291125T103000
DTSTAMP:20260421T165449
CREATED:20251022T201915Z
LAST-MODIFIED:20251022T201915Z
UID:10007715-1890294300-1890297000@saintandrewsfullerton.com
SUMMARY:Centering Prayer Group
DESCRIPTION:Join our uplifting Centering Prayer Group on the second and fourth Sundays of each month! We will meet at St. Andrew’s Center for Spiritual Direction. For more information or to let us know you’re coming\, please contact the office at office@saintandrewsfullerton.com.
URL:https://saintandrewsfullerton.com/events/centering-prayer-group/2029-11-25/
LOCATION:St. Andrew’s Episcopal Church\, 1231 E Chapman Ave\, Fullerton\, California\, 92831
CATEGORIES:Centering Prayer
ATTACH;FMTTYPE=image/jpeg:https://saintandrewsfullerton.com/wp-content/uploads/2025/10/Candles-1.jpg
END:VEVENT
BEGIN:VEVENT
DTSTART;TZID=America/Los_Angeles:20291209T094500
DTEND;TZID=America/Los_Angeles:20291209T103000
DTSTAMP:20260421T165449
CREATED:20251022T202149Z
LAST-MODIFIED:20251022T202149Z
UID:10007775-1891503900-1891506600@saintandrewsfullerton.com
SUMMARY:Centering Prayer Group
DESCRIPTION:Join our uplifting Centering Prayer Group on the second and fourth Sundays of each month! We will meet at St. Andrew’s Center for Spiritual Direction. For more information or to let us know you’re coming\, please contact the office at office@saintandrewsfullerton.com.
URL:https://saintandrewsfullerton.com/events/centering-prayer-group-3/2029-12-09/
LOCATION:St. Andrew’s Episcopal Church\, 1231 E Chapman Ave\, Fullerton\, California\, 92831
CATEGORIES:Centering Prayer
ATTACH;FMTTYPE=image/jpeg:https://saintandrewsfullerton.com/wp-content/uploads/2025/10/Candles-1.jpg
END:VEVENT
BEGIN:VEVENT
DTSTART;TZID=America/Los_Angeles:20291223T094500
DTEND;TZID=America/Los_Angeles:20291223T103000
DTSTAMP:20260421T165449
CREATED:20251022T201915Z
LAST-MODIFIED:20251022T201915Z
UID:10007716-1892713500-1892716200@saintandrewsfullerton.com
SUMMARY:Centering Prayer Group
DESCRIPTION:Join our uplifting Centering Prayer Group on the second and fourth Sundays of each month! We will meet at St. Andrew’s Center for Spiritual Direction. For more information or to let us know you’re coming\, please contact the office at office@saintandrewsfullerton.com.
URL:https://saintandrewsfullerton.com/events/centering-prayer-group/2029-12-23/
LOCATION:St. Andrew’s Episcopal Church\, 1231 E Chapman Ave\, Fullerton\, California\, 92831
CATEGORIES:Centering Prayer
ATTACH;FMTTYPE=image/jpeg:https://saintandrewsfullerton.com/wp-content/uploads/2025/10/Candles-1.jpg
END:VEVENT
BEGIN:VEVENT
DTSTART;TZID=America/Los_Angeles:20300113T094500
DTEND;TZID=America/Los_Angeles:20300113T103000
DTSTAMP:20260421T165449
CREATED:20251022T202149Z
LAST-MODIFIED:20251022T202149Z
UID:10007776-1894527900-1894530600@saintandrewsfullerton.com
SUMMARY:Centering Prayer Group
DESCRIPTION:Join our uplifting Centering Prayer Group on the second and fourth Sundays of each month! We will meet at St. Andrew’s Center for Spiritual Direction. For more information or to let us know you’re coming\, please contact the office at office@saintandrewsfullerton.com.
URL:https://saintandrewsfullerton.com/events/centering-prayer-group-3/2030-01-13/
LOCATION:St. Andrew’s Episcopal Church\, 1231 E Chapman Ave\, Fullerton\, California\, 92831
CATEGORIES:Centering Prayer
ATTACH;FMTTYPE=image/jpeg:https://saintandrewsfullerton.com/wp-content/uploads/2025/10/Candles-1.jpg
END:VEVENT
BEGIN:VEVENT
DTSTART;TZID=America/Los_Angeles:20300127T094500
DTEND;TZID=America/Los_Angeles:20300127T103000
DTSTAMP:20260421T165449
CREATED:20251022T201915Z
LAST-MODIFIED:20251022T201915Z
UID:10007717-1895737500-1895740200@saintandrewsfullerton.com
SUMMARY:Centering Prayer Group
DESCRIPTION:Join our uplifting Centering Prayer Group on the second and fourth Sundays of each month! We will meet at St. Andrew’s Center for Spiritual Direction. For more information or to let us know you’re coming\, please contact the office at office@saintandrewsfullerton.com.
URL:https://saintandrewsfullerton.com/events/centering-prayer-group/2030-01-27/
LOCATION:St. Andrew’s Episcopal Church\, 1231 E Chapman Ave\, Fullerton\, California\, 92831
CATEGORIES:Centering Prayer
ATTACH;FMTTYPE=image/jpeg:https://saintandrewsfullerton.com/wp-content/uploads/2025/10/Candles-1.jpg
END:VEVENT
BEGIN:VEVENT
DTSTART;TZID=America/Los_Angeles:20300210T094500
DTEND;TZID=America/Los_Angeles:20300210T103000
DTSTAMP:20260421T165449
CREATED:20251022T202149Z
LAST-MODIFIED:20251022T202149Z
UID:10007777-1896947100-1896949800@saintandrewsfullerton.com
SUMMARY:Centering Prayer Group
DESCRIPTION:Join our uplifting Centering Prayer Group on the second and fourth Sundays of each month! We will meet at St. Andrew’s Center for Spiritual Direction. For more information or to let us know you’re coming\, please contact the office at office@saintandrewsfullerton.com.
URL:https://saintandrewsfullerton.com/events/centering-prayer-group-3/2030-02-10/
LOCATION:St. Andrew’s Episcopal Church\, 1231 E Chapman Ave\, Fullerton\, California\, 92831
CATEGORIES:Centering Prayer
ATTACH;FMTTYPE=image/jpeg:https://saintandrewsfullerton.com/wp-content/uploads/2025/10/Candles-1.jpg
END:VEVENT
BEGIN:VEVENT
DTSTART;TZID=America/Los_Angeles:20300224T094500
DTEND;TZID=America/Los_Angeles:20300224T103000
DTSTAMP:20260421T165449
CREATED:20251022T201915Z
LAST-MODIFIED:20251022T201915Z
UID:10007718-1898156700-1898159400@saintandrewsfullerton.com
SUMMARY:Centering Prayer Group
DESCRIPTION:Join our uplifting Centering Prayer Group on the second and fourth Sundays of each month! We will meet at St. Andrew’s Center for Spiritual Direction. For more information or to let us know you’re coming\, please contact the office at office@saintandrewsfullerton.com.
URL:https://saintandrewsfullerton.com/events/centering-prayer-group/2030-02-24/
LOCATION:St. Andrew’s Episcopal Church\, 1231 E Chapman Ave\, Fullerton\, California\, 92831
CATEGORIES:Centering Prayer
ATTACH;FMTTYPE=image/jpeg:https://saintandrewsfullerton.com/wp-content/uploads/2025/10/Candles-1.jpg
END:VEVENT
BEGIN:VEVENT
DTSTART;TZID=America/Los_Angeles:20300310T094500
DTEND;TZID=America/Los_Angeles:20300310T103000
DTSTAMP:20260421T165449
CREATED:20251022T202149Z
LAST-MODIFIED:20251022T202149Z
UID:10007778-1899366300-1899369000@saintandrewsfullerton.com
SUMMARY:Centering Prayer Group
DESCRIPTION:Join our uplifting Centering Prayer Group on the second and fourth Sundays of each month! We will meet at St. Andrew’s Center for Spiritual Direction. For more information or to let us know you’re coming\, please contact the office at office@saintandrewsfullerton.com.
URL:https://saintandrewsfullerton.com/events/centering-prayer-group-3/2030-03-10/
LOCATION:St. Andrew’s Episcopal Church\, 1231 E Chapman Ave\, Fullerton\, California\, 92831
CATEGORIES:Centering Prayer
ATTACH;FMTTYPE=image/jpeg:https://saintandrewsfullerton.com/wp-content/uploads/2025/10/Candles-1.jpg
END:VEVENT
BEGIN:VEVENT
DTSTART;TZID=America/Los_Angeles:20300324T094500
DTEND;TZID=America/Los_Angeles:20300324T103000
DTSTAMP:20260421T165449
CREATED:20251022T201915Z
LAST-MODIFIED:20251022T201915Z
UID:10007719-1900575900-1900578600@saintandrewsfullerton.com
SUMMARY:Centering Prayer Group
DESCRIPTION:Join our uplifting Centering Prayer Group on the second and fourth Sundays of each month! We will meet at St. Andrew’s Center for Spiritual Direction. For more information or to let us know you’re coming\, please contact the office at office@saintandrewsfullerton.com.
URL:https://saintandrewsfullerton.com/events/centering-prayer-group/2030-03-24/
LOCATION:St. Andrew’s Episcopal Church\, 1231 E Chapman Ave\, Fullerton\, California\, 92831
CATEGORIES:Centering Prayer
ATTACH;FMTTYPE=image/jpeg:https://saintandrewsfullerton.com/wp-content/uploads/2025/10/Candles-1.jpg
END:VEVENT
BEGIN:VEVENT
DTSTART;TZID=America/Los_Angeles:20300414T094500
DTEND;TZID=America/Los_Angeles:20300414T103000
DTSTAMP:20260421T165449
CREATED:20251022T202149Z
LAST-MODIFIED:20251022T202149Z
UID:10007779-1902390300-1902393000@saintandrewsfullerton.com
SUMMARY:Centering Prayer Group
DESCRIPTION:Join our uplifting Centering Prayer Group on the second and fourth Sundays of each month! We will meet at St. Andrew’s Center for Spiritual Direction. For more information or to let us know you’re coming\, please contact the office at office@saintandrewsfullerton.com.
URL:https://saintandrewsfullerton.com/events/centering-prayer-group-3/2030-04-14/
LOCATION:St. Andrew’s Episcopal Church\, 1231 E Chapman Ave\, Fullerton\, California\, 92831
CATEGORIES:Centering Prayer
ATTACH;FMTTYPE=image/jpeg:https://saintandrewsfullerton.com/wp-content/uploads/2025/10/Candles-1.jpg
END:VEVENT
BEGIN:VEVENT
DTSTART;TZID=America/Los_Angeles:20300428T094500
DTEND;TZID=America/Los_Angeles:20300428T103000
DTSTAMP:20260421T165449
CREATED:20251022T201915Z
LAST-MODIFIED:20251022T201915Z
UID:10007720-1903599900-1903602600@saintandrewsfullerton.com
SUMMARY:Centering Prayer Group
DESCRIPTION:Join our uplifting Centering Prayer Group on the second and fourth Sundays of each month! We will meet at St. Andrew’s Center for Spiritual Direction. For more information or to let us know you’re coming\, please contact the office at office@saintandrewsfullerton.com.
URL:https://saintandrewsfullerton.com/events/centering-prayer-group/2030-04-28/
LOCATION:St. Andrew’s Episcopal Church\, 1231 E Chapman Ave\, Fullerton\, California\, 92831
CATEGORIES:Centering Prayer
ATTACH;FMTTYPE=image/jpeg:https://saintandrewsfullerton.com/wp-content/uploads/2025/10/Candles-1.jpg
END:VEVENT
BEGIN:VEVENT
DTSTART;TZID=America/Los_Angeles:20300512T094500
DTEND;TZID=America/Los_Angeles:20300512T103000
DTSTAMP:20260421T165449
CREATED:20251022T202149Z
LAST-MODIFIED:20251022T202149Z
UID:10007780-1904809500-1904812200@saintandrewsfullerton.com
SUMMARY:Centering Prayer Group
DESCRIPTION:Join our uplifting Centering Prayer Group on the second and fourth Sundays of each month! We will meet at St. Andrew’s Center for Spiritual Direction. For more information or to let us know you’re coming\, please contact the office at office@saintandrewsfullerton.com.
URL:https://saintandrewsfullerton.com/events/centering-prayer-group-3/2030-05-12/
LOCATION:St. Andrew’s Episcopal Church\, 1231 E Chapman Ave\, Fullerton\, California\, 92831
CATEGORIES:Centering Prayer
ATTACH;FMTTYPE=image/jpeg:https://saintandrewsfullerton.com/wp-content/uploads/2025/10/Candles-1.jpg
END:VEVENT
BEGIN:VEVENT
DTSTART;TZID=America/Los_Angeles:20300526T094500
DTEND;TZID=America/Los_Angeles:20300526T103000
DTSTAMP:20260421T165449
CREATED:20251022T201915Z
LAST-MODIFIED:20251022T201915Z
UID:10007721-1906019100-1906021800@saintandrewsfullerton.com
SUMMARY:Centering Prayer Group
DESCRIPTION:Join our uplifting Centering Prayer Group on the second and fourth Sundays of each month! We will meet at St. Andrew’s Center for Spiritual Direction. For more information or to let us know you’re coming\, please contact the office at office@saintandrewsfullerton.com.
URL:https://saintandrewsfullerton.com/events/centering-prayer-group/2030-05-26/
LOCATION:St. Andrew’s Episcopal Church\, 1231 E Chapman Ave\, Fullerton\, California\, 92831
CATEGORIES:Centering Prayer
ATTACH;FMTTYPE=image/jpeg:https://saintandrewsfullerton.com/wp-content/uploads/2025/10/Candles-1.jpg
END:VEVENT
BEGIN:VEVENT
DTSTART;TZID=America/Los_Angeles:20300609T094500
DTEND;TZID=America/Los_Angeles:20300609T103000
DTSTAMP:20260421T165449
CREATED:20251022T202149Z
LAST-MODIFIED:20251022T202149Z
UID:10007781-1907228700-1907231400@saintandrewsfullerton.com
SUMMARY:Centering Prayer Group
DESCRIPTION:Join our uplifting Centering Prayer Group on the second and fourth Sundays of each month! We will meet at St. Andrew’s Center for Spiritual Direction. For more information or to let us know you’re coming\, please contact the office at office@saintandrewsfullerton.com.
URL:https://saintandrewsfullerton.com/events/centering-prayer-group-3/2030-06-09/
LOCATION:St. Andrew’s Episcopal Church\, 1231 E Chapman Ave\, Fullerton\, California\, 92831
CATEGORIES:Centering Prayer
ATTACH;FMTTYPE=image/jpeg:https://saintandrewsfullerton.com/wp-content/uploads/2025/10/Candles-1.jpg
END:VEVENT
BEGIN:VEVENT
DTSTART;TZID=America/Los_Angeles:20300623T094500
DTEND;TZID=America/Los_Angeles:20300623T103000
DTSTAMP:20260421T165449
CREATED:20251022T201915Z
LAST-MODIFIED:20251022T201915Z
UID:10007722-1908438300-1908441000@saintandrewsfullerton.com
SUMMARY:Centering Prayer Group
DESCRIPTION:Join our uplifting Centering Prayer Group on the second and fourth Sundays of each month! We will meet at St. Andrew’s Center for Spiritual Direction. For more information or to let us know you’re coming\, please contact the office at office@saintandrewsfullerton.com.
URL:https://saintandrewsfullerton.com/events/centering-prayer-group/2030-06-23/
LOCATION:St. Andrew’s Episcopal Church\, 1231 E Chapman Ave\, Fullerton\, California\, 92831
CATEGORIES:Centering Prayer
ATTACH;FMTTYPE=image/jpeg:https://saintandrewsfullerton.com/wp-content/uploads/2025/10/Candles-1.jpg
END:VEVENT
BEGIN:VEVENT
DTSTART;TZID=America/Los_Angeles:20300714T094500
DTEND;TZID=America/Los_Angeles:20300714T103000
DTSTAMP:20260421T165449
CREATED:20251022T202149Z
LAST-MODIFIED:20251022T202149Z
UID:10007782-1910252700-1910255400@saintandrewsfullerton.com
SUMMARY:Centering Prayer Group
DESCRIPTION:Join our uplifting Centering Prayer Group on the second and fourth Sundays of each month! We will meet at St. Andrew’s Center for Spiritual Direction. For more information or to let us know you’re coming\, please contact the office at office@saintandrewsfullerton.com.
URL:https://saintandrewsfullerton.com/events/centering-prayer-group-3/2030-07-14/
LOCATION:St. Andrew’s Episcopal Church\, 1231 E Chapman Ave\, Fullerton\, California\, 92831
CATEGORIES:Centering Prayer
ATTACH;FMTTYPE=image/jpeg:https://saintandrewsfullerton.com/wp-content/uploads/2025/10/Candles-1.jpg
END:VEVENT
END:VCALENDAR