BEGIN:VCALENDAR
VERSION:2.0
PRODID:-//Saint Andrew&#039;s Episcopal Church, Fullerton CA - ECPv6.15.20//NONSGML v1.0//EN
CALSCALE:GREGORIAN
METHOD:PUBLISH
X-ORIGINAL-URL:https://saintandrewsfullerton.com
X-WR-CALDESC:Events for Saint Andrew&#039;s Episcopal Church, Fullerton CA
REFRESH-INTERVAL;VALUE=DURATION:PT1H
X-Robots-Tag:noindex
X-PUBLISHED-TTL:PT1H
BEGIN:VTIMEZONE
TZID:America/Los_Angeles
BEGIN:DAYLIGHT
TZOFFSETFROM:-0800
TZOFFSETTO:-0700
TZNAME:PDT
DTSTART:20260308T100000
END:DAYLIGHT
BEGIN:STANDARD
TZOFFSETFROM:-0700
TZOFFSETTO:-0800
TZNAME:PST
DTSTART:20261101T090000
END:STANDARD
BEGIN:DAYLIGHT
TZOFFSETFROM:-0800
TZOFFSETTO:-0700
TZNAME:PDT
DTSTART:20270314T100000
END:DAYLIGHT
BEGIN:STANDARD
TZOFFSETFROM:-0700
TZOFFSETTO:-0800
TZNAME:PST
DTSTART:20271107T090000
END:STANDARD
BEGIN:DAYLIGHT
TZOFFSETFROM:-0800
TZOFFSETTO:-0700
TZNAME:PDT
DTSTART:20280312T100000
END:DAYLIGHT
BEGIN:STANDARD
TZOFFSETFROM:-0700
TZOFFSETTO:-0800
TZNAME:PST
DTSTART:20281105T090000
END:STANDARD
BEGIN:DAYLIGHT
TZOFFSETFROM:-0800
TZOFFSETTO:-0700
TZNAME:PDT
DTSTART:20290311T100000
END:DAYLIGHT
BEGIN:STANDARD
TZOFFSETFROM:-0700
TZOFFSETTO:-0800
TZNAME:PST
DTSTART:20291104T090000
END:STANDARD
BEGIN:DAYLIGHT
TZOFFSETFROM:-0800
TZOFFSETTO:-0700
TZNAME:PDT
DTSTART:20300310T100000
END:DAYLIGHT
BEGIN:STANDARD
TZOFFSETFROM:-0700
TZOFFSETTO:-0800
TZNAME:PST
DTSTART:20301103T090000
END:STANDARD
END:VTIMEZONE
BEGIN:VEVENT
DTSTART;TZID=America/Los_Angeles:20271024T094500
DTEND;TZID=America/Los_Angeles:20271024T103000
DTSTAMP:20260421T131633
CREATED:20251022T201915Z
LAST-MODIFIED:20251022T201915Z
UID:10007690-1824371100-1824373800@saintandrewsfullerton.com
SUMMARY:Centering Prayer Group
DESCRIPTION:Join our uplifting Centering Prayer Group on the second and fourth Sundays of each month! We will meet at St. Andrew’s Center for Spiritual Direction. For more information or to let us know you’re coming\, please contact the office at office@saintandrewsfullerton.com.
URL:https://saintandrewsfullerton.com/events/centering-prayer-group/2027-10-24/
LOCATION:St. Andrew’s Episcopal Church\, 1231 E Chapman Ave\, Fullerton\, California\, 92831
CATEGORIES:Centering Prayer
ATTACH;FMTTYPE=image/jpeg:https://saintandrewsfullerton.com/wp-content/uploads/2025/10/Candles-1.jpg
END:VEVENT
BEGIN:VEVENT
DTSTART;TZID=America/Los_Angeles:20271114T094500
DTEND;TZID=America/Los_Angeles:20271114T103000
DTSTAMP:20260421T131633
CREATED:20251022T202149Z
LAST-MODIFIED:20251022T202149Z
UID:10007750-1826185500-1826188200@saintandrewsfullerton.com
SUMMARY:Centering Prayer Group
DESCRIPTION:Join our uplifting Centering Prayer Group on the second and fourth Sundays of each month! We will meet at St. Andrew’s Center for Spiritual Direction. For more information or to let us know you’re coming\, please contact the office at office@saintandrewsfullerton.com.
URL:https://saintandrewsfullerton.com/events/centering-prayer-group-3/2027-11-14/
LOCATION:St. Andrew’s Episcopal Church\, 1231 E Chapman Ave\, Fullerton\, California\, 92831
CATEGORIES:Centering Prayer
ATTACH;FMTTYPE=image/jpeg:https://saintandrewsfullerton.com/wp-content/uploads/2025/10/Candles-1.jpg
END:VEVENT
BEGIN:VEVENT
DTSTART;TZID=America/Los_Angeles:20271128T094500
DTEND;TZID=America/Los_Angeles:20271128T103000
DTSTAMP:20260421T131633
CREATED:20251022T201915Z
LAST-MODIFIED:20251022T201915Z
UID:10007691-1827395100-1827397800@saintandrewsfullerton.com
SUMMARY:Centering Prayer Group
DESCRIPTION:Join our uplifting Centering Prayer Group on the second and fourth Sundays of each month! We will meet at St. Andrew’s Center for Spiritual Direction. For more information or to let us know you’re coming\, please contact the office at office@saintandrewsfullerton.com.
URL:https://saintandrewsfullerton.com/events/centering-prayer-group/2027-11-28/
LOCATION:St. Andrew’s Episcopal Church\, 1231 E Chapman Ave\, Fullerton\, California\, 92831
CATEGORIES:Centering Prayer
ATTACH;FMTTYPE=image/jpeg:https://saintandrewsfullerton.com/wp-content/uploads/2025/10/Candles-1.jpg
END:VEVENT
BEGIN:VEVENT
DTSTART;TZID=America/Los_Angeles:20271212T094500
DTEND;TZID=America/Los_Angeles:20271212T103000
DTSTAMP:20260421T131633
CREATED:20251022T202149Z
LAST-MODIFIED:20251022T202149Z
UID:10007751-1828604700-1828607400@saintandrewsfullerton.com
SUMMARY:Centering Prayer Group
DESCRIPTION:Join our uplifting Centering Prayer Group on the second and fourth Sundays of each month! We will meet at St. Andrew’s Center for Spiritual Direction. For more information or to let us know you’re coming\, please contact the office at office@saintandrewsfullerton.com.
URL:https://saintandrewsfullerton.com/events/centering-prayer-group-3/2027-12-12/
LOCATION:St. Andrew’s Episcopal Church\, 1231 E Chapman Ave\, Fullerton\, California\, 92831
CATEGORIES:Centering Prayer
ATTACH;FMTTYPE=image/jpeg:https://saintandrewsfullerton.com/wp-content/uploads/2025/10/Candles-1.jpg
END:VEVENT
BEGIN:VEVENT
DTSTART;TZID=America/Los_Angeles:20271226T094500
DTEND;TZID=America/Los_Angeles:20271226T103000
DTSTAMP:20260421T131633
CREATED:20251022T201915Z
LAST-MODIFIED:20251022T201915Z
UID:10007692-1829814300-1829817000@saintandrewsfullerton.com
SUMMARY:Centering Prayer Group
DESCRIPTION:Join our uplifting Centering Prayer Group on the second and fourth Sundays of each month! We will meet at St. Andrew’s Center for Spiritual Direction. For more information or to let us know you’re coming\, please contact the office at office@saintandrewsfullerton.com.
URL:https://saintandrewsfullerton.com/events/centering-prayer-group/2027-12-26/
LOCATION:St. Andrew’s Episcopal Church\, 1231 E Chapman Ave\, Fullerton\, California\, 92831
CATEGORIES:Centering Prayer
ATTACH;FMTTYPE=image/jpeg:https://saintandrewsfullerton.com/wp-content/uploads/2025/10/Candles-1.jpg
END:VEVENT
BEGIN:VEVENT
DTSTART;TZID=America/Los_Angeles:20280109T094500
DTEND;TZID=America/Los_Angeles:20280109T103000
DTSTAMP:20260421T131633
CREATED:20251022T202149Z
LAST-MODIFIED:20251022T202149Z
UID:10007752-1831023900-1831026600@saintandrewsfullerton.com
SUMMARY:Centering Prayer Group
DESCRIPTION:Join our uplifting Centering Prayer Group on the second and fourth Sundays of each month! We will meet at St. Andrew’s Center for Spiritual Direction. For more information or to let us know you’re coming\, please contact the office at office@saintandrewsfullerton.com.
URL:https://saintandrewsfullerton.com/events/centering-prayer-group-3/2028-01-09/
LOCATION:St. Andrew’s Episcopal Church\, 1231 E Chapman Ave\, Fullerton\, California\, 92831
CATEGORIES:Centering Prayer
ATTACH;FMTTYPE=image/jpeg:https://saintandrewsfullerton.com/wp-content/uploads/2025/10/Candles-1.jpg
END:VEVENT
BEGIN:VEVENT
DTSTART;TZID=America/Los_Angeles:20280123T094500
DTEND;TZID=America/Los_Angeles:20280123T103000
DTSTAMP:20260421T131633
CREATED:20251022T201915Z
LAST-MODIFIED:20251022T201915Z
UID:10007693-1832233500-1832236200@saintandrewsfullerton.com
SUMMARY:Centering Prayer Group
DESCRIPTION:Join our uplifting Centering Prayer Group on the second and fourth Sundays of each month! We will meet at St. Andrew’s Center for Spiritual Direction. For more information or to let us know you’re coming\, please contact the office at office@saintandrewsfullerton.com.
URL:https://saintandrewsfullerton.com/events/centering-prayer-group/2028-01-23/
LOCATION:St. Andrew’s Episcopal Church\, 1231 E Chapman Ave\, Fullerton\, California\, 92831
CATEGORIES:Centering Prayer
ATTACH;FMTTYPE=image/jpeg:https://saintandrewsfullerton.com/wp-content/uploads/2025/10/Candles-1.jpg
END:VEVENT
BEGIN:VEVENT
DTSTART;TZID=America/Los_Angeles:20280213T094500
DTEND;TZID=America/Los_Angeles:20280213T103000
DTSTAMP:20260421T131633
CREATED:20251022T202149Z
LAST-MODIFIED:20251022T202149Z
UID:10007753-1834047900-1834050600@saintandrewsfullerton.com
SUMMARY:Centering Prayer Group
DESCRIPTION:Join our uplifting Centering Prayer Group on the second and fourth Sundays of each month! We will meet at St. Andrew’s Center for Spiritual Direction. For more information or to let us know you’re coming\, please contact the office at office@saintandrewsfullerton.com.
URL:https://saintandrewsfullerton.com/events/centering-prayer-group-3/2028-02-13/
LOCATION:St. Andrew’s Episcopal Church\, 1231 E Chapman Ave\, Fullerton\, California\, 92831
CATEGORIES:Centering Prayer
ATTACH;FMTTYPE=image/jpeg:https://saintandrewsfullerton.com/wp-content/uploads/2025/10/Candles-1.jpg
END:VEVENT
BEGIN:VEVENT
DTSTART;TZID=America/Los_Angeles:20280227T094500
DTEND;TZID=America/Los_Angeles:20280227T103000
DTSTAMP:20260421T131633
CREATED:20251022T201915Z
LAST-MODIFIED:20251022T201915Z
UID:10007694-1835257500-1835260200@saintandrewsfullerton.com
SUMMARY:Centering Prayer Group
DESCRIPTION:Join our uplifting Centering Prayer Group on the second and fourth Sundays of each month! We will meet at St. Andrew’s Center for Spiritual Direction. For more information or to let us know you’re coming\, please contact the office at office@saintandrewsfullerton.com.
URL:https://saintandrewsfullerton.com/events/centering-prayer-group/2028-02-27/
LOCATION:St. Andrew’s Episcopal Church\, 1231 E Chapman Ave\, Fullerton\, California\, 92831
CATEGORIES:Centering Prayer
ATTACH;FMTTYPE=image/jpeg:https://saintandrewsfullerton.com/wp-content/uploads/2025/10/Candles-1.jpg
END:VEVENT
BEGIN:VEVENT
DTSTART;TZID=America/Los_Angeles:20280312T094500
DTEND;TZID=America/Los_Angeles:20280312T103000
DTSTAMP:20260421T131633
CREATED:20251022T202149Z
LAST-MODIFIED:20251022T202149Z
UID:10007754-1836467100-1836469800@saintandrewsfullerton.com
SUMMARY:Centering Prayer Group
DESCRIPTION:Join our uplifting Centering Prayer Group on the second and fourth Sundays of each month! We will meet at St. Andrew’s Center for Spiritual Direction. For more information or to let us know you’re coming\, please contact the office at office@saintandrewsfullerton.com.
URL:https://saintandrewsfullerton.com/events/centering-prayer-group-3/2028-03-12/
LOCATION:St. Andrew’s Episcopal Church\, 1231 E Chapman Ave\, Fullerton\, California\, 92831
CATEGORIES:Centering Prayer
ATTACH;FMTTYPE=image/jpeg:https://saintandrewsfullerton.com/wp-content/uploads/2025/10/Candles-1.jpg
END:VEVENT
BEGIN:VEVENT
DTSTART;TZID=America/Los_Angeles:20280326T094500
DTEND;TZID=America/Los_Angeles:20280326T103000
DTSTAMP:20260421T131633
CREATED:20251022T201915Z
LAST-MODIFIED:20251022T201915Z
UID:10007695-1837676700-1837679400@saintandrewsfullerton.com
SUMMARY:Centering Prayer Group
DESCRIPTION:Join our uplifting Centering Prayer Group on the second and fourth Sundays of each month! We will meet at St. Andrew’s Center for Spiritual Direction. For more information or to let us know you’re coming\, please contact the office at office@saintandrewsfullerton.com.
URL:https://saintandrewsfullerton.com/events/centering-prayer-group/2028-03-26/
LOCATION:St. Andrew’s Episcopal Church\, 1231 E Chapman Ave\, Fullerton\, California\, 92831
CATEGORIES:Centering Prayer
ATTACH;FMTTYPE=image/jpeg:https://saintandrewsfullerton.com/wp-content/uploads/2025/10/Candles-1.jpg
END:VEVENT
BEGIN:VEVENT
DTSTART;TZID=America/Los_Angeles:20280409T094500
DTEND;TZID=America/Los_Angeles:20280409T103000
DTSTAMP:20260421T131633
CREATED:20251022T202149Z
LAST-MODIFIED:20251022T202149Z
UID:10007755-1838886300-1838889000@saintandrewsfullerton.com
SUMMARY:Centering Prayer Group
DESCRIPTION:Join our uplifting Centering Prayer Group on the second and fourth Sundays of each month! We will meet at St. Andrew’s Center for Spiritual Direction. For more information or to let us know you’re coming\, please contact the office at office@saintandrewsfullerton.com.
URL:https://saintandrewsfullerton.com/events/centering-prayer-group-3/2028-04-09/
LOCATION:St. Andrew’s Episcopal Church\, 1231 E Chapman Ave\, Fullerton\, California\, 92831
CATEGORIES:Centering Prayer
ATTACH;FMTTYPE=image/jpeg:https://saintandrewsfullerton.com/wp-content/uploads/2025/10/Candles-1.jpg
END:VEVENT
BEGIN:VEVENT
DTSTART;TZID=America/Los_Angeles:20280423T094500
DTEND;TZID=America/Los_Angeles:20280423T103000
DTSTAMP:20260421T131633
CREATED:20251022T201915Z
LAST-MODIFIED:20251022T201915Z
UID:10007696-1840095900-1840098600@saintandrewsfullerton.com
SUMMARY:Centering Prayer Group
DESCRIPTION:Join our uplifting Centering Prayer Group on the second and fourth Sundays of each month! We will meet at St. Andrew’s Center for Spiritual Direction. For more information or to let us know you’re coming\, please contact the office at office@saintandrewsfullerton.com.
URL:https://saintandrewsfullerton.com/events/centering-prayer-group/2028-04-23/
LOCATION:St. Andrew’s Episcopal Church\, 1231 E Chapman Ave\, Fullerton\, California\, 92831
CATEGORIES:Centering Prayer
ATTACH;FMTTYPE=image/jpeg:https://saintandrewsfullerton.com/wp-content/uploads/2025/10/Candles-1.jpg
END:VEVENT
BEGIN:VEVENT
DTSTART;TZID=America/Los_Angeles:20280514T094500
DTEND;TZID=America/Los_Angeles:20280514T103000
DTSTAMP:20260421T131633
CREATED:20251022T202149Z
LAST-MODIFIED:20251022T202149Z
UID:10007756-1841910300-1841913000@saintandrewsfullerton.com
SUMMARY:Centering Prayer Group
DESCRIPTION:Join our uplifting Centering Prayer Group on the second and fourth Sundays of each month! We will meet at St. Andrew’s Center for Spiritual Direction. For more information or to let us know you’re coming\, please contact the office at office@saintandrewsfullerton.com.
URL:https://saintandrewsfullerton.com/events/centering-prayer-group-3/2028-05-14/
LOCATION:St. Andrew’s Episcopal Church\, 1231 E Chapman Ave\, Fullerton\, California\, 92831
CATEGORIES:Centering Prayer
ATTACH;FMTTYPE=image/jpeg:https://saintandrewsfullerton.com/wp-content/uploads/2025/10/Candles-1.jpg
END:VEVENT
BEGIN:VEVENT
DTSTART;TZID=America/Los_Angeles:20280528T094500
DTEND;TZID=America/Los_Angeles:20280528T103000
DTSTAMP:20260421T131633
CREATED:20251022T201915Z
LAST-MODIFIED:20251022T201915Z
UID:10007697-1843119900-1843122600@saintandrewsfullerton.com
SUMMARY:Centering Prayer Group
DESCRIPTION:Join our uplifting Centering Prayer Group on the second and fourth Sundays of each month! We will meet at St. Andrew’s Center for Spiritual Direction. For more information or to let us know you’re coming\, please contact the office at office@saintandrewsfullerton.com.
URL:https://saintandrewsfullerton.com/events/centering-prayer-group/2028-05-28/
LOCATION:St. Andrew’s Episcopal Church\, 1231 E Chapman Ave\, Fullerton\, California\, 92831
CATEGORIES:Centering Prayer
ATTACH;FMTTYPE=image/jpeg:https://saintandrewsfullerton.com/wp-content/uploads/2025/10/Candles-1.jpg
END:VEVENT
BEGIN:VEVENT
DTSTART;TZID=America/Los_Angeles:20280611T094500
DTEND;TZID=America/Los_Angeles:20280611T103000
DTSTAMP:20260421T131633
CREATED:20251022T202149Z
LAST-MODIFIED:20251022T202149Z
UID:10007757-1844329500-1844332200@saintandrewsfullerton.com
SUMMARY:Centering Prayer Group
DESCRIPTION:Join our uplifting Centering Prayer Group on the second and fourth Sundays of each month! We will meet at St. Andrew’s Center for Spiritual Direction. For more information or to let us know you’re coming\, please contact the office at office@saintandrewsfullerton.com.
URL:https://saintandrewsfullerton.com/events/centering-prayer-group-3/2028-06-11/
LOCATION:St. Andrew’s Episcopal Church\, 1231 E Chapman Ave\, Fullerton\, California\, 92831
CATEGORIES:Centering Prayer
ATTACH;FMTTYPE=image/jpeg:https://saintandrewsfullerton.com/wp-content/uploads/2025/10/Candles-1.jpg
END:VEVENT
BEGIN:VEVENT
DTSTART;TZID=America/Los_Angeles:20280625T094500
DTEND;TZID=America/Los_Angeles:20280625T103000
DTSTAMP:20260421T131633
CREATED:20251022T201915Z
LAST-MODIFIED:20251022T201915Z
UID:10007698-1845539100-1845541800@saintandrewsfullerton.com
SUMMARY:Centering Prayer Group
DESCRIPTION:Join our uplifting Centering Prayer Group on the second and fourth Sundays of each month! We will meet at St. Andrew’s Center for Spiritual Direction. For more information or to let us know you’re coming\, please contact the office at office@saintandrewsfullerton.com.
URL:https://saintandrewsfullerton.com/events/centering-prayer-group/2028-06-25/
LOCATION:St. Andrew’s Episcopal Church\, 1231 E Chapman Ave\, Fullerton\, California\, 92831
CATEGORIES:Centering Prayer
ATTACH;FMTTYPE=image/jpeg:https://saintandrewsfullerton.com/wp-content/uploads/2025/10/Candles-1.jpg
END:VEVENT
BEGIN:VEVENT
DTSTART;TZID=America/Los_Angeles:20280709T094500
DTEND;TZID=America/Los_Angeles:20280709T103000
DTSTAMP:20260421T131633
CREATED:20251022T202149Z
LAST-MODIFIED:20251022T202149Z
UID:10007758-1846748700-1846751400@saintandrewsfullerton.com
SUMMARY:Centering Prayer Group
DESCRIPTION:Join our uplifting Centering Prayer Group on the second and fourth Sundays of each month! We will meet at St. Andrew’s Center for Spiritual Direction. For more information or to let us know you’re coming\, please contact the office at office@saintandrewsfullerton.com.
URL:https://saintandrewsfullerton.com/events/centering-prayer-group-3/2028-07-09/
LOCATION:St. Andrew’s Episcopal Church\, 1231 E Chapman Ave\, Fullerton\, California\, 92831
CATEGORIES:Centering Prayer
ATTACH;FMTTYPE=image/jpeg:https://saintandrewsfullerton.com/wp-content/uploads/2025/10/Candles-1.jpg
END:VEVENT
BEGIN:VEVENT
DTSTART;TZID=America/Los_Angeles:20280723T094500
DTEND;TZID=America/Los_Angeles:20280723T103000
DTSTAMP:20260421T131633
CREATED:20251022T201915Z
LAST-MODIFIED:20251022T201915Z
UID:10007699-1847958300-1847961000@saintandrewsfullerton.com
SUMMARY:Centering Prayer Group
DESCRIPTION:Join our uplifting Centering Prayer Group on the second and fourth Sundays of each month! We will meet at St. Andrew’s Center for Spiritual Direction. For more information or to let us know you’re coming\, please contact the office at office@saintandrewsfullerton.com.
URL:https://saintandrewsfullerton.com/events/centering-prayer-group/2028-07-23/
LOCATION:St. Andrew’s Episcopal Church\, 1231 E Chapman Ave\, Fullerton\, California\, 92831
CATEGORIES:Centering Prayer
ATTACH;FMTTYPE=image/jpeg:https://saintandrewsfullerton.com/wp-content/uploads/2025/10/Candles-1.jpg
END:VEVENT
BEGIN:VEVENT
DTSTART;TZID=America/Los_Angeles:20280813T094500
DTEND;TZID=America/Los_Angeles:20280813T103000
DTSTAMP:20260421T131633
CREATED:20251022T202149Z
LAST-MODIFIED:20251022T202149Z
UID:10007759-1849772700-1849775400@saintandrewsfullerton.com
SUMMARY:Centering Prayer Group
DESCRIPTION:Join our uplifting Centering Prayer Group on the second and fourth Sundays of each month! We will meet at St. Andrew’s Center for Spiritual Direction. For more information or to let us know you’re coming\, please contact the office at office@saintandrewsfullerton.com.
URL:https://saintandrewsfullerton.com/events/centering-prayer-group-3/2028-08-13/
LOCATION:St. Andrew’s Episcopal Church\, 1231 E Chapman Ave\, Fullerton\, California\, 92831
CATEGORIES:Centering Prayer
ATTACH;FMTTYPE=image/jpeg:https://saintandrewsfullerton.com/wp-content/uploads/2025/10/Candles-1.jpg
END:VEVENT
BEGIN:VEVENT
DTSTART;TZID=America/Los_Angeles:20280827T094500
DTEND;TZID=America/Los_Angeles:20280827T103000
DTSTAMP:20260421T131633
CREATED:20251022T201915Z
LAST-MODIFIED:20251022T201915Z
UID:10007700-1850982300-1850985000@saintandrewsfullerton.com
SUMMARY:Centering Prayer Group
DESCRIPTION:Join our uplifting Centering Prayer Group on the second and fourth Sundays of each month! We will meet at St. Andrew’s Center for Spiritual Direction. For more information or to let us know you’re coming\, please contact the office at office@saintandrewsfullerton.com.
URL:https://saintandrewsfullerton.com/events/centering-prayer-group/2028-08-27/
LOCATION:St. Andrew’s Episcopal Church\, 1231 E Chapman Ave\, Fullerton\, California\, 92831
CATEGORIES:Centering Prayer
ATTACH;FMTTYPE=image/jpeg:https://saintandrewsfullerton.com/wp-content/uploads/2025/10/Candles-1.jpg
END:VEVENT
BEGIN:VEVENT
DTSTART;TZID=America/Los_Angeles:20280910T094500
DTEND;TZID=America/Los_Angeles:20280910T103000
DTSTAMP:20260421T131633
CREATED:20251022T202149Z
LAST-MODIFIED:20251022T202149Z
UID:10007760-1852191900-1852194600@saintandrewsfullerton.com
SUMMARY:Centering Prayer Group
DESCRIPTION:Join our uplifting Centering Prayer Group on the second and fourth Sundays of each month! We will meet at St. Andrew’s Center for Spiritual Direction. For more information or to let us know you’re coming\, please contact the office at office@saintandrewsfullerton.com.
URL:https://saintandrewsfullerton.com/events/centering-prayer-group-3/2028-09-10/
LOCATION:St. Andrew’s Episcopal Church\, 1231 E Chapman Ave\, Fullerton\, California\, 92831
CATEGORIES:Centering Prayer
ATTACH;FMTTYPE=image/jpeg:https://saintandrewsfullerton.com/wp-content/uploads/2025/10/Candles-1.jpg
END:VEVENT
BEGIN:VEVENT
DTSTART;TZID=America/Los_Angeles:20280924T094500
DTEND;TZID=America/Los_Angeles:20280924T103000
DTSTAMP:20260421T131633
CREATED:20251022T201915Z
LAST-MODIFIED:20251022T201915Z
UID:10007701-1853401500-1853404200@saintandrewsfullerton.com
SUMMARY:Centering Prayer Group
DESCRIPTION:Join our uplifting Centering Prayer Group on the second and fourth Sundays of each month! We will meet at St. Andrew’s Center for Spiritual Direction. For more information or to let us know you’re coming\, please contact the office at office@saintandrewsfullerton.com.
URL:https://saintandrewsfullerton.com/events/centering-prayer-group/2028-09-24/
LOCATION:St. Andrew’s Episcopal Church\, 1231 E Chapman Ave\, Fullerton\, California\, 92831
CATEGORIES:Centering Prayer
ATTACH;FMTTYPE=image/jpeg:https://saintandrewsfullerton.com/wp-content/uploads/2025/10/Candles-1.jpg
END:VEVENT
BEGIN:VEVENT
DTSTART;TZID=America/Los_Angeles:20281008T094500
DTEND;TZID=America/Los_Angeles:20281008T103000
DTSTAMP:20260421T131633
CREATED:20251022T202149Z
LAST-MODIFIED:20251022T202149Z
UID:10007761-1854611100-1854613800@saintandrewsfullerton.com
SUMMARY:Centering Prayer Group
DESCRIPTION:Join our uplifting Centering Prayer Group on the second and fourth Sundays of each month! We will meet at St. Andrew’s Center for Spiritual Direction. For more information or to let us know you’re coming\, please contact the office at office@saintandrewsfullerton.com.
URL:https://saintandrewsfullerton.com/events/centering-prayer-group-3/2028-10-08/
LOCATION:St. Andrew’s Episcopal Church\, 1231 E Chapman Ave\, Fullerton\, California\, 92831
CATEGORIES:Centering Prayer
ATTACH;FMTTYPE=image/jpeg:https://saintandrewsfullerton.com/wp-content/uploads/2025/10/Candles-1.jpg
END:VEVENT
BEGIN:VEVENT
DTSTART;TZID=America/Los_Angeles:20281022T094500
DTEND;TZID=America/Los_Angeles:20281022T103000
DTSTAMP:20260421T131633
CREATED:20251022T201915Z
LAST-MODIFIED:20251022T201915Z
UID:10007702-1855820700-1855823400@saintandrewsfullerton.com
SUMMARY:Centering Prayer Group
DESCRIPTION:Join our uplifting Centering Prayer Group on the second and fourth Sundays of each month! We will meet at St. Andrew’s Center for Spiritual Direction. For more information or to let us know you’re coming\, please contact the office at office@saintandrewsfullerton.com.
URL:https://saintandrewsfullerton.com/events/centering-prayer-group/2028-10-22/
LOCATION:St. Andrew’s Episcopal Church\, 1231 E Chapman Ave\, Fullerton\, California\, 92831
CATEGORIES:Centering Prayer
ATTACH;FMTTYPE=image/jpeg:https://saintandrewsfullerton.com/wp-content/uploads/2025/10/Candles-1.jpg
END:VEVENT
BEGIN:VEVENT
DTSTART;TZID=America/Los_Angeles:20281112T094500
DTEND;TZID=America/Los_Angeles:20281112T103000
DTSTAMP:20260421T131633
CREATED:20251022T202149Z
LAST-MODIFIED:20251022T202149Z
UID:10007762-1857635100-1857637800@saintandrewsfullerton.com
SUMMARY:Centering Prayer Group
DESCRIPTION:Join our uplifting Centering Prayer Group on the second and fourth Sundays of each month! We will meet at St. Andrew’s Center for Spiritual Direction. For more information or to let us know you’re coming\, please contact the office at office@saintandrewsfullerton.com.
URL:https://saintandrewsfullerton.com/events/centering-prayer-group-3/2028-11-12/
LOCATION:St. Andrew’s Episcopal Church\, 1231 E Chapman Ave\, Fullerton\, California\, 92831
CATEGORIES:Centering Prayer
ATTACH;FMTTYPE=image/jpeg:https://saintandrewsfullerton.com/wp-content/uploads/2025/10/Candles-1.jpg
END:VEVENT
BEGIN:VEVENT
DTSTART;TZID=America/Los_Angeles:20281126T094500
DTEND;TZID=America/Los_Angeles:20281126T103000
DTSTAMP:20260421T131633
CREATED:20251022T201915Z
LAST-MODIFIED:20251022T201915Z
UID:10007703-1858844700-1858847400@saintandrewsfullerton.com
SUMMARY:Centering Prayer Group
DESCRIPTION:Join our uplifting Centering Prayer Group on the second and fourth Sundays of each month! We will meet at St. Andrew’s Center for Spiritual Direction. For more information or to let us know you’re coming\, please contact the office at office@saintandrewsfullerton.com.
URL:https://saintandrewsfullerton.com/events/centering-prayer-group/2028-11-26/
LOCATION:St. Andrew’s Episcopal Church\, 1231 E Chapman Ave\, Fullerton\, California\, 92831
CATEGORIES:Centering Prayer
ATTACH;FMTTYPE=image/jpeg:https://saintandrewsfullerton.com/wp-content/uploads/2025/10/Candles-1.jpg
END:VEVENT
BEGIN:VEVENT
DTSTART;TZID=America/Los_Angeles:20281210T094500
DTEND;TZID=America/Los_Angeles:20281210T103000
DTSTAMP:20260421T131633
CREATED:20251022T202149Z
LAST-MODIFIED:20251022T202149Z
UID:10007763-1860054300-1860057000@saintandrewsfullerton.com
SUMMARY:Centering Prayer Group
DESCRIPTION:Join our uplifting Centering Prayer Group on the second and fourth Sundays of each month! We will meet at St. Andrew’s Center for Spiritual Direction. For more information or to let us know you’re coming\, please contact the office at office@saintandrewsfullerton.com.
URL:https://saintandrewsfullerton.com/events/centering-prayer-group-3/2028-12-10/
LOCATION:St. Andrew’s Episcopal Church\, 1231 E Chapman Ave\, Fullerton\, California\, 92831
CATEGORIES:Centering Prayer
ATTACH;FMTTYPE=image/jpeg:https://saintandrewsfullerton.com/wp-content/uploads/2025/10/Candles-1.jpg
END:VEVENT
BEGIN:VEVENT
DTSTART;TZID=America/Los_Angeles:20281224T094500
DTEND;TZID=America/Los_Angeles:20281224T103000
DTSTAMP:20260421T131633
CREATED:20251022T201915Z
LAST-MODIFIED:20251022T201915Z
UID:10007704-1861263900-1861266600@saintandrewsfullerton.com
SUMMARY:Centering Prayer Group
DESCRIPTION:Join our uplifting Centering Prayer Group on the second and fourth Sundays of each month! We will meet at St. Andrew’s Center for Spiritual Direction. For more information or to let us know you’re coming\, please contact the office at office@saintandrewsfullerton.com.
URL:https://saintandrewsfullerton.com/events/centering-prayer-group/2028-12-24/
LOCATION:St. Andrew’s Episcopal Church\, 1231 E Chapman Ave\, Fullerton\, California\, 92831
CATEGORIES:Centering Prayer
ATTACH;FMTTYPE=image/jpeg:https://saintandrewsfullerton.com/wp-content/uploads/2025/10/Candles-1.jpg
END:VEVENT
BEGIN:VEVENT
DTSTART;TZID=America/Los_Angeles:20290114T094500
DTEND;TZID=America/Los_Angeles:20290114T103000
DTSTAMP:20260421T131633
CREATED:20251022T202149Z
LAST-MODIFIED:20251022T202149Z
UID:10007764-1863078300-1863081000@saintandrewsfullerton.com
SUMMARY:Centering Prayer Group
DESCRIPTION:Join our uplifting Centering Prayer Group on the second and fourth Sundays of each month! We will meet at St. Andrew’s Center for Spiritual Direction. For more information or to let us know you’re coming\, please contact the office at office@saintandrewsfullerton.com.
URL:https://saintandrewsfullerton.com/events/centering-prayer-group-3/2029-01-14/
LOCATION:St. Andrew’s Episcopal Church\, 1231 E Chapman Ave\, Fullerton\, California\, 92831
CATEGORIES:Centering Prayer
ATTACH;FMTTYPE=image/jpeg:https://saintandrewsfullerton.com/wp-content/uploads/2025/10/Candles-1.jpg
END:VEVENT
END:VCALENDAR