BEGIN:VCALENDAR
VERSION:2.0
PRODID:-//Saint Andrew&#039;s Episcopal Church, Fullerton CA - ECPv6.15.20//NONSGML v1.0//EN
CALSCALE:GREGORIAN
METHOD:PUBLISH
X-WR-CALNAME:Saint Andrew&#039;s Episcopal Church, Fullerton CA
X-ORIGINAL-URL:https://saintandrewsfullerton.com
X-WR-CALDESC:Events for Saint Andrew&#039;s Episcopal Church, Fullerton CA
REFRESH-INTERVAL;VALUE=DURATION:PT1H
X-Robots-Tag:noindex
X-PUBLISHED-TTL:PT1H
BEGIN:VTIMEZONE
TZID:America/Los_Angeles
BEGIN:DAYLIGHT
TZOFFSETFROM:-0800
TZOFFSETTO:-0700
TZNAME:PDT
DTSTART:20270314T100000
END:DAYLIGHT
BEGIN:STANDARD
TZOFFSETFROM:-0700
TZOFFSETTO:-0800
TZNAME:PST
DTSTART:20271107T090000
END:STANDARD
BEGIN:DAYLIGHT
TZOFFSETFROM:-0800
TZOFFSETTO:-0700
TZNAME:PDT
DTSTART:20280312T100000
END:DAYLIGHT
BEGIN:STANDARD
TZOFFSETFROM:-0700
TZOFFSETTO:-0800
TZNAME:PST
DTSTART:20281105T090000
END:STANDARD
BEGIN:DAYLIGHT
TZOFFSETFROM:-0800
TZOFFSETTO:-0700
TZNAME:PDT
DTSTART:20290311T100000
END:DAYLIGHT
BEGIN:STANDARD
TZOFFSETFROM:-0700
TZOFFSETTO:-0800
TZNAME:PST
DTSTART:20291104T090000
END:STANDARD
BEGIN:DAYLIGHT
TZOFFSETFROM:-0800
TZOFFSETTO:-0700
TZNAME:PDT
DTSTART:20300310T100000
END:DAYLIGHT
BEGIN:STANDARD
TZOFFSETFROM:-0700
TZOFFSETTO:-0800
TZNAME:PST
DTSTART:20301103T090000
END:STANDARD
END:VTIMEZONE
BEGIN:VEVENT
DTSTART;TZID=America/Los_Angeles:20280725T190000
DTEND;TZID=America/Los_Angeles:20280725T193000
DTSTAMP:20260422T022812
CREATED:20251119T210610Z
LAST-MODIFIED:20251119T210733Z
UID:10008995-1848164400-1848166200@saintandrewsfullerton.com
SUMMARY:Contemplative Piano with Joshua Wood
DESCRIPTION:Join us in the sanctuary on the second and fourth Tuesdays of the month for Contemplative Piano with Joshua Wood. Enjoy over 30 minutes of uninterrupted piano music. \nIf you can’t join in person\, you can livestream the service on Facebook here: https://www.facebook.com/StAndrewsEpiscopalChurchFullerton or on YouTube here: https://www.youtube.com/@st.andrewsfullertonsermons/streams \nYou can also enjoy previously recorded sessions on YouTube: https://www.youtube.com/user/JerichoWall
URL:https://saintandrewsfullerton.com/events/contemplative-piano-with-joshua-wood-3/2028-07-25/
LOCATION:St. Andrew’s Episcopal Church\, 1231 E Chapman Ave\, Fullerton\, California\, 92831
CATEGORIES:Streaming Service
ATTACH;FMTTYPE=image/jpeg:https://saintandrewsfullerton.com/wp-content/uploads/2021/10/Josh-at-piano-landscape-close-facing-organ.jpeg
END:VEVENT
BEGIN:VEVENT
DTSTART;TZID=America/Los_Angeles:20280730T110000
DTEND;TZID=America/Los_Angeles:20280730T120000
DTSTAMP:20260422T022812
CREATED:20251105T170106Z
LAST-MODIFIED:20260227T212827Z
UID:10008447-1848567600-1848571200@saintandrewsfullerton.com
SUMMARY:Holy Eucharist with Choir in the Sanctuary and Sunday School/Nursery in Moody Hall
DESCRIPTION:Join us for In-Person and Live Stream Worship. \nClick here to watch on Facebook. \nClick here to watch on YouTube.
URL:https://saintandrewsfullerton.com/events/holy-eucharist-with-choir-in-the-sanctuary-and-sunday-school-nursery-in-moody-hall/2028-07-30/
LOCATION:St. Andrew’s Episcopal Church\, 1231 E Chapman Ave\, Fullerton\, California\, 92831
CATEGORIES:Streaming Service
ATTACH;FMTTYPE=image/jpeg:https://saintandrewsfullerton.com/wp-content/uploads/2025/11/Choir-02-14-2026-Resized.jpg
END:VEVENT
BEGIN:VEVENT
DTSTART;TZID=America/Los_Angeles:20280806T110000
DTEND;TZID=America/Los_Angeles:20280806T120000
DTSTAMP:20260422T022812
CREATED:20251105T170106Z
LAST-MODIFIED:20260227T212827Z
UID:10008448-1849172400-1849176000@saintandrewsfullerton.com
SUMMARY:Holy Eucharist with Choir in the Sanctuary and Sunday School/Nursery in Moody Hall
DESCRIPTION:Join us for In-Person and Live Stream Worship. \nClick here to watch on Facebook. \nClick here to watch on YouTube.
URL:https://saintandrewsfullerton.com/events/holy-eucharist-with-choir-in-the-sanctuary-and-sunday-school-nursery-in-moody-hall/2028-08-06/
LOCATION:St. Andrew’s Episcopal Church\, 1231 E Chapman Ave\, Fullerton\, California\, 92831
CATEGORIES:Streaming Service
ATTACH;FMTTYPE=image/jpeg:https://saintandrewsfullerton.com/wp-content/uploads/2025/11/Choir-02-14-2026-Resized.jpg
END:VEVENT
BEGIN:VEVENT
DTSTART;TZID=America/Los_Angeles:20280813T110000
DTEND;TZID=America/Los_Angeles:20280813T120000
DTSTAMP:20260422T022812
CREATED:20251105T170106Z
LAST-MODIFIED:20260227T212827Z
UID:10008449-1849777200-1849780800@saintandrewsfullerton.com
SUMMARY:Holy Eucharist with Choir in the Sanctuary and Sunday School/Nursery in Moody Hall
DESCRIPTION:Join us for In-Person and Live Stream Worship. \nClick here to watch on Facebook. \nClick here to watch on YouTube.
URL:https://saintandrewsfullerton.com/events/holy-eucharist-with-choir-in-the-sanctuary-and-sunday-school-nursery-in-moody-hall/2028-08-13/
LOCATION:St. Andrew’s Episcopal Church\, 1231 E Chapman Ave\, Fullerton\, California\, 92831
CATEGORIES:Streaming Service
ATTACH;FMTTYPE=image/jpeg:https://saintandrewsfullerton.com/wp-content/uploads/2025/11/Choir-02-14-2026-Resized.jpg
END:VEVENT
BEGIN:VEVENT
DTSTART;TZID=America/Los_Angeles:20280820T110000
DTEND;TZID=America/Los_Angeles:20280820T120000
DTSTAMP:20260422T022812
CREATED:20251105T170106Z
LAST-MODIFIED:20260227T212827Z
UID:10008450-1850382000-1850385600@saintandrewsfullerton.com
SUMMARY:Holy Eucharist with Choir in the Sanctuary and Sunday School/Nursery in Moody Hall
DESCRIPTION:Join us for In-Person and Live Stream Worship. \nClick here to watch on Facebook. \nClick here to watch on YouTube.
URL:https://saintandrewsfullerton.com/events/holy-eucharist-with-choir-in-the-sanctuary-and-sunday-school-nursery-in-moody-hall/2028-08-20/
LOCATION:St. Andrew’s Episcopal Church\, 1231 E Chapman Ave\, Fullerton\, California\, 92831
CATEGORIES:Streaming Service
ATTACH;FMTTYPE=image/jpeg:https://saintandrewsfullerton.com/wp-content/uploads/2025/11/Choir-02-14-2026-Resized.jpg
END:VEVENT
BEGIN:VEVENT
DTSTART;TZID=America/Los_Angeles:20280822T190000
DTEND;TZID=America/Los_Angeles:20280822T193000
DTSTAMP:20260422T022812
CREATED:20251119T210610Z
LAST-MODIFIED:20251119T210733Z
UID:10008996-1850583600-1850585400@saintandrewsfullerton.com
SUMMARY:Contemplative Piano with Joshua Wood
DESCRIPTION:Join us in the sanctuary on the second and fourth Tuesdays of the month for Contemplative Piano with Joshua Wood. Enjoy over 30 minutes of uninterrupted piano music. \nIf you can’t join in person\, you can livestream the service on Facebook here: https://www.facebook.com/StAndrewsEpiscopalChurchFullerton or on YouTube here: https://www.youtube.com/@st.andrewsfullertonsermons/streams \nYou can also enjoy previously recorded sessions on YouTube: https://www.youtube.com/user/JerichoWall
URL:https://saintandrewsfullerton.com/events/contemplative-piano-with-joshua-wood-3/2028-08-22/
LOCATION:St. Andrew’s Episcopal Church\, 1231 E Chapman Ave\, Fullerton\, California\, 92831
CATEGORIES:Streaming Service
ATTACH;FMTTYPE=image/jpeg:https://saintandrewsfullerton.com/wp-content/uploads/2021/10/Josh-at-piano-landscape-close-facing-organ.jpeg
END:VEVENT
BEGIN:VEVENT
DTSTART;TZID=America/Los_Angeles:20280827T110000
DTEND;TZID=America/Los_Angeles:20280827T120000
DTSTAMP:20260422T022812
CREATED:20251105T170106Z
LAST-MODIFIED:20260227T212827Z
UID:10008451-1850986800-1850990400@saintandrewsfullerton.com
SUMMARY:Holy Eucharist with Choir in the Sanctuary and Sunday School/Nursery in Moody Hall
DESCRIPTION:Join us for In-Person and Live Stream Worship. \nClick here to watch on Facebook. \nClick here to watch on YouTube.
URL:https://saintandrewsfullerton.com/events/holy-eucharist-with-choir-in-the-sanctuary-and-sunday-school-nursery-in-moody-hall/2028-08-27/
LOCATION:St. Andrew’s Episcopal Church\, 1231 E Chapman Ave\, Fullerton\, California\, 92831
CATEGORIES:Streaming Service
ATTACH;FMTTYPE=image/jpeg:https://saintandrewsfullerton.com/wp-content/uploads/2025/11/Choir-02-14-2026-Resized.jpg
END:VEVENT
BEGIN:VEVENT
DTSTART;TZID=America/Los_Angeles:20280903T110000
DTEND;TZID=America/Los_Angeles:20280903T120000
DTSTAMP:20260422T022812
CREATED:20251105T170106Z
LAST-MODIFIED:20260227T212827Z
UID:10008452-1851591600-1851595200@saintandrewsfullerton.com
SUMMARY:Holy Eucharist with Choir in the Sanctuary and Sunday School/Nursery in Moody Hall
DESCRIPTION:Join us for In-Person and Live Stream Worship. \nClick here to watch on Facebook. \nClick here to watch on YouTube.
URL:https://saintandrewsfullerton.com/events/holy-eucharist-with-choir-in-the-sanctuary-and-sunday-school-nursery-in-moody-hall/2028-09-03/
LOCATION:St. Andrew’s Episcopal Church\, 1231 E Chapman Ave\, Fullerton\, California\, 92831
CATEGORIES:Streaming Service
ATTACH;FMTTYPE=image/jpeg:https://saintandrewsfullerton.com/wp-content/uploads/2025/11/Choir-02-14-2026-Resized.jpg
END:VEVENT
BEGIN:VEVENT
DTSTART;TZID=America/Los_Angeles:20280910T110000
DTEND;TZID=America/Los_Angeles:20280910T120000
DTSTAMP:20260422T022812
CREATED:20251105T170106Z
LAST-MODIFIED:20260227T212827Z
UID:10008453-1852196400-1852200000@saintandrewsfullerton.com
SUMMARY:Holy Eucharist with Choir in the Sanctuary and Sunday School/Nursery in Moody Hall
DESCRIPTION:Join us for In-Person and Live Stream Worship. \nClick here to watch on Facebook. \nClick here to watch on YouTube.
URL:https://saintandrewsfullerton.com/events/holy-eucharist-with-choir-in-the-sanctuary-and-sunday-school-nursery-in-moody-hall/2028-09-10/
LOCATION:St. Andrew’s Episcopal Church\, 1231 E Chapman Ave\, Fullerton\, California\, 92831
CATEGORIES:Streaming Service
ATTACH;FMTTYPE=image/jpeg:https://saintandrewsfullerton.com/wp-content/uploads/2025/11/Choir-02-14-2026-Resized.jpg
END:VEVENT
BEGIN:VEVENT
DTSTART;TZID=America/Los_Angeles:20280917T110000
DTEND;TZID=America/Los_Angeles:20280917T120000
DTSTAMP:20260422T022812
CREATED:20251105T170106Z
LAST-MODIFIED:20260227T212827Z
UID:10008454-1852801200-1852804800@saintandrewsfullerton.com
SUMMARY:Holy Eucharist with Choir in the Sanctuary and Sunday School/Nursery in Moody Hall
DESCRIPTION:Join us for In-Person and Live Stream Worship. \nClick here to watch on Facebook. \nClick here to watch on YouTube.
URL:https://saintandrewsfullerton.com/events/holy-eucharist-with-choir-in-the-sanctuary-and-sunday-school-nursery-in-moody-hall/2028-09-17/
LOCATION:St. Andrew’s Episcopal Church\, 1231 E Chapman Ave\, Fullerton\, California\, 92831
CATEGORIES:Streaming Service
ATTACH;FMTTYPE=image/jpeg:https://saintandrewsfullerton.com/wp-content/uploads/2025/11/Choir-02-14-2026-Resized.jpg
END:VEVENT
BEGIN:VEVENT
DTSTART;TZID=America/Los_Angeles:20280924T110000
DTEND;TZID=America/Los_Angeles:20280924T120000
DTSTAMP:20260422T022812
CREATED:20251105T170106Z
LAST-MODIFIED:20260227T212827Z
UID:10008455-1853406000-1853409600@saintandrewsfullerton.com
SUMMARY:Holy Eucharist with Choir in the Sanctuary and Sunday School/Nursery in Moody Hall
DESCRIPTION:Join us for In-Person and Live Stream Worship. \nClick here to watch on Facebook. \nClick here to watch on YouTube.
URL:https://saintandrewsfullerton.com/events/holy-eucharist-with-choir-in-the-sanctuary-and-sunday-school-nursery-in-moody-hall/2028-09-24/
LOCATION:St. Andrew’s Episcopal Church\, 1231 E Chapman Ave\, Fullerton\, California\, 92831
CATEGORIES:Streaming Service
ATTACH;FMTTYPE=image/jpeg:https://saintandrewsfullerton.com/wp-content/uploads/2025/11/Choir-02-14-2026-Resized.jpg
END:VEVENT
BEGIN:VEVENT
DTSTART;TZID=America/Los_Angeles:20280926T190000
DTEND;TZID=America/Los_Angeles:20280926T193000
DTSTAMP:20260422T022812
CREATED:20251119T210610Z
LAST-MODIFIED:20251119T210733Z
UID:10008997-1853607600-1853609400@saintandrewsfullerton.com
SUMMARY:Contemplative Piano with Joshua Wood
DESCRIPTION:Join us in the sanctuary on the second and fourth Tuesdays of the month for Contemplative Piano with Joshua Wood. Enjoy over 30 minutes of uninterrupted piano music. \nIf you can’t join in person\, you can livestream the service on Facebook here: https://www.facebook.com/StAndrewsEpiscopalChurchFullerton or on YouTube here: https://www.youtube.com/@st.andrewsfullertonsermons/streams \nYou can also enjoy previously recorded sessions on YouTube: https://www.youtube.com/user/JerichoWall
URL:https://saintandrewsfullerton.com/events/contemplative-piano-with-joshua-wood-3/2028-09-26/
LOCATION:St. Andrew’s Episcopal Church\, 1231 E Chapman Ave\, Fullerton\, California\, 92831
CATEGORIES:Streaming Service
ATTACH;FMTTYPE=image/jpeg:https://saintandrewsfullerton.com/wp-content/uploads/2021/10/Josh-at-piano-landscape-close-facing-organ.jpeg
END:VEVENT
BEGIN:VEVENT
DTSTART;TZID=America/Los_Angeles:20281001T110000
DTEND;TZID=America/Los_Angeles:20281001T120000
DTSTAMP:20260422T022812
CREATED:20251105T170106Z
LAST-MODIFIED:20260227T212827Z
UID:10008456-1854010800-1854014400@saintandrewsfullerton.com
SUMMARY:Holy Eucharist with Choir in the Sanctuary and Sunday School/Nursery in Moody Hall
DESCRIPTION:Join us for In-Person and Live Stream Worship. \nClick here to watch on Facebook. \nClick here to watch on YouTube.
URL:https://saintandrewsfullerton.com/events/holy-eucharist-with-choir-in-the-sanctuary-and-sunday-school-nursery-in-moody-hall/2028-10-01/
LOCATION:St. Andrew’s Episcopal Church\, 1231 E Chapman Ave\, Fullerton\, California\, 92831
CATEGORIES:Streaming Service
ATTACH;FMTTYPE=image/jpeg:https://saintandrewsfullerton.com/wp-content/uploads/2025/11/Choir-02-14-2026-Resized.jpg
END:VEVENT
BEGIN:VEVENT
DTSTART;TZID=America/Los_Angeles:20281008T110000
DTEND;TZID=America/Los_Angeles:20281008T120000
DTSTAMP:20260422T022812
CREATED:20251105T170106Z
LAST-MODIFIED:20260227T212827Z
UID:10008457-1854615600-1854619200@saintandrewsfullerton.com
SUMMARY:Holy Eucharist with Choir in the Sanctuary and Sunday School/Nursery in Moody Hall
DESCRIPTION:Join us for In-Person and Live Stream Worship. \nClick here to watch on Facebook. \nClick here to watch on YouTube.
URL:https://saintandrewsfullerton.com/events/holy-eucharist-with-choir-in-the-sanctuary-and-sunday-school-nursery-in-moody-hall/2028-10-08/
LOCATION:St. Andrew’s Episcopal Church\, 1231 E Chapman Ave\, Fullerton\, California\, 92831
CATEGORIES:Streaming Service
ATTACH;FMTTYPE=image/jpeg:https://saintandrewsfullerton.com/wp-content/uploads/2025/11/Choir-02-14-2026-Resized.jpg
END:VEVENT
BEGIN:VEVENT
DTSTART;TZID=America/Los_Angeles:20281015T110000
DTEND;TZID=America/Los_Angeles:20281015T120000
DTSTAMP:20260422T022812
CREATED:20251105T170106Z
LAST-MODIFIED:20260227T212827Z
UID:10008458-1855220400-1855224000@saintandrewsfullerton.com
SUMMARY:Holy Eucharist with Choir in the Sanctuary and Sunday School/Nursery in Moody Hall
DESCRIPTION:Join us for In-Person and Live Stream Worship. \nClick here to watch on Facebook. \nClick here to watch on YouTube.
URL:https://saintandrewsfullerton.com/events/holy-eucharist-with-choir-in-the-sanctuary-and-sunday-school-nursery-in-moody-hall/2028-10-15/
LOCATION:St. Andrew’s Episcopal Church\, 1231 E Chapman Ave\, Fullerton\, California\, 92831
CATEGORIES:Streaming Service
ATTACH;FMTTYPE=image/jpeg:https://saintandrewsfullerton.com/wp-content/uploads/2025/11/Choir-02-14-2026-Resized.jpg
END:VEVENT
BEGIN:VEVENT
DTSTART;TZID=America/Los_Angeles:20281022T110000
DTEND;TZID=America/Los_Angeles:20281022T120000
DTSTAMP:20260422T022812
CREATED:20251105T170106Z
LAST-MODIFIED:20260227T212827Z
UID:10008459-1855825200-1855828800@saintandrewsfullerton.com
SUMMARY:Holy Eucharist with Choir in the Sanctuary and Sunday School/Nursery in Moody Hall
DESCRIPTION:Join us for In-Person and Live Stream Worship. \nClick here to watch on Facebook. \nClick here to watch on YouTube.
URL:https://saintandrewsfullerton.com/events/holy-eucharist-with-choir-in-the-sanctuary-and-sunday-school-nursery-in-moody-hall/2028-10-22/
LOCATION:St. Andrew’s Episcopal Church\, 1231 E Chapman Ave\, Fullerton\, California\, 92831
CATEGORIES:Streaming Service
ATTACH;FMTTYPE=image/jpeg:https://saintandrewsfullerton.com/wp-content/uploads/2025/11/Choir-02-14-2026-Resized.jpg
END:VEVENT
BEGIN:VEVENT
DTSTART;TZID=America/Los_Angeles:20281024T190000
DTEND;TZID=America/Los_Angeles:20281024T193000
DTSTAMP:20260422T022812
CREATED:20251119T210610Z
LAST-MODIFIED:20251119T210733Z
UID:10008998-1856026800-1856028600@saintandrewsfullerton.com
SUMMARY:Contemplative Piano with Joshua Wood
DESCRIPTION:Join us in the sanctuary on the second and fourth Tuesdays of the month for Contemplative Piano with Joshua Wood. Enjoy over 30 minutes of uninterrupted piano music. \nIf you can’t join in person\, you can livestream the service on Facebook here: https://www.facebook.com/StAndrewsEpiscopalChurchFullerton or on YouTube here: https://www.youtube.com/@st.andrewsfullertonsermons/streams \nYou can also enjoy previously recorded sessions on YouTube: https://www.youtube.com/user/JerichoWall
URL:https://saintandrewsfullerton.com/events/contemplative-piano-with-joshua-wood-3/2028-10-24/
LOCATION:St. Andrew’s Episcopal Church\, 1231 E Chapman Ave\, Fullerton\, California\, 92831
CATEGORIES:Streaming Service
ATTACH;FMTTYPE=image/jpeg:https://saintandrewsfullerton.com/wp-content/uploads/2021/10/Josh-at-piano-landscape-close-facing-organ.jpeg
END:VEVENT
BEGIN:VEVENT
DTSTART;TZID=America/Los_Angeles:20281029T110000
DTEND;TZID=America/Los_Angeles:20281029T120000
DTSTAMP:20260422T022812
CREATED:20251105T170106Z
LAST-MODIFIED:20260227T212827Z
UID:10008460-1856430000-1856433600@saintandrewsfullerton.com
SUMMARY:Holy Eucharist with Choir in the Sanctuary and Sunday School/Nursery in Moody Hall
DESCRIPTION:Join us for In-Person and Live Stream Worship. \nClick here to watch on Facebook. \nClick here to watch on YouTube.
URL:https://saintandrewsfullerton.com/events/holy-eucharist-with-choir-in-the-sanctuary-and-sunday-school-nursery-in-moody-hall/2028-10-29/
LOCATION:St. Andrew’s Episcopal Church\, 1231 E Chapman Ave\, Fullerton\, California\, 92831
CATEGORIES:Streaming Service
ATTACH;FMTTYPE=image/jpeg:https://saintandrewsfullerton.com/wp-content/uploads/2025/11/Choir-02-14-2026-Resized.jpg
END:VEVENT
BEGIN:VEVENT
DTSTART;TZID=America/Los_Angeles:20281105T110000
DTEND;TZID=America/Los_Angeles:20281105T120000
DTSTAMP:20260422T022812
CREATED:20251105T170106Z
LAST-MODIFIED:20260227T212827Z
UID:10008461-1857034800-1857038400@saintandrewsfullerton.com
SUMMARY:Holy Eucharist with Choir in the Sanctuary and Sunday School/Nursery in Moody Hall
DESCRIPTION:Join us for In-Person and Live Stream Worship. \nClick here to watch on Facebook. \nClick here to watch on YouTube.
URL:https://saintandrewsfullerton.com/events/holy-eucharist-with-choir-in-the-sanctuary-and-sunday-school-nursery-in-moody-hall/2028-11-05/
LOCATION:St. Andrew’s Episcopal Church\, 1231 E Chapman Ave\, Fullerton\, California\, 92831
CATEGORIES:Streaming Service
ATTACH;FMTTYPE=image/jpeg:https://saintandrewsfullerton.com/wp-content/uploads/2025/11/Choir-02-14-2026-Resized.jpg
END:VEVENT
BEGIN:VEVENT
DTSTART;TZID=America/Los_Angeles:20281112T110000
DTEND;TZID=America/Los_Angeles:20281112T120000
DTSTAMP:20260422T022812
CREATED:20251105T170106Z
LAST-MODIFIED:20260227T212827Z
UID:10008462-1857639600-1857643200@saintandrewsfullerton.com
SUMMARY:Holy Eucharist with Choir in the Sanctuary and Sunday School/Nursery in Moody Hall
DESCRIPTION:Join us for In-Person and Live Stream Worship. \nClick here to watch on Facebook. \nClick here to watch on YouTube.
URL:https://saintandrewsfullerton.com/events/holy-eucharist-with-choir-in-the-sanctuary-and-sunday-school-nursery-in-moody-hall/2028-11-12/
LOCATION:St. Andrew’s Episcopal Church\, 1231 E Chapman Ave\, Fullerton\, California\, 92831
CATEGORIES:Streaming Service
ATTACH;FMTTYPE=image/jpeg:https://saintandrewsfullerton.com/wp-content/uploads/2025/11/Choir-02-14-2026-Resized.jpg
END:VEVENT
BEGIN:VEVENT
DTSTART;TZID=America/Los_Angeles:20281119T110000
DTEND;TZID=America/Los_Angeles:20281119T120000
DTSTAMP:20260422T022812
CREATED:20251105T170106Z
LAST-MODIFIED:20260227T212827Z
UID:10008463-1858244400-1858248000@saintandrewsfullerton.com
SUMMARY:Holy Eucharist with Choir in the Sanctuary and Sunday School/Nursery in Moody Hall
DESCRIPTION:Join us for In-Person and Live Stream Worship. \nClick here to watch on Facebook. \nClick here to watch on YouTube.
URL:https://saintandrewsfullerton.com/events/holy-eucharist-with-choir-in-the-sanctuary-and-sunday-school-nursery-in-moody-hall/2028-11-19/
LOCATION:St. Andrew’s Episcopal Church\, 1231 E Chapman Ave\, Fullerton\, California\, 92831
CATEGORIES:Streaming Service
ATTACH;FMTTYPE=image/jpeg:https://saintandrewsfullerton.com/wp-content/uploads/2025/11/Choir-02-14-2026-Resized.jpg
END:VEVENT
BEGIN:VEVENT
DTSTART;TZID=America/Los_Angeles:20281126T110000
DTEND;TZID=America/Los_Angeles:20281126T120000
DTSTAMP:20260422T022812
CREATED:20251105T170106Z
LAST-MODIFIED:20260227T212827Z
UID:10008464-1858849200-1858852800@saintandrewsfullerton.com
SUMMARY:Holy Eucharist with Choir in the Sanctuary and Sunday School/Nursery in Moody Hall
DESCRIPTION:Join us for In-Person and Live Stream Worship. \nClick here to watch on Facebook. \nClick here to watch on YouTube.
URL:https://saintandrewsfullerton.com/events/holy-eucharist-with-choir-in-the-sanctuary-and-sunday-school-nursery-in-moody-hall/2028-11-26/
LOCATION:St. Andrew’s Episcopal Church\, 1231 E Chapman Ave\, Fullerton\, California\, 92831
CATEGORIES:Streaming Service
ATTACH;FMTTYPE=image/jpeg:https://saintandrewsfullerton.com/wp-content/uploads/2025/11/Choir-02-14-2026-Resized.jpg
END:VEVENT
BEGIN:VEVENT
DTSTART;TZID=America/Los_Angeles:20281128T190000
DTEND;TZID=America/Los_Angeles:20281128T193000
DTSTAMP:20260422T022812
CREATED:20251119T210610Z
LAST-MODIFIED:20251119T210733Z
UID:10008999-1859050800-1859052600@saintandrewsfullerton.com
SUMMARY:Contemplative Piano with Joshua Wood
DESCRIPTION:Join us in the sanctuary on the second and fourth Tuesdays of the month for Contemplative Piano with Joshua Wood. Enjoy over 30 minutes of uninterrupted piano music. \nIf you can’t join in person\, you can livestream the service on Facebook here: https://www.facebook.com/StAndrewsEpiscopalChurchFullerton or on YouTube here: https://www.youtube.com/@st.andrewsfullertonsermons/streams \nYou can also enjoy previously recorded sessions on YouTube: https://www.youtube.com/user/JerichoWall
URL:https://saintandrewsfullerton.com/events/contemplative-piano-with-joshua-wood-3/2028-11-28/
LOCATION:St. Andrew’s Episcopal Church\, 1231 E Chapman Ave\, Fullerton\, California\, 92831
CATEGORIES:Streaming Service
ATTACH;FMTTYPE=image/jpeg:https://saintandrewsfullerton.com/wp-content/uploads/2021/10/Josh-at-piano-landscape-close-facing-organ.jpeg
END:VEVENT
BEGIN:VEVENT
DTSTART;TZID=America/Los_Angeles:20281203T110000
DTEND;TZID=America/Los_Angeles:20281203T120000
DTSTAMP:20260422T022812
CREATED:20251105T170106Z
LAST-MODIFIED:20260227T212827Z
UID:10008465-1859454000-1859457600@saintandrewsfullerton.com
SUMMARY:Holy Eucharist with Choir in the Sanctuary and Sunday School/Nursery in Moody Hall
DESCRIPTION:Join us for In-Person and Live Stream Worship. \nClick here to watch on Facebook. \nClick here to watch on YouTube.
URL:https://saintandrewsfullerton.com/events/holy-eucharist-with-choir-in-the-sanctuary-and-sunday-school-nursery-in-moody-hall/2028-12-03/
LOCATION:St. Andrew’s Episcopal Church\, 1231 E Chapman Ave\, Fullerton\, California\, 92831
CATEGORIES:Streaming Service
ATTACH;FMTTYPE=image/jpeg:https://saintandrewsfullerton.com/wp-content/uploads/2025/11/Choir-02-14-2026-Resized.jpg
END:VEVENT
BEGIN:VEVENT
DTSTART;TZID=America/Los_Angeles:20281210T110000
DTEND;TZID=America/Los_Angeles:20281210T120000
DTSTAMP:20260422T022812
CREATED:20251105T170106Z
LAST-MODIFIED:20260227T212827Z
UID:10008466-1860058800-1860062400@saintandrewsfullerton.com
SUMMARY:Holy Eucharist with Choir in the Sanctuary and Sunday School/Nursery in Moody Hall
DESCRIPTION:Join us for In-Person and Live Stream Worship. \nClick here to watch on Facebook. \nClick here to watch on YouTube.
URL:https://saintandrewsfullerton.com/events/holy-eucharist-with-choir-in-the-sanctuary-and-sunday-school-nursery-in-moody-hall/2028-12-10/
LOCATION:St. Andrew’s Episcopal Church\, 1231 E Chapman Ave\, Fullerton\, California\, 92831
CATEGORIES:Streaming Service
ATTACH;FMTTYPE=image/jpeg:https://saintandrewsfullerton.com/wp-content/uploads/2025/11/Choir-02-14-2026-Resized.jpg
END:VEVENT
BEGIN:VEVENT
DTSTART;TZID=America/Los_Angeles:20281217T110000
DTEND;TZID=America/Los_Angeles:20281217T120000
DTSTAMP:20260422T022813
CREATED:20251105T170106Z
LAST-MODIFIED:20260227T212827Z
UID:10008467-1860663600-1860667200@saintandrewsfullerton.com
SUMMARY:Holy Eucharist with Choir in the Sanctuary and Sunday School/Nursery in Moody Hall
DESCRIPTION:Join us for In-Person and Live Stream Worship. \nClick here to watch on Facebook. \nClick here to watch on YouTube.
URL:https://saintandrewsfullerton.com/events/holy-eucharist-with-choir-in-the-sanctuary-and-sunday-school-nursery-in-moody-hall/2028-12-17/
LOCATION:St. Andrew’s Episcopal Church\, 1231 E Chapman Ave\, Fullerton\, California\, 92831
CATEGORIES:Streaming Service
ATTACH;FMTTYPE=image/jpeg:https://saintandrewsfullerton.com/wp-content/uploads/2025/11/Choir-02-14-2026-Resized.jpg
END:VEVENT
BEGIN:VEVENT
DTSTART;TZID=America/Los_Angeles:20281224T110000
DTEND;TZID=America/Los_Angeles:20281224T120000
DTSTAMP:20260422T022813
CREATED:20251105T170106Z
LAST-MODIFIED:20260227T212827Z
UID:10008468-1861268400-1861272000@saintandrewsfullerton.com
SUMMARY:Holy Eucharist with Choir in the Sanctuary and Sunday School/Nursery in Moody Hall
DESCRIPTION:Join us for In-Person and Live Stream Worship. \nClick here to watch on Facebook. \nClick here to watch on YouTube.
URL:https://saintandrewsfullerton.com/events/holy-eucharist-with-choir-in-the-sanctuary-and-sunday-school-nursery-in-moody-hall/2028-12-24/
LOCATION:St. Andrew’s Episcopal Church\, 1231 E Chapman Ave\, Fullerton\, California\, 92831
CATEGORIES:Streaming Service
ATTACH;FMTTYPE=image/jpeg:https://saintandrewsfullerton.com/wp-content/uploads/2025/11/Choir-02-14-2026-Resized.jpg
END:VEVENT
BEGIN:VEVENT
DTSTART;TZID=America/Los_Angeles:20281226T190000
DTEND;TZID=America/Los_Angeles:20281226T193000
DTSTAMP:20260422T022813
CREATED:20251119T210610Z
LAST-MODIFIED:20251119T210733Z
UID:10009000-1861470000-1861471800@saintandrewsfullerton.com
SUMMARY:Contemplative Piano with Joshua Wood
DESCRIPTION:Join us in the sanctuary on the second and fourth Tuesdays of the month for Contemplative Piano with Joshua Wood. Enjoy over 30 minutes of uninterrupted piano music. \nIf you can’t join in person\, you can livestream the service on Facebook here: https://www.facebook.com/StAndrewsEpiscopalChurchFullerton or on YouTube here: https://www.youtube.com/@st.andrewsfullertonsermons/streams \nYou can also enjoy previously recorded sessions on YouTube: https://www.youtube.com/user/JerichoWall
URL:https://saintandrewsfullerton.com/events/contemplative-piano-with-joshua-wood-3/2028-12-26/
LOCATION:St. Andrew’s Episcopal Church\, 1231 E Chapman Ave\, Fullerton\, California\, 92831
CATEGORIES:Streaming Service
ATTACH;FMTTYPE=image/jpeg:https://saintandrewsfullerton.com/wp-content/uploads/2021/10/Josh-at-piano-landscape-close-facing-organ.jpeg
END:VEVENT
BEGIN:VEVENT
DTSTART;TZID=America/Los_Angeles:20281231T110000
DTEND;TZID=America/Los_Angeles:20281231T120000
DTSTAMP:20260422T022813
CREATED:20251105T170106Z
LAST-MODIFIED:20260227T212827Z
UID:10008469-1861873200-1861876800@saintandrewsfullerton.com
SUMMARY:Holy Eucharist with Choir in the Sanctuary and Sunday School/Nursery in Moody Hall
DESCRIPTION:Join us for In-Person and Live Stream Worship. \nClick here to watch on Facebook. \nClick here to watch on YouTube.
URL:https://saintandrewsfullerton.com/events/holy-eucharist-with-choir-in-the-sanctuary-and-sunday-school-nursery-in-moody-hall/2028-12-31/
LOCATION:St. Andrew’s Episcopal Church\, 1231 E Chapman Ave\, Fullerton\, California\, 92831
CATEGORIES:Streaming Service
ATTACH;FMTTYPE=image/jpeg:https://saintandrewsfullerton.com/wp-content/uploads/2025/11/Choir-02-14-2026-Resized.jpg
END:VEVENT
BEGIN:VEVENT
DTSTART;TZID=America/Los_Angeles:20290107T110000
DTEND;TZID=America/Los_Angeles:20290107T120000
DTSTAMP:20260422T022813
CREATED:20251105T170106Z
LAST-MODIFIED:20260227T212827Z
UID:10008470-1862478000-1862481600@saintandrewsfullerton.com
SUMMARY:Holy Eucharist with Choir in the Sanctuary and Sunday School/Nursery in Moody Hall
DESCRIPTION:Join us for In-Person and Live Stream Worship. \nClick here to watch on Facebook. \nClick here to watch on YouTube.
URL:https://saintandrewsfullerton.com/events/holy-eucharist-with-choir-in-the-sanctuary-and-sunday-school-nursery-in-moody-hall/2029-01-07/
LOCATION:St. Andrew’s Episcopal Church\, 1231 E Chapman Ave\, Fullerton\, California\, 92831
CATEGORIES:Streaming Service
ATTACH;FMTTYPE=image/jpeg:https://saintandrewsfullerton.com/wp-content/uploads/2025/11/Choir-02-14-2026-Resized.jpg
END:VEVENT
END:VCALENDAR