BEGIN:VCALENDAR
VERSION:2.0
PRODID:-//Saint Andrew&#039;s Episcopal Church, Fullerton CA - ECPv6.15.20//NONSGML v1.0//EN
CALSCALE:GREGORIAN
METHOD:PUBLISH
X-ORIGINAL-URL:https://saintandrewsfullerton.com
X-WR-CALDESC:Events for Saint Andrew&#039;s Episcopal Church, Fullerton CA
REFRESH-INTERVAL;VALUE=DURATION:PT1H
X-Robots-Tag:noindex
X-PUBLISHED-TTL:PT1H
BEGIN:VTIMEZONE
TZID:America/Los_Angeles
BEGIN:DAYLIGHT
TZOFFSETFROM:-0800
TZOFFSETTO:-0700
TZNAME:PDT
DTSTART:20290311T100000
END:DAYLIGHT
BEGIN:STANDARD
TZOFFSETFROM:-0700
TZOFFSETTO:-0800
TZNAME:PST
DTSTART:20291104T090000
END:STANDARD
BEGIN:DAYLIGHT
TZOFFSETFROM:-0800
TZOFFSETTO:-0700
TZNAME:PDT
DTSTART:20300310T100000
END:DAYLIGHT
BEGIN:STANDARD
TZOFFSETFROM:-0700
TZOFFSETTO:-0800
TZNAME:PST
DTSTART:20301103T090000
END:STANDARD
BEGIN:DAYLIGHT
TZOFFSETFROM:-0800
TZOFFSETTO:-0700
TZNAME:PDT
DTSTART:20310309T100000
END:DAYLIGHT
BEGIN:STANDARD
TZOFFSETFROM:-0700
TZOFFSETTO:-0800
TZNAME:PST
DTSTART:20311102T090000
END:STANDARD
END:VTIMEZONE
BEGIN:VEVENT
DTSTART;TZID=America/Los_Angeles:20300122T190000
DTEND;TZID=America/Los_Angeles:20300122T193000
DTSTAMP:20260422T182936
CREATED:20251119T210610Z
LAST-MODIFIED:20251119T210733Z
UID:10009013-1895338800-1895340600@saintandrewsfullerton.com
SUMMARY:Contemplative Piano with Joshua Wood
DESCRIPTION:Join us in the sanctuary on the second and fourth Tuesdays of the month for Contemplative Piano with Joshua Wood. Enjoy over 30 minutes of uninterrupted piano music. \nIf you can’t join in person\, you can livestream the service on Facebook here: https://www.facebook.com/StAndrewsEpiscopalChurchFullerton or on YouTube here: https://www.youtube.com/@st.andrewsfullertonsermons/streams \nYou can also enjoy previously recorded sessions on YouTube: https://www.youtube.com/user/JerichoWall
URL:https://saintandrewsfullerton.com/events/contemplative-piano-with-joshua-wood-3/2030-01-22/
LOCATION:St. Andrew’s Episcopal Church\, 1231 E Chapman Ave\, Fullerton\, California\, 92831
CATEGORIES:Streaming Service
ATTACH;FMTTYPE=image/jpeg:https://saintandrewsfullerton.com/wp-content/uploads/2021/10/Josh-at-piano-landscape-close-facing-organ.jpeg
END:VEVENT
BEGIN:VEVENT
DTSTART;TZID=America/Los_Angeles:20300127T110000
DTEND;TZID=America/Los_Angeles:20300127T120000
DTSTAMP:20260422T182936
CREATED:20251105T170106Z
LAST-MODIFIED:20260227T212827Z
UID:10008525-1895742000-1895745600@saintandrewsfullerton.com
SUMMARY:Holy Eucharist with Choir in the Sanctuary and Sunday School/Nursery in Moody Hall
DESCRIPTION:Join us for In-Person and Live Stream Worship. \nClick here to watch on Facebook. \nClick here to watch on YouTube.
URL:https://saintandrewsfullerton.com/events/holy-eucharist-with-choir-in-the-sanctuary-and-sunday-school-nursery-in-moody-hall/2030-01-27/
LOCATION:St. Andrew’s Episcopal Church\, 1231 E Chapman Ave\, Fullerton\, California\, 92831
CATEGORIES:Streaming Service
ATTACH;FMTTYPE=image/jpeg:https://saintandrewsfullerton.com/wp-content/uploads/2025/11/Choir-02-14-2026-Resized.jpg
END:VEVENT
BEGIN:VEVENT
DTSTART;TZID=America/Los_Angeles:20300203T110000
DTEND;TZID=America/Los_Angeles:20300203T120000
DTSTAMP:20260422T182936
CREATED:20251105T170106Z
LAST-MODIFIED:20260227T212827Z
UID:10008526-1896346800-1896350400@saintandrewsfullerton.com
SUMMARY:Holy Eucharist with Choir in the Sanctuary and Sunday School/Nursery in Moody Hall
DESCRIPTION:Join us for In-Person and Live Stream Worship. \nClick here to watch on Facebook. \nClick here to watch on YouTube.
URL:https://saintandrewsfullerton.com/events/holy-eucharist-with-choir-in-the-sanctuary-and-sunday-school-nursery-in-moody-hall/2030-02-03/
LOCATION:St. Andrew’s Episcopal Church\, 1231 E Chapman Ave\, Fullerton\, California\, 92831
CATEGORIES:Streaming Service
ATTACH;FMTTYPE=image/jpeg:https://saintandrewsfullerton.com/wp-content/uploads/2025/11/Choir-02-14-2026-Resized.jpg
END:VEVENT
BEGIN:VEVENT
DTSTART;TZID=America/Los_Angeles:20300210T110000
DTEND;TZID=America/Los_Angeles:20300210T120000
DTSTAMP:20260422T182936
CREATED:20251105T170106Z
LAST-MODIFIED:20260227T212827Z
UID:10008527-1896951600-1896955200@saintandrewsfullerton.com
SUMMARY:Holy Eucharist with Choir in the Sanctuary and Sunday School/Nursery in Moody Hall
DESCRIPTION:Join us for In-Person and Live Stream Worship. \nClick here to watch on Facebook. \nClick here to watch on YouTube.
URL:https://saintandrewsfullerton.com/events/holy-eucharist-with-choir-in-the-sanctuary-and-sunday-school-nursery-in-moody-hall/2030-02-10/
LOCATION:St. Andrew’s Episcopal Church\, 1231 E Chapman Ave\, Fullerton\, California\, 92831
CATEGORIES:Streaming Service
ATTACH;FMTTYPE=image/jpeg:https://saintandrewsfullerton.com/wp-content/uploads/2025/11/Choir-02-14-2026-Resized.jpg
END:VEVENT
BEGIN:VEVENT
DTSTART;TZID=America/Los_Angeles:20300217T110000
DTEND;TZID=America/Los_Angeles:20300217T120000
DTSTAMP:20260422T182936
CREATED:20251105T170106Z
LAST-MODIFIED:20260227T212827Z
UID:10008528-1897556400-1897560000@saintandrewsfullerton.com
SUMMARY:Holy Eucharist with Choir in the Sanctuary and Sunday School/Nursery in Moody Hall
DESCRIPTION:Join us for In-Person and Live Stream Worship. \nClick here to watch on Facebook. \nClick here to watch on YouTube.
URL:https://saintandrewsfullerton.com/events/holy-eucharist-with-choir-in-the-sanctuary-and-sunday-school-nursery-in-moody-hall/2030-02-17/
LOCATION:St. Andrew’s Episcopal Church\, 1231 E Chapman Ave\, Fullerton\, California\, 92831
CATEGORIES:Streaming Service
ATTACH;FMTTYPE=image/jpeg:https://saintandrewsfullerton.com/wp-content/uploads/2025/11/Choir-02-14-2026-Resized.jpg
END:VEVENT
BEGIN:VEVENT
DTSTART;TZID=America/Los_Angeles:20300224T110000
DTEND;TZID=America/Los_Angeles:20300224T120000
DTSTAMP:20260422T182936
CREATED:20251105T170106Z
LAST-MODIFIED:20260227T212827Z
UID:10008529-1898161200-1898164800@saintandrewsfullerton.com
SUMMARY:Holy Eucharist with Choir in the Sanctuary and Sunday School/Nursery in Moody Hall
DESCRIPTION:Join us for In-Person and Live Stream Worship. \nClick here to watch on Facebook. \nClick here to watch on YouTube.
URL:https://saintandrewsfullerton.com/events/holy-eucharist-with-choir-in-the-sanctuary-and-sunday-school-nursery-in-moody-hall/2030-02-24/
LOCATION:St. Andrew’s Episcopal Church\, 1231 E Chapman Ave\, Fullerton\, California\, 92831
CATEGORIES:Streaming Service
ATTACH;FMTTYPE=image/jpeg:https://saintandrewsfullerton.com/wp-content/uploads/2025/11/Choir-02-14-2026-Resized.jpg
END:VEVENT
BEGIN:VEVENT
DTSTART;TZID=America/Los_Angeles:20300226T190000
DTEND;TZID=America/Los_Angeles:20300226T193000
DTSTAMP:20260422T182936
CREATED:20251119T210610Z
LAST-MODIFIED:20251119T210733Z
UID:10009014-1898362800-1898364600@saintandrewsfullerton.com
SUMMARY:Contemplative Piano with Joshua Wood
DESCRIPTION:Join us in the sanctuary on the second and fourth Tuesdays of the month for Contemplative Piano with Joshua Wood. Enjoy over 30 minutes of uninterrupted piano music. \nIf you can’t join in person\, you can livestream the service on Facebook here: https://www.facebook.com/StAndrewsEpiscopalChurchFullerton or on YouTube here: https://www.youtube.com/@st.andrewsfullertonsermons/streams \nYou can also enjoy previously recorded sessions on YouTube: https://www.youtube.com/user/JerichoWall
URL:https://saintandrewsfullerton.com/events/contemplative-piano-with-joshua-wood-3/2030-02-26/
LOCATION:St. Andrew’s Episcopal Church\, 1231 E Chapman Ave\, Fullerton\, California\, 92831
CATEGORIES:Streaming Service
ATTACH;FMTTYPE=image/jpeg:https://saintandrewsfullerton.com/wp-content/uploads/2021/10/Josh-at-piano-landscape-close-facing-organ.jpeg
END:VEVENT
BEGIN:VEVENT
DTSTART;TZID=America/Los_Angeles:20300303T110000
DTEND;TZID=America/Los_Angeles:20300303T120000
DTSTAMP:20260422T182936
CREATED:20251105T170106Z
LAST-MODIFIED:20260227T212827Z
UID:10008530-1898766000-1898769600@saintandrewsfullerton.com
SUMMARY:Holy Eucharist with Choir in the Sanctuary and Sunday School/Nursery in Moody Hall
DESCRIPTION:Join us for In-Person and Live Stream Worship. \nClick here to watch on Facebook. \nClick here to watch on YouTube.
URL:https://saintandrewsfullerton.com/events/holy-eucharist-with-choir-in-the-sanctuary-and-sunday-school-nursery-in-moody-hall/2030-03-03/
LOCATION:St. Andrew’s Episcopal Church\, 1231 E Chapman Ave\, Fullerton\, California\, 92831
CATEGORIES:Streaming Service
ATTACH;FMTTYPE=image/jpeg:https://saintandrewsfullerton.com/wp-content/uploads/2025/11/Choir-02-14-2026-Resized.jpg
END:VEVENT
BEGIN:VEVENT
DTSTART;TZID=America/Los_Angeles:20300310T110000
DTEND;TZID=America/Los_Angeles:20300310T120000
DTSTAMP:20260422T182936
CREATED:20251105T170106Z
LAST-MODIFIED:20260227T212827Z
UID:10008531-1899370800-1899374400@saintandrewsfullerton.com
SUMMARY:Holy Eucharist with Choir in the Sanctuary and Sunday School/Nursery in Moody Hall
DESCRIPTION:Join us for In-Person and Live Stream Worship. \nClick here to watch on Facebook. \nClick here to watch on YouTube.
URL:https://saintandrewsfullerton.com/events/holy-eucharist-with-choir-in-the-sanctuary-and-sunday-school-nursery-in-moody-hall/2030-03-10/
LOCATION:St. Andrew’s Episcopal Church\, 1231 E Chapman Ave\, Fullerton\, California\, 92831
CATEGORIES:Streaming Service
ATTACH;FMTTYPE=image/jpeg:https://saintandrewsfullerton.com/wp-content/uploads/2025/11/Choir-02-14-2026-Resized.jpg
END:VEVENT
BEGIN:VEVENT
DTSTART;TZID=America/Los_Angeles:20300317T110000
DTEND;TZID=America/Los_Angeles:20300317T120000
DTSTAMP:20260422T182936
CREATED:20251105T170106Z
LAST-MODIFIED:20260227T212827Z
UID:10008532-1899975600-1899979200@saintandrewsfullerton.com
SUMMARY:Holy Eucharist with Choir in the Sanctuary and Sunday School/Nursery in Moody Hall
DESCRIPTION:Join us for In-Person and Live Stream Worship. \nClick here to watch on Facebook. \nClick here to watch on YouTube.
URL:https://saintandrewsfullerton.com/events/holy-eucharist-with-choir-in-the-sanctuary-and-sunday-school-nursery-in-moody-hall/2030-03-17/
LOCATION:St. Andrew’s Episcopal Church\, 1231 E Chapman Ave\, Fullerton\, California\, 92831
CATEGORIES:Streaming Service
ATTACH;FMTTYPE=image/jpeg:https://saintandrewsfullerton.com/wp-content/uploads/2025/11/Choir-02-14-2026-Resized.jpg
END:VEVENT
BEGIN:VEVENT
DTSTART;TZID=America/Los_Angeles:20300324T110000
DTEND;TZID=America/Los_Angeles:20300324T120000
DTSTAMP:20260422T182936
CREATED:20251105T170106Z
LAST-MODIFIED:20260227T212827Z
UID:10008533-1900580400-1900584000@saintandrewsfullerton.com
SUMMARY:Holy Eucharist with Choir in the Sanctuary and Sunday School/Nursery in Moody Hall
DESCRIPTION:Join us for In-Person and Live Stream Worship. \nClick here to watch on Facebook. \nClick here to watch on YouTube.
URL:https://saintandrewsfullerton.com/events/holy-eucharist-with-choir-in-the-sanctuary-and-sunday-school-nursery-in-moody-hall/2030-03-24/
LOCATION:St. Andrew’s Episcopal Church\, 1231 E Chapman Ave\, Fullerton\, California\, 92831
CATEGORIES:Streaming Service
ATTACH;FMTTYPE=image/jpeg:https://saintandrewsfullerton.com/wp-content/uploads/2025/11/Choir-02-14-2026-Resized.jpg
END:VEVENT
BEGIN:VEVENT
DTSTART;TZID=America/Los_Angeles:20300326T190000
DTEND;TZID=America/Los_Angeles:20300326T193000
DTSTAMP:20260422T182936
CREATED:20251119T210610Z
LAST-MODIFIED:20251119T210733Z
UID:10009015-1900782000-1900783800@saintandrewsfullerton.com
SUMMARY:Contemplative Piano with Joshua Wood
DESCRIPTION:Join us in the sanctuary on the second and fourth Tuesdays of the month for Contemplative Piano with Joshua Wood. Enjoy over 30 minutes of uninterrupted piano music. \nIf you can’t join in person\, you can livestream the service on Facebook here: https://www.facebook.com/StAndrewsEpiscopalChurchFullerton or on YouTube here: https://www.youtube.com/@st.andrewsfullertonsermons/streams \nYou can also enjoy previously recorded sessions on YouTube: https://www.youtube.com/user/JerichoWall
URL:https://saintandrewsfullerton.com/events/contemplative-piano-with-joshua-wood-3/2030-03-26/
LOCATION:St. Andrew’s Episcopal Church\, 1231 E Chapman Ave\, Fullerton\, California\, 92831
CATEGORIES:Streaming Service
ATTACH;FMTTYPE=image/jpeg:https://saintandrewsfullerton.com/wp-content/uploads/2021/10/Josh-at-piano-landscape-close-facing-organ.jpeg
END:VEVENT
BEGIN:VEVENT
DTSTART;TZID=America/Los_Angeles:20300331T110000
DTEND;TZID=America/Los_Angeles:20300331T120000
DTSTAMP:20260422T182936
CREATED:20251105T170106Z
LAST-MODIFIED:20260227T212827Z
UID:10008534-1901185200-1901188800@saintandrewsfullerton.com
SUMMARY:Holy Eucharist with Choir in the Sanctuary and Sunday School/Nursery in Moody Hall
DESCRIPTION:Join us for In-Person and Live Stream Worship. \nClick here to watch on Facebook. \nClick here to watch on YouTube.
URL:https://saintandrewsfullerton.com/events/holy-eucharist-with-choir-in-the-sanctuary-and-sunday-school-nursery-in-moody-hall/2030-03-31/
LOCATION:St. Andrew’s Episcopal Church\, 1231 E Chapman Ave\, Fullerton\, California\, 92831
CATEGORIES:Streaming Service
ATTACH;FMTTYPE=image/jpeg:https://saintandrewsfullerton.com/wp-content/uploads/2025/11/Choir-02-14-2026-Resized.jpg
END:VEVENT
BEGIN:VEVENT
DTSTART;TZID=America/Los_Angeles:20300407T110000
DTEND;TZID=America/Los_Angeles:20300407T120000
DTSTAMP:20260422T182936
CREATED:20251105T170106Z
LAST-MODIFIED:20260227T212827Z
UID:10008535-1901790000-1901793600@saintandrewsfullerton.com
SUMMARY:Holy Eucharist with Choir in the Sanctuary and Sunday School/Nursery in Moody Hall
DESCRIPTION:Join us for In-Person and Live Stream Worship. \nClick here to watch on Facebook. \nClick here to watch on YouTube.
URL:https://saintandrewsfullerton.com/events/holy-eucharist-with-choir-in-the-sanctuary-and-sunday-school-nursery-in-moody-hall/2030-04-07/
LOCATION:St. Andrew’s Episcopal Church\, 1231 E Chapman Ave\, Fullerton\, California\, 92831
CATEGORIES:Streaming Service
ATTACH;FMTTYPE=image/jpeg:https://saintandrewsfullerton.com/wp-content/uploads/2025/11/Choir-02-14-2026-Resized.jpg
END:VEVENT
BEGIN:VEVENT
DTSTART;TZID=America/Los_Angeles:20300414T110000
DTEND;TZID=America/Los_Angeles:20300414T120000
DTSTAMP:20260422T182936
CREATED:20251105T170106Z
LAST-MODIFIED:20260227T212827Z
UID:10008536-1902394800-1902398400@saintandrewsfullerton.com
SUMMARY:Holy Eucharist with Choir in the Sanctuary and Sunday School/Nursery in Moody Hall
DESCRIPTION:Join us for In-Person and Live Stream Worship. \nClick here to watch on Facebook. \nClick here to watch on YouTube.
URL:https://saintandrewsfullerton.com/events/holy-eucharist-with-choir-in-the-sanctuary-and-sunday-school-nursery-in-moody-hall/2030-04-14/
LOCATION:St. Andrew’s Episcopal Church\, 1231 E Chapman Ave\, Fullerton\, California\, 92831
CATEGORIES:Streaming Service
ATTACH;FMTTYPE=image/jpeg:https://saintandrewsfullerton.com/wp-content/uploads/2025/11/Choir-02-14-2026-Resized.jpg
END:VEVENT
BEGIN:VEVENT
DTSTART;TZID=America/Los_Angeles:20300421T110000
DTEND;TZID=America/Los_Angeles:20300421T120000
DTSTAMP:20260422T182936
CREATED:20251105T170106Z
LAST-MODIFIED:20260227T212827Z
UID:10008537-1902999600-1903003200@saintandrewsfullerton.com
SUMMARY:Holy Eucharist with Choir in the Sanctuary and Sunday School/Nursery in Moody Hall
DESCRIPTION:Join us for In-Person and Live Stream Worship. \nClick here to watch on Facebook. \nClick here to watch on YouTube.
URL:https://saintandrewsfullerton.com/events/holy-eucharist-with-choir-in-the-sanctuary-and-sunday-school-nursery-in-moody-hall/2030-04-21/
LOCATION:St. Andrew’s Episcopal Church\, 1231 E Chapman Ave\, Fullerton\, California\, 92831
CATEGORIES:Streaming Service
ATTACH;FMTTYPE=image/jpeg:https://saintandrewsfullerton.com/wp-content/uploads/2025/11/Choir-02-14-2026-Resized.jpg
END:VEVENT
BEGIN:VEVENT
DTSTART;TZID=America/Los_Angeles:20300423T190000
DTEND;TZID=America/Los_Angeles:20300423T193000
DTSTAMP:20260422T182936
CREATED:20251119T210610Z
LAST-MODIFIED:20251119T210733Z
UID:10009016-1903201200-1903203000@saintandrewsfullerton.com
SUMMARY:Contemplative Piano with Joshua Wood
DESCRIPTION:Join us in the sanctuary on the second and fourth Tuesdays of the month for Contemplative Piano with Joshua Wood. Enjoy over 30 minutes of uninterrupted piano music. \nIf you can’t join in person\, you can livestream the service on Facebook here: https://www.facebook.com/StAndrewsEpiscopalChurchFullerton or on YouTube here: https://www.youtube.com/@st.andrewsfullertonsermons/streams \nYou can also enjoy previously recorded sessions on YouTube: https://www.youtube.com/user/JerichoWall
URL:https://saintandrewsfullerton.com/events/contemplative-piano-with-joshua-wood-3/2030-04-23/
LOCATION:St. Andrew’s Episcopal Church\, 1231 E Chapman Ave\, Fullerton\, California\, 92831
CATEGORIES:Streaming Service
ATTACH;FMTTYPE=image/jpeg:https://saintandrewsfullerton.com/wp-content/uploads/2021/10/Josh-at-piano-landscape-close-facing-organ.jpeg
END:VEVENT
BEGIN:VEVENT
DTSTART;TZID=America/Los_Angeles:20300428T110000
DTEND;TZID=America/Los_Angeles:20300428T120000
DTSTAMP:20260422T182936
CREATED:20251105T170106Z
LAST-MODIFIED:20260227T212827Z
UID:10008538-1903604400-1903608000@saintandrewsfullerton.com
SUMMARY:Holy Eucharist with Choir in the Sanctuary and Sunday School/Nursery in Moody Hall
DESCRIPTION:Join us for In-Person and Live Stream Worship. \nClick here to watch on Facebook. \nClick here to watch on YouTube.
URL:https://saintandrewsfullerton.com/events/holy-eucharist-with-choir-in-the-sanctuary-and-sunday-school-nursery-in-moody-hall/2030-04-28/
LOCATION:St. Andrew’s Episcopal Church\, 1231 E Chapman Ave\, Fullerton\, California\, 92831
CATEGORIES:Streaming Service
ATTACH;FMTTYPE=image/jpeg:https://saintandrewsfullerton.com/wp-content/uploads/2025/11/Choir-02-14-2026-Resized.jpg
END:VEVENT
BEGIN:VEVENT
DTSTART;TZID=America/Los_Angeles:20300505T110000
DTEND;TZID=America/Los_Angeles:20300505T120000
DTSTAMP:20260422T182936
CREATED:20251105T170106Z
LAST-MODIFIED:20260227T212827Z
UID:10008539-1904209200-1904212800@saintandrewsfullerton.com
SUMMARY:Holy Eucharist with Choir in the Sanctuary and Sunday School/Nursery in Moody Hall
DESCRIPTION:Join us for In-Person and Live Stream Worship. \nClick here to watch on Facebook. \nClick here to watch on YouTube.
URL:https://saintandrewsfullerton.com/events/holy-eucharist-with-choir-in-the-sanctuary-and-sunday-school-nursery-in-moody-hall/2030-05-05/
LOCATION:St. Andrew’s Episcopal Church\, 1231 E Chapman Ave\, Fullerton\, California\, 92831
CATEGORIES:Streaming Service
ATTACH;FMTTYPE=image/jpeg:https://saintandrewsfullerton.com/wp-content/uploads/2025/11/Choir-02-14-2026-Resized.jpg
END:VEVENT
BEGIN:VEVENT
DTSTART;TZID=America/Los_Angeles:20300512T110000
DTEND;TZID=America/Los_Angeles:20300512T120000
DTSTAMP:20260422T182936
CREATED:20251105T170106Z
LAST-MODIFIED:20260227T212827Z
UID:10008540-1904814000-1904817600@saintandrewsfullerton.com
SUMMARY:Holy Eucharist with Choir in the Sanctuary and Sunday School/Nursery in Moody Hall
DESCRIPTION:Join us for In-Person and Live Stream Worship. \nClick here to watch on Facebook. \nClick here to watch on YouTube.
URL:https://saintandrewsfullerton.com/events/holy-eucharist-with-choir-in-the-sanctuary-and-sunday-school-nursery-in-moody-hall/2030-05-12/
LOCATION:St. Andrew’s Episcopal Church\, 1231 E Chapman Ave\, Fullerton\, California\, 92831
CATEGORIES:Streaming Service
ATTACH;FMTTYPE=image/jpeg:https://saintandrewsfullerton.com/wp-content/uploads/2025/11/Choir-02-14-2026-Resized.jpg
END:VEVENT
BEGIN:VEVENT
DTSTART;TZID=America/Los_Angeles:20300519T110000
DTEND;TZID=America/Los_Angeles:20300519T120000
DTSTAMP:20260422T182936
CREATED:20251105T170106Z
LAST-MODIFIED:20260227T212827Z
UID:10008541-1905418800-1905422400@saintandrewsfullerton.com
SUMMARY:Holy Eucharist with Choir in the Sanctuary and Sunday School/Nursery in Moody Hall
DESCRIPTION:Join us for In-Person and Live Stream Worship. \nClick here to watch on Facebook. \nClick here to watch on YouTube.
URL:https://saintandrewsfullerton.com/events/holy-eucharist-with-choir-in-the-sanctuary-and-sunday-school-nursery-in-moody-hall/2030-05-19/
LOCATION:St. Andrew’s Episcopal Church\, 1231 E Chapman Ave\, Fullerton\, California\, 92831
CATEGORIES:Streaming Service
ATTACH;FMTTYPE=image/jpeg:https://saintandrewsfullerton.com/wp-content/uploads/2025/11/Choir-02-14-2026-Resized.jpg
END:VEVENT
BEGIN:VEVENT
DTSTART;TZID=America/Los_Angeles:20300526T110000
DTEND;TZID=America/Los_Angeles:20300526T120000
DTSTAMP:20260422T182937
CREATED:20251105T170106Z
LAST-MODIFIED:20260227T212827Z
UID:10008542-1906023600-1906027200@saintandrewsfullerton.com
SUMMARY:Holy Eucharist with Choir in the Sanctuary and Sunday School/Nursery in Moody Hall
DESCRIPTION:Join us for In-Person and Live Stream Worship. \nClick here to watch on Facebook. \nClick here to watch on YouTube.
URL:https://saintandrewsfullerton.com/events/holy-eucharist-with-choir-in-the-sanctuary-and-sunday-school-nursery-in-moody-hall/2030-05-26/
LOCATION:St. Andrew’s Episcopal Church\, 1231 E Chapman Ave\, Fullerton\, California\, 92831
CATEGORIES:Streaming Service
ATTACH;FMTTYPE=image/jpeg:https://saintandrewsfullerton.com/wp-content/uploads/2025/11/Choir-02-14-2026-Resized.jpg
END:VEVENT
BEGIN:VEVENT
DTSTART;TZID=America/Los_Angeles:20300528T190000
DTEND;TZID=America/Los_Angeles:20300528T193000
DTSTAMP:20260422T182937
CREATED:20251119T210610Z
LAST-MODIFIED:20251119T210733Z
UID:10009017-1906225200-1906227000@saintandrewsfullerton.com
SUMMARY:Contemplative Piano with Joshua Wood
DESCRIPTION:Join us in the sanctuary on the second and fourth Tuesdays of the month for Contemplative Piano with Joshua Wood. Enjoy over 30 minutes of uninterrupted piano music. \nIf you can’t join in person\, you can livestream the service on Facebook here: https://www.facebook.com/StAndrewsEpiscopalChurchFullerton or on YouTube here: https://www.youtube.com/@st.andrewsfullertonsermons/streams \nYou can also enjoy previously recorded sessions on YouTube: https://www.youtube.com/user/JerichoWall
URL:https://saintandrewsfullerton.com/events/contemplative-piano-with-joshua-wood-3/2030-05-28/
LOCATION:St. Andrew’s Episcopal Church\, 1231 E Chapman Ave\, Fullerton\, California\, 92831
CATEGORIES:Streaming Service
ATTACH;FMTTYPE=image/jpeg:https://saintandrewsfullerton.com/wp-content/uploads/2021/10/Josh-at-piano-landscape-close-facing-organ.jpeg
END:VEVENT
BEGIN:VEVENT
DTSTART;TZID=America/Los_Angeles:20300602T110000
DTEND;TZID=America/Los_Angeles:20300602T120000
DTSTAMP:20260422T182937
CREATED:20251105T170106Z
LAST-MODIFIED:20260227T212827Z
UID:10008543-1906628400-1906632000@saintandrewsfullerton.com
SUMMARY:Holy Eucharist with Choir in the Sanctuary and Sunday School/Nursery in Moody Hall
DESCRIPTION:Join us for In-Person and Live Stream Worship. \nClick here to watch on Facebook. \nClick here to watch on YouTube.
URL:https://saintandrewsfullerton.com/events/holy-eucharist-with-choir-in-the-sanctuary-and-sunday-school-nursery-in-moody-hall/2030-06-02/
LOCATION:St. Andrew’s Episcopal Church\, 1231 E Chapman Ave\, Fullerton\, California\, 92831
CATEGORIES:Streaming Service
ATTACH;FMTTYPE=image/jpeg:https://saintandrewsfullerton.com/wp-content/uploads/2025/11/Choir-02-14-2026-Resized.jpg
END:VEVENT
BEGIN:VEVENT
DTSTART;TZID=America/Los_Angeles:20300609T110000
DTEND;TZID=America/Los_Angeles:20300609T120000
DTSTAMP:20260422T182937
CREATED:20251105T170106Z
LAST-MODIFIED:20260227T212827Z
UID:10008544-1907233200-1907236800@saintandrewsfullerton.com
SUMMARY:Holy Eucharist with Choir in the Sanctuary and Sunday School/Nursery in Moody Hall
DESCRIPTION:Join us for In-Person and Live Stream Worship. \nClick here to watch on Facebook. \nClick here to watch on YouTube.
URL:https://saintandrewsfullerton.com/events/holy-eucharist-with-choir-in-the-sanctuary-and-sunday-school-nursery-in-moody-hall/2030-06-09/
LOCATION:St. Andrew’s Episcopal Church\, 1231 E Chapman Ave\, Fullerton\, California\, 92831
CATEGORIES:Streaming Service
ATTACH;FMTTYPE=image/jpeg:https://saintandrewsfullerton.com/wp-content/uploads/2025/11/Choir-02-14-2026-Resized.jpg
END:VEVENT
BEGIN:VEVENT
DTSTART;TZID=America/Los_Angeles:20300616T110000
DTEND;TZID=America/Los_Angeles:20300616T120000
DTSTAMP:20260422T182937
CREATED:20251105T170106Z
LAST-MODIFIED:20260227T212827Z
UID:10008545-1907838000-1907841600@saintandrewsfullerton.com
SUMMARY:Holy Eucharist with Choir in the Sanctuary and Sunday School/Nursery in Moody Hall
DESCRIPTION:Join us for In-Person and Live Stream Worship. \nClick here to watch on Facebook. \nClick here to watch on YouTube.
URL:https://saintandrewsfullerton.com/events/holy-eucharist-with-choir-in-the-sanctuary-and-sunday-school-nursery-in-moody-hall/2030-06-16/
LOCATION:St. Andrew’s Episcopal Church\, 1231 E Chapman Ave\, Fullerton\, California\, 92831
CATEGORIES:Streaming Service
ATTACH;FMTTYPE=image/jpeg:https://saintandrewsfullerton.com/wp-content/uploads/2025/11/Choir-02-14-2026-Resized.jpg
END:VEVENT
BEGIN:VEVENT
DTSTART;TZID=America/Los_Angeles:20300623T110000
DTEND;TZID=America/Los_Angeles:20300623T120000
DTSTAMP:20260422T182937
CREATED:20251105T170106Z
LAST-MODIFIED:20260227T212827Z
UID:10008546-1908442800-1908446400@saintandrewsfullerton.com
SUMMARY:Holy Eucharist with Choir in the Sanctuary and Sunday School/Nursery in Moody Hall
DESCRIPTION:Join us for In-Person and Live Stream Worship. \nClick here to watch on Facebook. \nClick here to watch on YouTube.
URL:https://saintandrewsfullerton.com/events/holy-eucharist-with-choir-in-the-sanctuary-and-sunday-school-nursery-in-moody-hall/2030-06-23/
LOCATION:St. Andrew’s Episcopal Church\, 1231 E Chapman Ave\, Fullerton\, California\, 92831
CATEGORIES:Streaming Service
ATTACH;FMTTYPE=image/jpeg:https://saintandrewsfullerton.com/wp-content/uploads/2025/11/Choir-02-14-2026-Resized.jpg
END:VEVENT
BEGIN:VEVENT
DTSTART;TZID=America/Los_Angeles:20300625T190000
DTEND;TZID=America/Los_Angeles:20300625T193000
DTSTAMP:20260422T182937
CREATED:20251119T210610Z
LAST-MODIFIED:20251119T210733Z
UID:10009018-1908644400-1908646200@saintandrewsfullerton.com
SUMMARY:Contemplative Piano with Joshua Wood
DESCRIPTION:Join us in the sanctuary on the second and fourth Tuesdays of the month for Contemplative Piano with Joshua Wood. Enjoy over 30 minutes of uninterrupted piano music. \nIf you can’t join in person\, you can livestream the service on Facebook here: https://www.facebook.com/StAndrewsEpiscopalChurchFullerton or on YouTube here: https://www.youtube.com/@st.andrewsfullertonsermons/streams \nYou can also enjoy previously recorded sessions on YouTube: https://www.youtube.com/user/JerichoWall
URL:https://saintandrewsfullerton.com/events/contemplative-piano-with-joshua-wood-3/2030-06-25/
LOCATION:St. Andrew’s Episcopal Church\, 1231 E Chapman Ave\, Fullerton\, California\, 92831
CATEGORIES:Streaming Service
ATTACH;FMTTYPE=image/jpeg:https://saintandrewsfullerton.com/wp-content/uploads/2021/10/Josh-at-piano-landscape-close-facing-organ.jpeg
END:VEVENT
BEGIN:VEVENT
DTSTART;TZID=America/Los_Angeles:20300630T110000
DTEND;TZID=America/Los_Angeles:20300630T120000
DTSTAMP:20260422T182937
CREATED:20251105T170106Z
LAST-MODIFIED:20260227T212827Z
UID:10008547-1909047600-1909051200@saintandrewsfullerton.com
SUMMARY:Holy Eucharist with Choir in the Sanctuary and Sunday School/Nursery in Moody Hall
DESCRIPTION:Join us for In-Person and Live Stream Worship. \nClick here to watch on Facebook. \nClick here to watch on YouTube.
URL:https://saintandrewsfullerton.com/events/holy-eucharist-with-choir-in-the-sanctuary-and-sunday-school-nursery-in-moody-hall/2030-06-30/
LOCATION:St. Andrew’s Episcopal Church\, 1231 E Chapman Ave\, Fullerton\, California\, 92831
CATEGORIES:Streaming Service
ATTACH;FMTTYPE=image/jpeg:https://saintandrewsfullerton.com/wp-content/uploads/2025/11/Choir-02-14-2026-Resized.jpg
END:VEVENT
BEGIN:VEVENT
DTSTART;TZID=America/Los_Angeles:20300707T110000
DTEND;TZID=America/Los_Angeles:20300707T120000
DTSTAMP:20260422T182937
CREATED:20251105T170106Z
LAST-MODIFIED:20260227T212827Z
UID:10008548-1909652400-1909656000@saintandrewsfullerton.com
SUMMARY:Holy Eucharist with Choir in the Sanctuary and Sunday School/Nursery in Moody Hall
DESCRIPTION:Join us for In-Person and Live Stream Worship. \nClick here to watch on Facebook. \nClick here to watch on YouTube.
URL:https://saintandrewsfullerton.com/events/holy-eucharist-with-choir-in-the-sanctuary-and-sunday-school-nursery-in-moody-hall/2030-07-07/
LOCATION:St. Andrew’s Episcopal Church\, 1231 E Chapman Ave\, Fullerton\, California\, 92831
CATEGORIES:Streaming Service
ATTACH;FMTTYPE=image/jpeg:https://saintandrewsfullerton.com/wp-content/uploads/2025/11/Choir-02-14-2026-Resized.jpg
END:VEVENT
END:VCALENDAR