BEGIN:VCALENDAR
VERSION:2.0
PRODID:-//Saint Andrew&#039;s Episcopal Church, Fullerton CA - ECPv6.15.20//NONSGML v1.0//EN
CALSCALE:GREGORIAN
METHOD:PUBLISH
X-WR-CALNAME:Saint Andrew&#039;s Episcopal Church, Fullerton CA
X-ORIGINAL-URL:https://saintandrewsfullerton.com
X-WR-CALDESC:Events for Saint Andrew&#039;s Episcopal Church, Fullerton CA
REFRESH-INTERVAL;VALUE=DURATION:PT1H
X-Robots-Tag:noindex
X-PUBLISHED-TTL:PT1H
BEGIN:VTIMEZONE
TZID:America/Los_Angeles
BEGIN:DAYLIGHT
TZOFFSETFROM:-0800
TZOFFSETTO:-0700
TZNAME:PDT
DTSTART:20260308T100000
END:DAYLIGHT
BEGIN:STANDARD
TZOFFSETFROM:-0700
TZOFFSETTO:-0800
TZNAME:PST
DTSTART:20261101T090000
END:STANDARD
BEGIN:DAYLIGHT
TZOFFSETFROM:-0800
TZOFFSETTO:-0700
TZNAME:PDT
DTSTART:20270314T100000
END:DAYLIGHT
BEGIN:STANDARD
TZOFFSETFROM:-0700
TZOFFSETTO:-0800
TZNAME:PST
DTSTART:20271107T090000
END:STANDARD
BEGIN:DAYLIGHT
TZOFFSETFROM:-0800
TZOFFSETTO:-0700
TZNAME:PDT
DTSTART:20280312T100000
END:DAYLIGHT
BEGIN:STANDARD
TZOFFSETFROM:-0700
TZOFFSETTO:-0800
TZNAME:PST
DTSTART:20281105T090000
END:STANDARD
BEGIN:DAYLIGHT
TZOFFSETFROM:-0800
TZOFFSETTO:-0700
TZNAME:PDT
DTSTART:20290311T100000
END:DAYLIGHT
BEGIN:STANDARD
TZOFFSETFROM:-0700
TZOFFSETTO:-0800
TZNAME:PST
DTSTART:20291104T090000
END:STANDARD
END:VTIMEZONE
BEGIN:VEVENT
DTSTART;TZID=America/Los_Angeles:20270822T110000
DTEND;TZID=America/Los_Angeles:20270822T120000
DTSTAMP:20260421T185026
CREATED:20251105T170106Z
LAST-MODIFIED:20260227T212827Z
UID:10008398-1818932400-1818936000@saintandrewsfullerton.com
SUMMARY:Holy Eucharist with Choir in the Sanctuary and Sunday School/Nursery in Moody Hall
DESCRIPTION:Join us for In-Person and Live Stream Worship. \nClick here to watch on Facebook. \nClick here to watch on YouTube.
URL:https://saintandrewsfullerton.com/events/holy-eucharist-with-choir-in-the-sanctuary-and-sunday-school-nursery-in-moody-hall/2027-08-22/
LOCATION:St. Andrew’s Episcopal Church\, 1231 E Chapman Ave\, Fullerton\, California\, 92831
CATEGORIES:Streaming Service
ATTACH;FMTTYPE=image/jpeg:https://saintandrewsfullerton.com/wp-content/uploads/2025/11/Choir-02-14-2026-Resized.jpg
END:VEVENT
BEGIN:VEVENT
DTSTART;TZID=America/Los_Angeles:20270824T190000
DTEND;TZID=America/Los_Angeles:20270824T193000
DTSTAMP:20260421T185026
CREATED:20251119T210610Z
LAST-MODIFIED:20251119T210733Z
UID:10008984-1819134000-1819135800@saintandrewsfullerton.com
SUMMARY:Contemplative Piano with Joshua Wood
DESCRIPTION:Join us in the sanctuary on the second and fourth Tuesdays of the month for Contemplative Piano with Joshua Wood. Enjoy over 30 minutes of uninterrupted piano music. \nIf you can’t join in person\, you can livestream the service on Facebook here: https://www.facebook.com/StAndrewsEpiscopalChurchFullerton or on YouTube here: https://www.youtube.com/@st.andrewsfullertonsermons/streams \nYou can also enjoy previously recorded sessions on YouTube: https://www.youtube.com/user/JerichoWall
URL:https://saintandrewsfullerton.com/events/contemplative-piano-with-joshua-wood-3/2027-08-24/
LOCATION:St. Andrew’s Episcopal Church\, 1231 E Chapman Ave\, Fullerton\, California\, 92831
CATEGORIES:Streaming Service
ATTACH;FMTTYPE=image/jpeg:https://saintandrewsfullerton.com/wp-content/uploads/2021/10/Josh-at-piano-landscape-close-facing-organ.jpeg
END:VEVENT
BEGIN:VEVENT
DTSTART;TZID=America/Los_Angeles:20270829T110000
DTEND;TZID=America/Los_Angeles:20270829T120000
DTSTAMP:20260421T185026
CREATED:20251105T170106Z
LAST-MODIFIED:20260227T212827Z
UID:10008399-1819537200-1819540800@saintandrewsfullerton.com
SUMMARY:Holy Eucharist with Choir in the Sanctuary and Sunday School/Nursery in Moody Hall
DESCRIPTION:Join us for In-Person and Live Stream Worship. \nClick here to watch on Facebook. \nClick here to watch on YouTube.
URL:https://saintandrewsfullerton.com/events/holy-eucharist-with-choir-in-the-sanctuary-and-sunday-school-nursery-in-moody-hall/2027-08-29/
LOCATION:St. Andrew’s Episcopal Church\, 1231 E Chapman Ave\, Fullerton\, California\, 92831
CATEGORIES:Streaming Service
ATTACH;FMTTYPE=image/jpeg:https://saintandrewsfullerton.com/wp-content/uploads/2025/11/Choir-02-14-2026-Resized.jpg
END:VEVENT
BEGIN:VEVENT
DTSTART;TZID=America/Los_Angeles:20270905T110000
DTEND;TZID=America/Los_Angeles:20270905T120000
DTSTAMP:20260421T185026
CREATED:20251105T170106Z
LAST-MODIFIED:20260227T212827Z
UID:10008400-1820142000-1820145600@saintandrewsfullerton.com
SUMMARY:Holy Eucharist with Choir in the Sanctuary and Sunday School/Nursery in Moody Hall
DESCRIPTION:Join us for In-Person and Live Stream Worship. \nClick here to watch on Facebook. \nClick here to watch on YouTube.
URL:https://saintandrewsfullerton.com/events/holy-eucharist-with-choir-in-the-sanctuary-and-sunday-school-nursery-in-moody-hall/2027-09-05/
LOCATION:St. Andrew’s Episcopal Church\, 1231 E Chapman Ave\, Fullerton\, California\, 92831
CATEGORIES:Streaming Service
ATTACH;FMTTYPE=image/jpeg:https://saintandrewsfullerton.com/wp-content/uploads/2025/11/Choir-02-14-2026-Resized.jpg
END:VEVENT
BEGIN:VEVENT
DTSTART;TZID=America/Los_Angeles:20270912T110000
DTEND;TZID=America/Los_Angeles:20270912T120000
DTSTAMP:20260421T185026
CREATED:20251105T170106Z
LAST-MODIFIED:20260227T212827Z
UID:10008401-1820746800-1820750400@saintandrewsfullerton.com
SUMMARY:Holy Eucharist with Choir in the Sanctuary and Sunday School/Nursery in Moody Hall
DESCRIPTION:Join us for In-Person and Live Stream Worship. \nClick here to watch on Facebook. \nClick here to watch on YouTube.
URL:https://saintandrewsfullerton.com/events/holy-eucharist-with-choir-in-the-sanctuary-and-sunday-school-nursery-in-moody-hall/2027-09-12/
LOCATION:St. Andrew’s Episcopal Church\, 1231 E Chapman Ave\, Fullerton\, California\, 92831
CATEGORIES:Streaming Service
ATTACH;FMTTYPE=image/jpeg:https://saintandrewsfullerton.com/wp-content/uploads/2025/11/Choir-02-14-2026-Resized.jpg
END:VEVENT
BEGIN:VEVENT
DTSTART;TZID=America/Los_Angeles:20270919T110000
DTEND;TZID=America/Los_Angeles:20270919T120000
DTSTAMP:20260421T185026
CREATED:20251105T170106Z
LAST-MODIFIED:20260227T212827Z
UID:10008402-1821351600-1821355200@saintandrewsfullerton.com
SUMMARY:Holy Eucharist with Choir in the Sanctuary and Sunday School/Nursery in Moody Hall
DESCRIPTION:Join us for In-Person and Live Stream Worship. \nClick here to watch on Facebook. \nClick here to watch on YouTube.
URL:https://saintandrewsfullerton.com/events/holy-eucharist-with-choir-in-the-sanctuary-and-sunday-school-nursery-in-moody-hall/2027-09-19/
LOCATION:St. Andrew’s Episcopal Church\, 1231 E Chapman Ave\, Fullerton\, California\, 92831
CATEGORIES:Streaming Service
ATTACH;FMTTYPE=image/jpeg:https://saintandrewsfullerton.com/wp-content/uploads/2025/11/Choir-02-14-2026-Resized.jpg
END:VEVENT
BEGIN:VEVENT
DTSTART;TZID=America/Los_Angeles:20270926T110000
DTEND;TZID=America/Los_Angeles:20270926T120000
DTSTAMP:20260421T185026
CREATED:20251105T170106Z
LAST-MODIFIED:20260227T212827Z
UID:10008403-1821956400-1821960000@saintandrewsfullerton.com
SUMMARY:Holy Eucharist with Choir in the Sanctuary and Sunday School/Nursery in Moody Hall
DESCRIPTION:Join us for In-Person and Live Stream Worship. \nClick here to watch on Facebook. \nClick here to watch on YouTube.
URL:https://saintandrewsfullerton.com/events/holy-eucharist-with-choir-in-the-sanctuary-and-sunday-school-nursery-in-moody-hall/2027-09-26/
LOCATION:St. Andrew’s Episcopal Church\, 1231 E Chapman Ave\, Fullerton\, California\, 92831
CATEGORIES:Streaming Service
ATTACH;FMTTYPE=image/jpeg:https://saintandrewsfullerton.com/wp-content/uploads/2025/11/Choir-02-14-2026-Resized.jpg
END:VEVENT
BEGIN:VEVENT
DTSTART;TZID=America/Los_Angeles:20270928T190000
DTEND;TZID=America/Los_Angeles:20270928T193000
DTSTAMP:20260421T185026
CREATED:20251119T210610Z
LAST-MODIFIED:20251119T210733Z
UID:10008985-1822158000-1822159800@saintandrewsfullerton.com
SUMMARY:Contemplative Piano with Joshua Wood
DESCRIPTION:Join us in the sanctuary on the second and fourth Tuesdays of the month for Contemplative Piano with Joshua Wood. Enjoy over 30 minutes of uninterrupted piano music. \nIf you can’t join in person\, you can livestream the service on Facebook here: https://www.facebook.com/StAndrewsEpiscopalChurchFullerton or on YouTube here: https://www.youtube.com/@st.andrewsfullertonsermons/streams \nYou can also enjoy previously recorded sessions on YouTube: https://www.youtube.com/user/JerichoWall
URL:https://saintandrewsfullerton.com/events/contemplative-piano-with-joshua-wood-3/2027-09-28/
LOCATION:St. Andrew’s Episcopal Church\, 1231 E Chapman Ave\, Fullerton\, California\, 92831
CATEGORIES:Streaming Service
ATTACH;FMTTYPE=image/jpeg:https://saintandrewsfullerton.com/wp-content/uploads/2021/10/Josh-at-piano-landscape-close-facing-organ.jpeg
END:VEVENT
BEGIN:VEVENT
DTSTART;TZID=America/Los_Angeles:20271003T110000
DTEND;TZID=America/Los_Angeles:20271003T120000
DTSTAMP:20260421T185026
CREATED:20251105T170106Z
LAST-MODIFIED:20260227T212827Z
UID:10008404-1822561200-1822564800@saintandrewsfullerton.com
SUMMARY:Holy Eucharist with Choir in the Sanctuary and Sunday School/Nursery in Moody Hall
DESCRIPTION:Join us for In-Person and Live Stream Worship. \nClick here to watch on Facebook. \nClick here to watch on YouTube.
URL:https://saintandrewsfullerton.com/events/holy-eucharist-with-choir-in-the-sanctuary-and-sunday-school-nursery-in-moody-hall/2027-10-03/
LOCATION:St. Andrew’s Episcopal Church\, 1231 E Chapman Ave\, Fullerton\, California\, 92831
CATEGORIES:Streaming Service
ATTACH;FMTTYPE=image/jpeg:https://saintandrewsfullerton.com/wp-content/uploads/2025/11/Choir-02-14-2026-Resized.jpg
END:VEVENT
BEGIN:VEVENT
DTSTART;TZID=America/Los_Angeles:20271010T110000
DTEND;TZID=America/Los_Angeles:20271010T120000
DTSTAMP:20260421T185026
CREATED:20251105T170106Z
LAST-MODIFIED:20260227T212827Z
UID:10008405-1823166000-1823169600@saintandrewsfullerton.com
SUMMARY:Holy Eucharist with Choir in the Sanctuary and Sunday School/Nursery in Moody Hall
DESCRIPTION:Join us for In-Person and Live Stream Worship. \nClick here to watch on Facebook. \nClick here to watch on YouTube.
URL:https://saintandrewsfullerton.com/events/holy-eucharist-with-choir-in-the-sanctuary-and-sunday-school-nursery-in-moody-hall/2027-10-10/
LOCATION:St. Andrew’s Episcopal Church\, 1231 E Chapman Ave\, Fullerton\, California\, 92831
CATEGORIES:Streaming Service
ATTACH;FMTTYPE=image/jpeg:https://saintandrewsfullerton.com/wp-content/uploads/2025/11/Choir-02-14-2026-Resized.jpg
END:VEVENT
BEGIN:VEVENT
DTSTART;TZID=America/Los_Angeles:20271017T110000
DTEND;TZID=America/Los_Angeles:20271017T120000
DTSTAMP:20260421T185026
CREATED:20251105T170106Z
LAST-MODIFIED:20260227T212827Z
UID:10008406-1823770800-1823774400@saintandrewsfullerton.com
SUMMARY:Holy Eucharist with Choir in the Sanctuary and Sunday School/Nursery in Moody Hall
DESCRIPTION:Join us for In-Person and Live Stream Worship. \nClick here to watch on Facebook. \nClick here to watch on YouTube.
URL:https://saintandrewsfullerton.com/events/holy-eucharist-with-choir-in-the-sanctuary-and-sunday-school-nursery-in-moody-hall/2027-10-17/
LOCATION:St. Andrew’s Episcopal Church\, 1231 E Chapman Ave\, Fullerton\, California\, 92831
CATEGORIES:Streaming Service
ATTACH;FMTTYPE=image/jpeg:https://saintandrewsfullerton.com/wp-content/uploads/2025/11/Choir-02-14-2026-Resized.jpg
END:VEVENT
BEGIN:VEVENT
DTSTART;TZID=America/Los_Angeles:20271024T110000
DTEND;TZID=America/Los_Angeles:20271024T120000
DTSTAMP:20260421T185026
CREATED:20251105T170106Z
LAST-MODIFIED:20260227T212827Z
UID:10008407-1824375600-1824379200@saintandrewsfullerton.com
SUMMARY:Holy Eucharist with Choir in the Sanctuary and Sunday School/Nursery in Moody Hall
DESCRIPTION:Join us for In-Person and Live Stream Worship. \nClick here to watch on Facebook. \nClick here to watch on YouTube.
URL:https://saintandrewsfullerton.com/events/holy-eucharist-with-choir-in-the-sanctuary-and-sunday-school-nursery-in-moody-hall/2027-10-24/
LOCATION:St. Andrew’s Episcopal Church\, 1231 E Chapman Ave\, Fullerton\, California\, 92831
CATEGORIES:Streaming Service
ATTACH;FMTTYPE=image/jpeg:https://saintandrewsfullerton.com/wp-content/uploads/2025/11/Choir-02-14-2026-Resized.jpg
END:VEVENT
BEGIN:VEVENT
DTSTART;TZID=America/Los_Angeles:20271026T190000
DTEND;TZID=America/Los_Angeles:20271026T193000
DTSTAMP:20260421T185026
CREATED:20251119T210610Z
LAST-MODIFIED:20251119T210733Z
UID:10008986-1824577200-1824579000@saintandrewsfullerton.com
SUMMARY:Contemplative Piano with Joshua Wood
DESCRIPTION:Join us in the sanctuary on the second and fourth Tuesdays of the month for Contemplative Piano with Joshua Wood. Enjoy over 30 minutes of uninterrupted piano music. \nIf you can’t join in person\, you can livestream the service on Facebook here: https://www.facebook.com/StAndrewsEpiscopalChurchFullerton or on YouTube here: https://www.youtube.com/@st.andrewsfullertonsermons/streams \nYou can also enjoy previously recorded sessions on YouTube: https://www.youtube.com/user/JerichoWall
URL:https://saintandrewsfullerton.com/events/contemplative-piano-with-joshua-wood-3/2027-10-26/
LOCATION:St. Andrew’s Episcopal Church\, 1231 E Chapman Ave\, Fullerton\, California\, 92831
CATEGORIES:Streaming Service
ATTACH;FMTTYPE=image/jpeg:https://saintandrewsfullerton.com/wp-content/uploads/2021/10/Josh-at-piano-landscape-close-facing-organ.jpeg
END:VEVENT
BEGIN:VEVENT
DTSTART;TZID=America/Los_Angeles:20271031T110000
DTEND;TZID=America/Los_Angeles:20271031T120000
DTSTAMP:20260421T185026
CREATED:20251105T170106Z
LAST-MODIFIED:20260227T212827Z
UID:10008408-1824980400-1824984000@saintandrewsfullerton.com
SUMMARY:Holy Eucharist with Choir in the Sanctuary and Sunday School/Nursery in Moody Hall
DESCRIPTION:Join us for In-Person and Live Stream Worship. \nClick here to watch on Facebook. \nClick here to watch on YouTube.
URL:https://saintandrewsfullerton.com/events/holy-eucharist-with-choir-in-the-sanctuary-and-sunday-school-nursery-in-moody-hall/2027-10-31/
LOCATION:St. Andrew’s Episcopal Church\, 1231 E Chapman Ave\, Fullerton\, California\, 92831
CATEGORIES:Streaming Service
ATTACH;FMTTYPE=image/jpeg:https://saintandrewsfullerton.com/wp-content/uploads/2025/11/Choir-02-14-2026-Resized.jpg
END:VEVENT
BEGIN:VEVENT
DTSTART;TZID=America/Los_Angeles:20271107T110000
DTEND;TZID=America/Los_Angeles:20271107T120000
DTSTAMP:20260421T185026
CREATED:20251105T170106Z
LAST-MODIFIED:20260227T212827Z
UID:10008409-1825585200-1825588800@saintandrewsfullerton.com
SUMMARY:Holy Eucharist with Choir in the Sanctuary and Sunday School/Nursery in Moody Hall
DESCRIPTION:Join us for In-Person and Live Stream Worship. \nClick here to watch on Facebook. \nClick here to watch on YouTube.
URL:https://saintandrewsfullerton.com/events/holy-eucharist-with-choir-in-the-sanctuary-and-sunday-school-nursery-in-moody-hall/2027-11-07/
LOCATION:St. Andrew’s Episcopal Church\, 1231 E Chapman Ave\, Fullerton\, California\, 92831
CATEGORIES:Streaming Service
ATTACH;FMTTYPE=image/jpeg:https://saintandrewsfullerton.com/wp-content/uploads/2025/11/Choir-02-14-2026-Resized.jpg
END:VEVENT
BEGIN:VEVENT
DTSTART;TZID=America/Los_Angeles:20271114T110000
DTEND;TZID=America/Los_Angeles:20271114T120000
DTSTAMP:20260421T185026
CREATED:20251105T170106Z
LAST-MODIFIED:20260227T212827Z
UID:10008410-1826190000-1826193600@saintandrewsfullerton.com
SUMMARY:Holy Eucharist with Choir in the Sanctuary and Sunday School/Nursery in Moody Hall
DESCRIPTION:Join us for In-Person and Live Stream Worship. \nClick here to watch on Facebook. \nClick here to watch on YouTube.
URL:https://saintandrewsfullerton.com/events/holy-eucharist-with-choir-in-the-sanctuary-and-sunday-school-nursery-in-moody-hall/2027-11-14/
LOCATION:St. Andrew’s Episcopal Church\, 1231 E Chapman Ave\, Fullerton\, California\, 92831
CATEGORIES:Streaming Service
ATTACH;FMTTYPE=image/jpeg:https://saintandrewsfullerton.com/wp-content/uploads/2025/11/Choir-02-14-2026-Resized.jpg
END:VEVENT
BEGIN:VEVENT
DTSTART;TZID=America/Los_Angeles:20271121T110000
DTEND;TZID=America/Los_Angeles:20271121T120000
DTSTAMP:20260421T185026
CREATED:20251105T170106Z
LAST-MODIFIED:20260227T212827Z
UID:10008411-1826794800-1826798400@saintandrewsfullerton.com
SUMMARY:Holy Eucharist with Choir in the Sanctuary and Sunday School/Nursery in Moody Hall
DESCRIPTION:Join us for In-Person and Live Stream Worship. \nClick here to watch on Facebook. \nClick here to watch on YouTube.
URL:https://saintandrewsfullerton.com/events/holy-eucharist-with-choir-in-the-sanctuary-and-sunday-school-nursery-in-moody-hall/2027-11-21/
LOCATION:St. Andrew’s Episcopal Church\, 1231 E Chapman Ave\, Fullerton\, California\, 92831
CATEGORIES:Streaming Service
ATTACH;FMTTYPE=image/jpeg:https://saintandrewsfullerton.com/wp-content/uploads/2025/11/Choir-02-14-2026-Resized.jpg
END:VEVENT
BEGIN:VEVENT
DTSTART;TZID=America/Los_Angeles:20271123T190000
DTEND;TZID=America/Los_Angeles:20271123T193000
DTSTAMP:20260421T185026
CREATED:20251119T210610Z
LAST-MODIFIED:20251119T210733Z
UID:10008987-1826996400-1826998200@saintandrewsfullerton.com
SUMMARY:Contemplative Piano with Joshua Wood
DESCRIPTION:Join us in the sanctuary on the second and fourth Tuesdays of the month for Contemplative Piano with Joshua Wood. Enjoy over 30 minutes of uninterrupted piano music. \nIf you can’t join in person\, you can livestream the service on Facebook here: https://www.facebook.com/StAndrewsEpiscopalChurchFullerton or on YouTube here: https://www.youtube.com/@st.andrewsfullertonsermons/streams \nYou can also enjoy previously recorded sessions on YouTube: https://www.youtube.com/user/JerichoWall
URL:https://saintandrewsfullerton.com/events/contemplative-piano-with-joshua-wood-3/2027-11-23/
LOCATION:St. Andrew’s Episcopal Church\, 1231 E Chapman Ave\, Fullerton\, California\, 92831
CATEGORIES:Streaming Service
ATTACH;FMTTYPE=image/jpeg:https://saintandrewsfullerton.com/wp-content/uploads/2021/10/Josh-at-piano-landscape-close-facing-organ.jpeg
END:VEVENT
BEGIN:VEVENT
DTSTART;TZID=America/Los_Angeles:20271128T110000
DTEND;TZID=America/Los_Angeles:20271128T120000
DTSTAMP:20260421T185026
CREATED:20251105T170106Z
LAST-MODIFIED:20260227T212827Z
UID:10008412-1827399600-1827403200@saintandrewsfullerton.com
SUMMARY:Holy Eucharist with Choir in the Sanctuary and Sunday School/Nursery in Moody Hall
DESCRIPTION:Join us for In-Person and Live Stream Worship. \nClick here to watch on Facebook. \nClick here to watch on YouTube.
URL:https://saintandrewsfullerton.com/events/holy-eucharist-with-choir-in-the-sanctuary-and-sunday-school-nursery-in-moody-hall/2027-11-28/
LOCATION:St. Andrew’s Episcopal Church\, 1231 E Chapman Ave\, Fullerton\, California\, 92831
CATEGORIES:Streaming Service
ATTACH;FMTTYPE=image/jpeg:https://saintandrewsfullerton.com/wp-content/uploads/2025/11/Choir-02-14-2026-Resized.jpg
END:VEVENT
BEGIN:VEVENT
DTSTART;TZID=America/Los_Angeles:20271205T110000
DTEND;TZID=America/Los_Angeles:20271205T120000
DTSTAMP:20260421T185026
CREATED:20251105T170106Z
LAST-MODIFIED:20260227T212827Z
UID:10008413-1828004400-1828008000@saintandrewsfullerton.com
SUMMARY:Holy Eucharist with Choir in the Sanctuary and Sunday School/Nursery in Moody Hall
DESCRIPTION:Join us for In-Person and Live Stream Worship. \nClick here to watch on Facebook. \nClick here to watch on YouTube.
URL:https://saintandrewsfullerton.com/events/holy-eucharist-with-choir-in-the-sanctuary-and-sunday-school-nursery-in-moody-hall/2027-12-05/
LOCATION:St. Andrew’s Episcopal Church\, 1231 E Chapman Ave\, Fullerton\, California\, 92831
CATEGORIES:Streaming Service
ATTACH;FMTTYPE=image/jpeg:https://saintandrewsfullerton.com/wp-content/uploads/2025/11/Choir-02-14-2026-Resized.jpg
END:VEVENT
BEGIN:VEVENT
DTSTART;TZID=America/Los_Angeles:20271212T110000
DTEND;TZID=America/Los_Angeles:20271212T120000
DTSTAMP:20260421T185026
CREATED:20251105T170106Z
LAST-MODIFIED:20260227T212827Z
UID:10008414-1828609200-1828612800@saintandrewsfullerton.com
SUMMARY:Holy Eucharist with Choir in the Sanctuary and Sunday School/Nursery in Moody Hall
DESCRIPTION:Join us for In-Person and Live Stream Worship. \nClick here to watch on Facebook. \nClick here to watch on YouTube.
URL:https://saintandrewsfullerton.com/events/holy-eucharist-with-choir-in-the-sanctuary-and-sunday-school-nursery-in-moody-hall/2027-12-12/
LOCATION:St. Andrew’s Episcopal Church\, 1231 E Chapman Ave\, Fullerton\, California\, 92831
CATEGORIES:Streaming Service
ATTACH;FMTTYPE=image/jpeg:https://saintandrewsfullerton.com/wp-content/uploads/2025/11/Choir-02-14-2026-Resized.jpg
END:VEVENT
BEGIN:VEVENT
DTSTART;TZID=America/Los_Angeles:20271219T110000
DTEND;TZID=America/Los_Angeles:20271219T120000
DTSTAMP:20260421T185026
CREATED:20251105T170106Z
LAST-MODIFIED:20260227T212827Z
UID:10008415-1829214000-1829217600@saintandrewsfullerton.com
SUMMARY:Holy Eucharist with Choir in the Sanctuary and Sunday School/Nursery in Moody Hall
DESCRIPTION:Join us for In-Person and Live Stream Worship. \nClick here to watch on Facebook. \nClick here to watch on YouTube.
URL:https://saintandrewsfullerton.com/events/holy-eucharist-with-choir-in-the-sanctuary-and-sunday-school-nursery-in-moody-hall/2027-12-19/
LOCATION:St. Andrew’s Episcopal Church\, 1231 E Chapman Ave\, Fullerton\, California\, 92831
CATEGORIES:Streaming Service
ATTACH;FMTTYPE=image/jpeg:https://saintandrewsfullerton.com/wp-content/uploads/2025/11/Choir-02-14-2026-Resized.jpg
END:VEVENT
BEGIN:VEVENT
DTSTART;TZID=America/Los_Angeles:20271226T110000
DTEND;TZID=America/Los_Angeles:20271226T120000
DTSTAMP:20260421T185026
CREATED:20251105T170106Z
LAST-MODIFIED:20260227T212827Z
UID:10008416-1829818800-1829822400@saintandrewsfullerton.com
SUMMARY:Holy Eucharist with Choir in the Sanctuary and Sunday School/Nursery in Moody Hall
DESCRIPTION:Join us for In-Person and Live Stream Worship. \nClick here to watch on Facebook. \nClick here to watch on YouTube.
URL:https://saintandrewsfullerton.com/events/holy-eucharist-with-choir-in-the-sanctuary-and-sunday-school-nursery-in-moody-hall/2027-12-26/
LOCATION:St. Andrew’s Episcopal Church\, 1231 E Chapman Ave\, Fullerton\, California\, 92831
CATEGORIES:Streaming Service
ATTACH;FMTTYPE=image/jpeg:https://saintandrewsfullerton.com/wp-content/uploads/2025/11/Choir-02-14-2026-Resized.jpg
END:VEVENT
BEGIN:VEVENT
DTSTART;TZID=America/Los_Angeles:20271228T190000
DTEND;TZID=America/Los_Angeles:20271228T193000
DTSTAMP:20260421T185026
CREATED:20251119T210610Z
LAST-MODIFIED:20251119T210733Z
UID:10008988-1830020400-1830022200@saintandrewsfullerton.com
SUMMARY:Contemplative Piano with Joshua Wood
DESCRIPTION:Join us in the sanctuary on the second and fourth Tuesdays of the month for Contemplative Piano with Joshua Wood. Enjoy over 30 minutes of uninterrupted piano music. \nIf you can’t join in person\, you can livestream the service on Facebook here: https://www.facebook.com/StAndrewsEpiscopalChurchFullerton or on YouTube here: https://www.youtube.com/@st.andrewsfullertonsermons/streams \nYou can also enjoy previously recorded sessions on YouTube: https://www.youtube.com/user/JerichoWall
URL:https://saintandrewsfullerton.com/events/contemplative-piano-with-joshua-wood-3/2027-12-28/
LOCATION:St. Andrew’s Episcopal Church\, 1231 E Chapman Ave\, Fullerton\, California\, 92831
CATEGORIES:Streaming Service
ATTACH;FMTTYPE=image/jpeg:https://saintandrewsfullerton.com/wp-content/uploads/2021/10/Josh-at-piano-landscape-close-facing-organ.jpeg
END:VEVENT
BEGIN:VEVENT
DTSTART;TZID=America/Los_Angeles:20280102T110000
DTEND;TZID=America/Los_Angeles:20280102T120000
DTSTAMP:20260421T185026
CREATED:20251105T170106Z
LAST-MODIFIED:20260227T212827Z
UID:10008417-1830423600-1830427200@saintandrewsfullerton.com
SUMMARY:Holy Eucharist with Choir in the Sanctuary and Sunday School/Nursery in Moody Hall
DESCRIPTION:Join us for In-Person and Live Stream Worship. \nClick here to watch on Facebook. \nClick here to watch on YouTube.
URL:https://saintandrewsfullerton.com/events/holy-eucharist-with-choir-in-the-sanctuary-and-sunday-school-nursery-in-moody-hall/2028-01-02/
LOCATION:St. Andrew’s Episcopal Church\, 1231 E Chapman Ave\, Fullerton\, California\, 92831
CATEGORIES:Streaming Service
ATTACH;FMTTYPE=image/jpeg:https://saintandrewsfullerton.com/wp-content/uploads/2025/11/Choir-02-14-2026-Resized.jpg
END:VEVENT
BEGIN:VEVENT
DTSTART;TZID=America/Los_Angeles:20280109T110000
DTEND;TZID=America/Los_Angeles:20280109T120000
DTSTAMP:20260421T185026
CREATED:20251105T170106Z
LAST-MODIFIED:20260227T212827Z
UID:10008418-1831028400-1831032000@saintandrewsfullerton.com
SUMMARY:Holy Eucharist with Choir in the Sanctuary and Sunday School/Nursery in Moody Hall
DESCRIPTION:Join us for In-Person and Live Stream Worship. \nClick here to watch on Facebook. \nClick here to watch on YouTube.
URL:https://saintandrewsfullerton.com/events/holy-eucharist-with-choir-in-the-sanctuary-and-sunday-school-nursery-in-moody-hall/2028-01-09/
LOCATION:St. Andrew’s Episcopal Church\, 1231 E Chapman Ave\, Fullerton\, California\, 92831
CATEGORIES:Streaming Service
ATTACH;FMTTYPE=image/jpeg:https://saintandrewsfullerton.com/wp-content/uploads/2025/11/Choir-02-14-2026-Resized.jpg
END:VEVENT
BEGIN:VEVENT
DTSTART;TZID=America/Los_Angeles:20280116T110000
DTEND;TZID=America/Los_Angeles:20280116T120000
DTSTAMP:20260421T185026
CREATED:20251105T170106Z
LAST-MODIFIED:20260227T212827Z
UID:10008419-1831633200-1831636800@saintandrewsfullerton.com
SUMMARY:Holy Eucharist with Choir in the Sanctuary and Sunday School/Nursery in Moody Hall
DESCRIPTION:Join us for In-Person and Live Stream Worship. \nClick here to watch on Facebook. \nClick here to watch on YouTube.
URL:https://saintandrewsfullerton.com/events/holy-eucharist-with-choir-in-the-sanctuary-and-sunday-school-nursery-in-moody-hall/2028-01-16/
LOCATION:St. Andrew’s Episcopal Church\, 1231 E Chapman Ave\, Fullerton\, California\, 92831
CATEGORIES:Streaming Service
ATTACH;FMTTYPE=image/jpeg:https://saintandrewsfullerton.com/wp-content/uploads/2025/11/Choir-02-14-2026-Resized.jpg
END:VEVENT
BEGIN:VEVENT
DTSTART;TZID=America/Los_Angeles:20280123T110000
DTEND;TZID=America/Los_Angeles:20280123T120000
DTSTAMP:20260421T185026
CREATED:20251105T170106Z
LAST-MODIFIED:20260227T212827Z
UID:10008420-1832238000-1832241600@saintandrewsfullerton.com
SUMMARY:Holy Eucharist with Choir in the Sanctuary and Sunday School/Nursery in Moody Hall
DESCRIPTION:Join us for In-Person and Live Stream Worship. \nClick here to watch on Facebook. \nClick here to watch on YouTube.
URL:https://saintandrewsfullerton.com/events/holy-eucharist-with-choir-in-the-sanctuary-and-sunday-school-nursery-in-moody-hall/2028-01-23/
LOCATION:St. Andrew’s Episcopal Church\, 1231 E Chapman Ave\, Fullerton\, California\, 92831
CATEGORIES:Streaming Service
ATTACH;FMTTYPE=image/jpeg:https://saintandrewsfullerton.com/wp-content/uploads/2025/11/Choir-02-14-2026-Resized.jpg
END:VEVENT
BEGIN:VEVENT
DTSTART;TZID=America/Los_Angeles:20280125T190000
DTEND;TZID=America/Los_Angeles:20280125T193000
DTSTAMP:20260421T185026
CREATED:20251119T210610Z
LAST-MODIFIED:20251119T210733Z
UID:10008989-1832439600-1832441400@saintandrewsfullerton.com
SUMMARY:Contemplative Piano with Joshua Wood
DESCRIPTION:Join us in the sanctuary on the second and fourth Tuesdays of the month for Contemplative Piano with Joshua Wood. Enjoy over 30 minutes of uninterrupted piano music. \nIf you can’t join in person\, you can livestream the service on Facebook here: https://www.facebook.com/StAndrewsEpiscopalChurchFullerton or on YouTube here: https://www.youtube.com/@st.andrewsfullertonsermons/streams \nYou can also enjoy previously recorded sessions on YouTube: https://www.youtube.com/user/JerichoWall
URL:https://saintandrewsfullerton.com/events/contemplative-piano-with-joshua-wood-3/2028-01-25/
LOCATION:St. Andrew’s Episcopal Church\, 1231 E Chapman Ave\, Fullerton\, California\, 92831
CATEGORIES:Streaming Service
ATTACH;FMTTYPE=image/jpeg:https://saintandrewsfullerton.com/wp-content/uploads/2021/10/Josh-at-piano-landscape-close-facing-organ.jpeg
END:VEVENT
BEGIN:VEVENT
DTSTART;TZID=America/Los_Angeles:20280130T110000
DTEND;TZID=America/Los_Angeles:20280130T120000
DTSTAMP:20260421T185026
CREATED:20251105T170106Z
LAST-MODIFIED:20260227T212827Z
UID:10008421-1832842800-1832846400@saintandrewsfullerton.com
SUMMARY:Holy Eucharist with Choir in the Sanctuary and Sunday School/Nursery in Moody Hall
DESCRIPTION:Join us for In-Person and Live Stream Worship. \nClick here to watch on Facebook. \nClick here to watch on YouTube.
URL:https://saintandrewsfullerton.com/events/holy-eucharist-with-choir-in-the-sanctuary-and-sunday-school-nursery-in-moody-hall/2028-01-30/
LOCATION:St. Andrew’s Episcopal Church\, 1231 E Chapman Ave\, Fullerton\, California\, 92831
CATEGORIES:Streaming Service
ATTACH;FMTTYPE=image/jpeg:https://saintandrewsfullerton.com/wp-content/uploads/2025/11/Choir-02-14-2026-Resized.jpg
END:VEVENT
END:VCALENDAR