BEGIN:VCALENDAR
VERSION:2.0
PRODID:-//Saint Andrew&#039;s Episcopal Church, Fullerton CA - ECPv6.15.20//NONSGML v1.0//EN
CALSCALE:GREGORIAN
METHOD:PUBLISH
X-WR-CALNAME:Saint Andrew&#039;s Episcopal Church, Fullerton CA
X-ORIGINAL-URL:https://saintandrewsfullerton.com
X-WR-CALDESC:Events for Saint Andrew&#039;s Episcopal Church, Fullerton CA
REFRESH-INTERVAL;VALUE=DURATION:PT1H
X-Robots-Tag:noindex
X-PUBLISHED-TTL:PT1H
BEGIN:VTIMEZONE
TZID:America/Los_Angeles
BEGIN:DAYLIGHT
TZOFFSETFROM:-0800
TZOFFSETTO:-0700
TZNAME:PDT
DTSTART:20250309T100000
END:DAYLIGHT
BEGIN:STANDARD
TZOFFSETFROM:-0700
TZOFFSETTO:-0800
TZNAME:PST
DTSTART:20251102T090000
END:STANDARD
BEGIN:DAYLIGHT
TZOFFSETFROM:-0800
TZOFFSETTO:-0700
TZNAME:PDT
DTSTART:20260308T100000
END:DAYLIGHT
BEGIN:STANDARD
TZOFFSETFROM:-0700
TZOFFSETTO:-0800
TZNAME:PST
DTSTART:20261101T090000
END:STANDARD
BEGIN:DAYLIGHT
TZOFFSETFROM:-0800
TZOFFSETTO:-0700
TZNAME:PDT
DTSTART:20270314T100000
END:DAYLIGHT
BEGIN:STANDARD
TZOFFSETFROM:-0700
TZOFFSETTO:-0800
TZNAME:PST
DTSTART:20271107T090000
END:STANDARD
END:VTIMEZONE
BEGIN:VEVENT
DTSTART;TZID=America/Los_Angeles:20260705T110000
DTEND;TZID=America/Los_Angeles:20260705T120000
DTSTAMP:20260421T081648
CREATED:20251105T170106Z
LAST-MODIFIED:20260227T212827Z
UID:10008339-1783249200-1783252800@saintandrewsfullerton.com
SUMMARY:Holy Eucharist with Choir in the Sanctuary and Sunday School/Nursery in Moody Hall
DESCRIPTION:Join us for In-Person and Live Stream Worship. \nClick here to watch on Facebook. \nClick here to watch on YouTube.
URL:https://saintandrewsfullerton.com/events/holy-eucharist-with-choir-in-the-sanctuary-and-sunday-school-nursery-in-moody-hall/2026-07-05/
LOCATION:St. Andrew’s Episcopal Church\, 1231 E Chapman Ave\, Fullerton\, California\, 92831
CATEGORIES:Streaming Service
ATTACH;FMTTYPE=image/jpeg:https://saintandrewsfullerton.com/wp-content/uploads/2025/11/Choir-02-14-2026-Resized.jpg
END:VEVENT
BEGIN:VEVENT
DTSTART;TZID=America/Los_Angeles:20260712T110000
DTEND;TZID=America/Los_Angeles:20260712T120000
DTSTAMP:20260421T081648
CREATED:20251105T170106Z
LAST-MODIFIED:20260227T212827Z
UID:10008340-1783854000-1783857600@saintandrewsfullerton.com
SUMMARY:Holy Eucharist with Choir in the Sanctuary and Sunday School/Nursery in Moody Hall
DESCRIPTION:Join us for In-Person and Live Stream Worship. \nClick here to watch on Facebook. \nClick here to watch on YouTube.
URL:https://saintandrewsfullerton.com/events/holy-eucharist-with-choir-in-the-sanctuary-and-sunday-school-nursery-in-moody-hall/2026-07-12/
LOCATION:St. Andrew’s Episcopal Church\, 1231 E Chapman Ave\, Fullerton\, California\, 92831
CATEGORIES:Streaming Service
ATTACH;FMTTYPE=image/jpeg:https://saintandrewsfullerton.com/wp-content/uploads/2025/11/Choir-02-14-2026-Resized.jpg
END:VEVENT
BEGIN:VEVENT
DTSTART;TZID=America/Los_Angeles:20260719T110000
DTEND;TZID=America/Los_Angeles:20260719T120000
DTSTAMP:20260421T081648
CREATED:20251105T170106Z
LAST-MODIFIED:20260227T212827Z
UID:10008341-1784458800-1784462400@saintandrewsfullerton.com
SUMMARY:Holy Eucharist with Choir in the Sanctuary and Sunday School/Nursery in Moody Hall
DESCRIPTION:Join us for In-Person and Live Stream Worship. \nClick here to watch on Facebook. \nClick here to watch on YouTube.
URL:https://saintandrewsfullerton.com/events/holy-eucharist-with-choir-in-the-sanctuary-and-sunday-school-nursery-in-moody-hall/2026-07-19/
LOCATION:St. Andrew’s Episcopal Church\, 1231 E Chapman Ave\, Fullerton\, California\, 92831
CATEGORIES:Streaming Service
ATTACH;FMTTYPE=image/jpeg:https://saintandrewsfullerton.com/wp-content/uploads/2025/11/Choir-02-14-2026-Resized.jpg
END:VEVENT
BEGIN:VEVENT
DTSTART;TZID=America/Los_Angeles:20260726T110000
DTEND;TZID=America/Los_Angeles:20260726T120000
DTSTAMP:20260421T081648
CREATED:20251105T170106Z
LAST-MODIFIED:20260227T212827Z
UID:10008342-1785063600-1785067200@saintandrewsfullerton.com
SUMMARY:Holy Eucharist with Choir in the Sanctuary and Sunday School/Nursery in Moody Hall
DESCRIPTION:Join us for In-Person and Live Stream Worship. \nClick here to watch on Facebook. \nClick here to watch on YouTube.
URL:https://saintandrewsfullerton.com/events/holy-eucharist-with-choir-in-the-sanctuary-and-sunday-school-nursery-in-moody-hall/2026-07-26/
LOCATION:St. Andrew’s Episcopal Church\, 1231 E Chapman Ave\, Fullerton\, California\, 92831
CATEGORIES:Streaming Service
ATTACH;FMTTYPE=image/jpeg:https://saintandrewsfullerton.com/wp-content/uploads/2025/11/Choir-02-14-2026-Resized.jpg
END:VEVENT
BEGIN:VEVENT
DTSTART;TZID=America/Los_Angeles:20260728T190000
DTEND;TZID=America/Los_Angeles:20260728T193000
DTSTAMP:20260421T081648
CREATED:20251119T210610Z
LAST-MODIFIED:20251119T210733Z
UID:10008971-1785265200-1785267000@saintandrewsfullerton.com
SUMMARY:Contemplative Piano with Joshua Wood
DESCRIPTION:Join us in the sanctuary on the second and fourth Tuesdays of the month for Contemplative Piano with Joshua Wood. Enjoy over 30 minutes of uninterrupted piano music. \nIf you can’t join in person\, you can livestream the service on Facebook here: https://www.facebook.com/StAndrewsEpiscopalChurchFullerton or on YouTube here: https://www.youtube.com/@st.andrewsfullertonsermons/streams \nYou can also enjoy previously recorded sessions on YouTube: https://www.youtube.com/user/JerichoWall
URL:https://saintandrewsfullerton.com/events/contemplative-piano-with-joshua-wood-3/2026-07-28/
LOCATION:St. Andrew’s Episcopal Church\, 1231 E Chapman Ave\, Fullerton\, California\, 92831
CATEGORIES:Streaming Service
ATTACH;FMTTYPE=image/jpeg:https://saintandrewsfullerton.com/wp-content/uploads/2021/10/Josh-at-piano-landscape-close-facing-organ.jpeg
END:VEVENT
BEGIN:VEVENT
DTSTART;TZID=America/Los_Angeles:20260802T110000
DTEND;TZID=America/Los_Angeles:20260802T120000
DTSTAMP:20260421T081648
CREATED:20251105T170106Z
LAST-MODIFIED:20260227T212827Z
UID:10008343-1785668400-1785672000@saintandrewsfullerton.com
SUMMARY:Holy Eucharist with Choir in the Sanctuary and Sunday School/Nursery in Moody Hall
DESCRIPTION:Join us for In-Person and Live Stream Worship. \nClick here to watch on Facebook. \nClick here to watch on YouTube.
URL:https://saintandrewsfullerton.com/events/holy-eucharist-with-choir-in-the-sanctuary-and-sunday-school-nursery-in-moody-hall/2026-08-02/
LOCATION:St. Andrew’s Episcopal Church\, 1231 E Chapman Ave\, Fullerton\, California\, 92831
CATEGORIES:Streaming Service
ATTACH;FMTTYPE=image/jpeg:https://saintandrewsfullerton.com/wp-content/uploads/2025/11/Choir-02-14-2026-Resized.jpg
END:VEVENT
BEGIN:VEVENT
DTSTART;TZID=America/Los_Angeles:20260809T110000
DTEND;TZID=America/Los_Angeles:20260809T120000
DTSTAMP:20260421T081648
CREATED:20251105T170106Z
LAST-MODIFIED:20260227T212827Z
UID:10008344-1786273200-1786276800@saintandrewsfullerton.com
SUMMARY:Holy Eucharist with Choir in the Sanctuary and Sunday School/Nursery in Moody Hall
DESCRIPTION:Join us for In-Person and Live Stream Worship. \nClick here to watch on Facebook. \nClick here to watch on YouTube.
URL:https://saintandrewsfullerton.com/events/holy-eucharist-with-choir-in-the-sanctuary-and-sunday-school-nursery-in-moody-hall/2026-08-09/
LOCATION:St. Andrew’s Episcopal Church\, 1231 E Chapman Ave\, Fullerton\, California\, 92831
CATEGORIES:Streaming Service
ATTACH;FMTTYPE=image/jpeg:https://saintandrewsfullerton.com/wp-content/uploads/2025/11/Choir-02-14-2026-Resized.jpg
END:VEVENT
BEGIN:VEVENT
DTSTART;TZID=America/Los_Angeles:20260816T110000
DTEND;TZID=America/Los_Angeles:20260816T120000
DTSTAMP:20260421T081648
CREATED:20251105T170106Z
LAST-MODIFIED:20260227T212827Z
UID:10008345-1786878000-1786881600@saintandrewsfullerton.com
SUMMARY:Holy Eucharist with Choir in the Sanctuary and Sunday School/Nursery in Moody Hall
DESCRIPTION:Join us for In-Person and Live Stream Worship. \nClick here to watch on Facebook. \nClick here to watch on YouTube.
URL:https://saintandrewsfullerton.com/events/holy-eucharist-with-choir-in-the-sanctuary-and-sunday-school-nursery-in-moody-hall/2026-08-16/
LOCATION:St. Andrew’s Episcopal Church\, 1231 E Chapman Ave\, Fullerton\, California\, 92831
CATEGORIES:Streaming Service
ATTACH;FMTTYPE=image/jpeg:https://saintandrewsfullerton.com/wp-content/uploads/2025/11/Choir-02-14-2026-Resized.jpg
END:VEVENT
BEGIN:VEVENT
DTSTART;TZID=America/Los_Angeles:20260823T110000
DTEND;TZID=America/Los_Angeles:20260823T120000
DTSTAMP:20260421T081648
CREATED:20251105T170106Z
LAST-MODIFIED:20260227T212827Z
UID:10008346-1787482800-1787486400@saintandrewsfullerton.com
SUMMARY:Holy Eucharist with Choir in the Sanctuary and Sunday School/Nursery in Moody Hall
DESCRIPTION:Join us for In-Person and Live Stream Worship. \nClick here to watch on Facebook. \nClick here to watch on YouTube.
URL:https://saintandrewsfullerton.com/events/holy-eucharist-with-choir-in-the-sanctuary-and-sunday-school-nursery-in-moody-hall/2026-08-23/
LOCATION:St. Andrew’s Episcopal Church\, 1231 E Chapman Ave\, Fullerton\, California\, 92831
CATEGORIES:Streaming Service
ATTACH;FMTTYPE=image/jpeg:https://saintandrewsfullerton.com/wp-content/uploads/2025/11/Choir-02-14-2026-Resized.jpg
END:VEVENT
BEGIN:VEVENT
DTSTART;TZID=America/Los_Angeles:20260825T190000
DTEND;TZID=America/Los_Angeles:20260825T193000
DTSTAMP:20260421T081648
CREATED:20251119T210610Z
LAST-MODIFIED:20251119T210733Z
UID:10008972-1787684400-1787686200@saintandrewsfullerton.com
SUMMARY:Contemplative Piano with Joshua Wood
DESCRIPTION:Join us in the sanctuary on the second and fourth Tuesdays of the month for Contemplative Piano with Joshua Wood. Enjoy over 30 minutes of uninterrupted piano music. \nIf you can’t join in person\, you can livestream the service on Facebook here: https://www.facebook.com/StAndrewsEpiscopalChurchFullerton or on YouTube here: https://www.youtube.com/@st.andrewsfullertonsermons/streams \nYou can also enjoy previously recorded sessions on YouTube: https://www.youtube.com/user/JerichoWall
URL:https://saintandrewsfullerton.com/events/contemplative-piano-with-joshua-wood-3/2026-08-25/
LOCATION:St. Andrew’s Episcopal Church\, 1231 E Chapman Ave\, Fullerton\, California\, 92831
CATEGORIES:Streaming Service
ATTACH;FMTTYPE=image/jpeg:https://saintandrewsfullerton.com/wp-content/uploads/2021/10/Josh-at-piano-landscape-close-facing-organ.jpeg
END:VEVENT
BEGIN:VEVENT
DTSTART;TZID=America/Los_Angeles:20260830T110000
DTEND;TZID=America/Los_Angeles:20260830T120000
DTSTAMP:20260421T081648
CREATED:20251105T170106Z
LAST-MODIFIED:20260227T212827Z
UID:10008347-1788087600-1788091200@saintandrewsfullerton.com
SUMMARY:Holy Eucharist with Choir in the Sanctuary and Sunday School/Nursery in Moody Hall
DESCRIPTION:Join us for In-Person and Live Stream Worship. \nClick here to watch on Facebook. \nClick here to watch on YouTube.
URL:https://saintandrewsfullerton.com/events/holy-eucharist-with-choir-in-the-sanctuary-and-sunday-school-nursery-in-moody-hall/2026-08-30/
LOCATION:St. Andrew’s Episcopal Church\, 1231 E Chapman Ave\, Fullerton\, California\, 92831
CATEGORIES:Streaming Service
ATTACH;FMTTYPE=image/jpeg:https://saintandrewsfullerton.com/wp-content/uploads/2025/11/Choir-02-14-2026-Resized.jpg
END:VEVENT
BEGIN:VEVENT
DTSTART;TZID=America/Los_Angeles:20260906T110000
DTEND;TZID=America/Los_Angeles:20260906T120000
DTSTAMP:20260421T081648
CREATED:20251105T170106Z
LAST-MODIFIED:20260227T212827Z
UID:10008348-1788692400-1788696000@saintandrewsfullerton.com
SUMMARY:Holy Eucharist with Choir in the Sanctuary and Sunday School/Nursery in Moody Hall
DESCRIPTION:Join us for In-Person and Live Stream Worship. \nClick here to watch on Facebook. \nClick here to watch on YouTube.
URL:https://saintandrewsfullerton.com/events/holy-eucharist-with-choir-in-the-sanctuary-and-sunday-school-nursery-in-moody-hall/2026-09-06/
LOCATION:St. Andrew’s Episcopal Church\, 1231 E Chapman Ave\, Fullerton\, California\, 92831
CATEGORIES:Streaming Service
ATTACH;FMTTYPE=image/jpeg:https://saintandrewsfullerton.com/wp-content/uploads/2025/11/Choir-02-14-2026-Resized.jpg
END:VEVENT
BEGIN:VEVENT
DTSTART;TZID=America/Los_Angeles:20260913T110000
DTEND;TZID=America/Los_Angeles:20260913T120000
DTSTAMP:20260421T081648
CREATED:20251105T170106Z
LAST-MODIFIED:20260227T212827Z
UID:10008349-1789297200-1789300800@saintandrewsfullerton.com
SUMMARY:Holy Eucharist with Choir in the Sanctuary and Sunday School/Nursery in Moody Hall
DESCRIPTION:Join us for In-Person and Live Stream Worship. \nClick here to watch on Facebook. \nClick here to watch on YouTube.
URL:https://saintandrewsfullerton.com/events/holy-eucharist-with-choir-in-the-sanctuary-and-sunday-school-nursery-in-moody-hall/2026-09-13/
LOCATION:St. Andrew’s Episcopal Church\, 1231 E Chapman Ave\, Fullerton\, California\, 92831
CATEGORIES:Streaming Service
ATTACH;FMTTYPE=image/jpeg:https://saintandrewsfullerton.com/wp-content/uploads/2025/11/Choir-02-14-2026-Resized.jpg
END:VEVENT
BEGIN:VEVENT
DTSTART;TZID=America/Los_Angeles:20260920T110000
DTEND;TZID=America/Los_Angeles:20260920T120000
DTSTAMP:20260421T081648
CREATED:20251105T170106Z
LAST-MODIFIED:20260227T212827Z
UID:10008350-1789902000-1789905600@saintandrewsfullerton.com
SUMMARY:Holy Eucharist with Choir in the Sanctuary and Sunday School/Nursery in Moody Hall
DESCRIPTION:Join us for In-Person and Live Stream Worship. \nClick here to watch on Facebook. \nClick here to watch on YouTube.
URL:https://saintandrewsfullerton.com/events/holy-eucharist-with-choir-in-the-sanctuary-and-sunday-school-nursery-in-moody-hall/2026-09-20/
LOCATION:St. Andrew’s Episcopal Church\, 1231 E Chapman Ave\, Fullerton\, California\, 92831
CATEGORIES:Streaming Service
ATTACH;FMTTYPE=image/jpeg:https://saintandrewsfullerton.com/wp-content/uploads/2025/11/Choir-02-14-2026-Resized.jpg
END:VEVENT
BEGIN:VEVENT
DTSTART;TZID=America/Los_Angeles:20260922T190000
DTEND;TZID=America/Los_Angeles:20260922T193000
DTSTAMP:20260421T081648
CREATED:20251119T210610Z
LAST-MODIFIED:20251119T210733Z
UID:10008973-1790103600-1790105400@saintandrewsfullerton.com
SUMMARY:Contemplative Piano with Joshua Wood
DESCRIPTION:Join us in the sanctuary on the second and fourth Tuesdays of the month for Contemplative Piano with Joshua Wood. Enjoy over 30 minutes of uninterrupted piano music. \nIf you can’t join in person\, you can livestream the service on Facebook here: https://www.facebook.com/StAndrewsEpiscopalChurchFullerton or on YouTube here: https://www.youtube.com/@st.andrewsfullertonsermons/streams \nYou can also enjoy previously recorded sessions on YouTube: https://www.youtube.com/user/JerichoWall
URL:https://saintandrewsfullerton.com/events/contemplative-piano-with-joshua-wood-3/2026-09-22/
LOCATION:St. Andrew’s Episcopal Church\, 1231 E Chapman Ave\, Fullerton\, California\, 92831
CATEGORIES:Streaming Service
ATTACH;FMTTYPE=image/jpeg:https://saintandrewsfullerton.com/wp-content/uploads/2021/10/Josh-at-piano-landscape-close-facing-organ.jpeg
END:VEVENT
BEGIN:VEVENT
DTSTART;TZID=America/Los_Angeles:20260927T110000
DTEND;TZID=America/Los_Angeles:20260927T120000
DTSTAMP:20260421T081648
CREATED:20251105T170106Z
LAST-MODIFIED:20260227T212827Z
UID:10008351-1790506800-1790510400@saintandrewsfullerton.com
SUMMARY:Holy Eucharist with Choir in the Sanctuary and Sunday School/Nursery in Moody Hall
DESCRIPTION:Join us for In-Person and Live Stream Worship. \nClick here to watch on Facebook. \nClick here to watch on YouTube.
URL:https://saintandrewsfullerton.com/events/holy-eucharist-with-choir-in-the-sanctuary-and-sunday-school-nursery-in-moody-hall/2026-09-27/
LOCATION:St. Andrew’s Episcopal Church\, 1231 E Chapman Ave\, Fullerton\, California\, 92831
CATEGORIES:Streaming Service
ATTACH;FMTTYPE=image/jpeg:https://saintandrewsfullerton.com/wp-content/uploads/2025/11/Choir-02-14-2026-Resized.jpg
END:VEVENT
BEGIN:VEVENT
DTSTART;TZID=America/Los_Angeles:20261004T110000
DTEND;TZID=America/Los_Angeles:20261004T120000
DTSTAMP:20260421T081648
CREATED:20251105T170106Z
LAST-MODIFIED:20260227T212827Z
UID:10008352-1791111600-1791115200@saintandrewsfullerton.com
SUMMARY:Holy Eucharist with Choir in the Sanctuary and Sunday School/Nursery in Moody Hall
DESCRIPTION:Join us for In-Person and Live Stream Worship. \nClick here to watch on Facebook. \nClick here to watch on YouTube.
URL:https://saintandrewsfullerton.com/events/holy-eucharist-with-choir-in-the-sanctuary-and-sunday-school-nursery-in-moody-hall/2026-10-04/
LOCATION:St. Andrew’s Episcopal Church\, 1231 E Chapman Ave\, Fullerton\, California\, 92831
CATEGORIES:Streaming Service
ATTACH;FMTTYPE=image/jpeg:https://saintandrewsfullerton.com/wp-content/uploads/2025/11/Choir-02-14-2026-Resized.jpg
END:VEVENT
BEGIN:VEVENT
DTSTART;TZID=America/Los_Angeles:20261011T110000
DTEND;TZID=America/Los_Angeles:20261011T120000
DTSTAMP:20260421T081648
CREATED:20251105T170106Z
LAST-MODIFIED:20260227T212827Z
UID:10008353-1791716400-1791720000@saintandrewsfullerton.com
SUMMARY:Holy Eucharist with Choir in the Sanctuary and Sunday School/Nursery in Moody Hall
DESCRIPTION:Join us for In-Person and Live Stream Worship. \nClick here to watch on Facebook. \nClick here to watch on YouTube.
URL:https://saintandrewsfullerton.com/events/holy-eucharist-with-choir-in-the-sanctuary-and-sunday-school-nursery-in-moody-hall/2026-10-11/
LOCATION:St. Andrew’s Episcopal Church\, 1231 E Chapman Ave\, Fullerton\, California\, 92831
CATEGORIES:Streaming Service
ATTACH;FMTTYPE=image/jpeg:https://saintandrewsfullerton.com/wp-content/uploads/2025/11/Choir-02-14-2026-Resized.jpg
END:VEVENT
BEGIN:VEVENT
DTSTART;TZID=America/Los_Angeles:20261018T110000
DTEND;TZID=America/Los_Angeles:20261018T120000
DTSTAMP:20260421T081648
CREATED:20251105T170106Z
LAST-MODIFIED:20260227T212827Z
UID:10008354-1792321200-1792324800@saintandrewsfullerton.com
SUMMARY:Holy Eucharist with Choir in the Sanctuary and Sunday School/Nursery in Moody Hall
DESCRIPTION:Join us for In-Person and Live Stream Worship. \nClick here to watch on Facebook. \nClick here to watch on YouTube.
URL:https://saintandrewsfullerton.com/events/holy-eucharist-with-choir-in-the-sanctuary-and-sunday-school-nursery-in-moody-hall/2026-10-18/
LOCATION:St. Andrew’s Episcopal Church\, 1231 E Chapman Ave\, Fullerton\, California\, 92831
CATEGORIES:Streaming Service
ATTACH;FMTTYPE=image/jpeg:https://saintandrewsfullerton.com/wp-content/uploads/2025/11/Choir-02-14-2026-Resized.jpg
END:VEVENT
BEGIN:VEVENT
DTSTART;TZID=America/Los_Angeles:20261025T110000
DTEND;TZID=America/Los_Angeles:20261025T120000
DTSTAMP:20260421T081648
CREATED:20251105T170106Z
LAST-MODIFIED:20260227T212827Z
UID:10008355-1792926000-1792929600@saintandrewsfullerton.com
SUMMARY:Holy Eucharist with Choir in the Sanctuary and Sunday School/Nursery in Moody Hall
DESCRIPTION:Join us for In-Person and Live Stream Worship. \nClick here to watch on Facebook. \nClick here to watch on YouTube.
URL:https://saintandrewsfullerton.com/events/holy-eucharist-with-choir-in-the-sanctuary-and-sunday-school-nursery-in-moody-hall/2026-10-25/
LOCATION:St. Andrew’s Episcopal Church\, 1231 E Chapman Ave\, Fullerton\, California\, 92831
CATEGORIES:Streaming Service
ATTACH;FMTTYPE=image/jpeg:https://saintandrewsfullerton.com/wp-content/uploads/2025/11/Choir-02-14-2026-Resized.jpg
END:VEVENT
BEGIN:VEVENT
DTSTART;TZID=America/Los_Angeles:20261027T190000
DTEND;TZID=America/Los_Angeles:20261027T193000
DTSTAMP:20260421T081648
CREATED:20251119T210610Z
LAST-MODIFIED:20251119T210733Z
UID:10008974-1793127600-1793129400@saintandrewsfullerton.com
SUMMARY:Contemplative Piano with Joshua Wood
DESCRIPTION:Join us in the sanctuary on the second and fourth Tuesdays of the month for Contemplative Piano with Joshua Wood. Enjoy over 30 minutes of uninterrupted piano music. \nIf you can’t join in person\, you can livestream the service on Facebook here: https://www.facebook.com/StAndrewsEpiscopalChurchFullerton or on YouTube here: https://www.youtube.com/@st.andrewsfullertonsermons/streams \nYou can also enjoy previously recorded sessions on YouTube: https://www.youtube.com/user/JerichoWall
URL:https://saintandrewsfullerton.com/events/contemplative-piano-with-joshua-wood-3/2026-10-27/
LOCATION:St. Andrew’s Episcopal Church\, 1231 E Chapman Ave\, Fullerton\, California\, 92831
CATEGORIES:Streaming Service
ATTACH;FMTTYPE=image/jpeg:https://saintandrewsfullerton.com/wp-content/uploads/2021/10/Josh-at-piano-landscape-close-facing-organ.jpeg
END:VEVENT
BEGIN:VEVENT
DTSTART;TZID=America/Los_Angeles:20261101T110000
DTEND;TZID=America/Los_Angeles:20261101T120000
DTSTAMP:20260421T081648
CREATED:20251105T170106Z
LAST-MODIFIED:20260227T212827Z
UID:10008356-1793530800-1793534400@saintandrewsfullerton.com
SUMMARY:Holy Eucharist with Choir in the Sanctuary and Sunday School/Nursery in Moody Hall
DESCRIPTION:Join us for In-Person and Live Stream Worship. \nClick here to watch on Facebook. \nClick here to watch on YouTube.
URL:https://saintandrewsfullerton.com/events/holy-eucharist-with-choir-in-the-sanctuary-and-sunday-school-nursery-in-moody-hall/2026-11-01/
LOCATION:St. Andrew’s Episcopal Church\, 1231 E Chapman Ave\, Fullerton\, California\, 92831
CATEGORIES:Streaming Service
ATTACH;FMTTYPE=image/jpeg:https://saintandrewsfullerton.com/wp-content/uploads/2025/11/Choir-02-14-2026-Resized.jpg
END:VEVENT
BEGIN:VEVENT
DTSTART;TZID=America/Los_Angeles:20261108T110000
DTEND;TZID=America/Los_Angeles:20261108T120000
DTSTAMP:20260421T081648
CREATED:20251105T170106Z
LAST-MODIFIED:20260227T212827Z
UID:10008357-1794135600-1794139200@saintandrewsfullerton.com
SUMMARY:Holy Eucharist with Choir in the Sanctuary and Sunday School/Nursery in Moody Hall
DESCRIPTION:Join us for In-Person and Live Stream Worship. \nClick here to watch on Facebook. \nClick here to watch on YouTube.
URL:https://saintandrewsfullerton.com/events/holy-eucharist-with-choir-in-the-sanctuary-and-sunday-school-nursery-in-moody-hall/2026-11-08/
LOCATION:St. Andrew’s Episcopal Church\, 1231 E Chapman Ave\, Fullerton\, California\, 92831
CATEGORIES:Streaming Service
ATTACH;FMTTYPE=image/jpeg:https://saintandrewsfullerton.com/wp-content/uploads/2025/11/Choir-02-14-2026-Resized.jpg
END:VEVENT
BEGIN:VEVENT
DTSTART;TZID=America/Los_Angeles:20261115T110000
DTEND;TZID=America/Los_Angeles:20261115T120000
DTSTAMP:20260421T081648
CREATED:20251105T170106Z
LAST-MODIFIED:20260227T212827Z
UID:10008358-1794740400-1794744000@saintandrewsfullerton.com
SUMMARY:Holy Eucharist with Choir in the Sanctuary and Sunday School/Nursery in Moody Hall
DESCRIPTION:Join us for In-Person and Live Stream Worship. \nClick here to watch on Facebook. \nClick here to watch on YouTube.
URL:https://saintandrewsfullerton.com/events/holy-eucharist-with-choir-in-the-sanctuary-and-sunday-school-nursery-in-moody-hall/2026-11-15/
LOCATION:St. Andrew’s Episcopal Church\, 1231 E Chapman Ave\, Fullerton\, California\, 92831
CATEGORIES:Streaming Service
ATTACH;FMTTYPE=image/jpeg:https://saintandrewsfullerton.com/wp-content/uploads/2025/11/Choir-02-14-2026-Resized.jpg
END:VEVENT
BEGIN:VEVENT
DTSTART;TZID=America/Los_Angeles:20261122T110000
DTEND;TZID=America/Los_Angeles:20261122T120000
DTSTAMP:20260421T081648
CREATED:20251105T170106Z
LAST-MODIFIED:20260227T212827Z
UID:10008359-1795345200-1795348800@saintandrewsfullerton.com
SUMMARY:Holy Eucharist with Choir in the Sanctuary and Sunday School/Nursery in Moody Hall
DESCRIPTION:Join us for In-Person and Live Stream Worship. \nClick here to watch on Facebook. \nClick here to watch on YouTube.
URL:https://saintandrewsfullerton.com/events/holy-eucharist-with-choir-in-the-sanctuary-and-sunday-school-nursery-in-moody-hall/2026-11-22/
LOCATION:St. Andrew’s Episcopal Church\, 1231 E Chapman Ave\, Fullerton\, California\, 92831
CATEGORIES:Streaming Service
ATTACH;FMTTYPE=image/jpeg:https://saintandrewsfullerton.com/wp-content/uploads/2025/11/Choir-02-14-2026-Resized.jpg
END:VEVENT
BEGIN:VEVENT
DTSTART;TZID=America/Los_Angeles:20261124T190000
DTEND;TZID=America/Los_Angeles:20261124T193000
DTSTAMP:20260421T081648
CREATED:20251119T210610Z
LAST-MODIFIED:20251119T210733Z
UID:10008975-1795546800-1795548600@saintandrewsfullerton.com
SUMMARY:Contemplative Piano with Joshua Wood
DESCRIPTION:Join us in the sanctuary on the second and fourth Tuesdays of the month for Contemplative Piano with Joshua Wood. Enjoy over 30 minutes of uninterrupted piano music. \nIf you can’t join in person\, you can livestream the service on Facebook here: https://www.facebook.com/StAndrewsEpiscopalChurchFullerton or on YouTube here: https://www.youtube.com/@st.andrewsfullertonsermons/streams \nYou can also enjoy previously recorded sessions on YouTube: https://www.youtube.com/user/JerichoWall
URL:https://saintandrewsfullerton.com/events/contemplative-piano-with-joshua-wood-3/2026-11-24/
LOCATION:St. Andrew’s Episcopal Church\, 1231 E Chapman Ave\, Fullerton\, California\, 92831
CATEGORIES:Streaming Service
ATTACH;FMTTYPE=image/jpeg:https://saintandrewsfullerton.com/wp-content/uploads/2021/10/Josh-at-piano-landscape-close-facing-organ.jpeg
END:VEVENT
BEGIN:VEVENT
DTSTART;TZID=America/Los_Angeles:20261129T110000
DTEND;TZID=America/Los_Angeles:20261129T120000
DTSTAMP:20260421T081648
CREATED:20251105T170106Z
LAST-MODIFIED:20260227T212827Z
UID:10008360-1795950000-1795953600@saintandrewsfullerton.com
SUMMARY:Holy Eucharist with Choir in the Sanctuary and Sunday School/Nursery in Moody Hall
DESCRIPTION:Join us for In-Person and Live Stream Worship. \nClick here to watch on Facebook. \nClick here to watch on YouTube.
URL:https://saintandrewsfullerton.com/events/holy-eucharist-with-choir-in-the-sanctuary-and-sunday-school-nursery-in-moody-hall/2026-11-29/
LOCATION:St. Andrew’s Episcopal Church\, 1231 E Chapman Ave\, Fullerton\, California\, 92831
CATEGORIES:Streaming Service
ATTACH;FMTTYPE=image/jpeg:https://saintandrewsfullerton.com/wp-content/uploads/2025/11/Choir-02-14-2026-Resized.jpg
END:VEVENT
BEGIN:VEVENT
DTSTART;TZID=America/Los_Angeles:20261206T110000
DTEND;TZID=America/Los_Angeles:20261206T120000
DTSTAMP:20260421T081648
CREATED:20251105T170106Z
LAST-MODIFIED:20260227T212827Z
UID:10008361-1796554800-1796558400@saintandrewsfullerton.com
SUMMARY:Holy Eucharist with Choir in the Sanctuary and Sunday School/Nursery in Moody Hall
DESCRIPTION:Join us for In-Person and Live Stream Worship. \nClick here to watch on Facebook. \nClick here to watch on YouTube.
URL:https://saintandrewsfullerton.com/events/holy-eucharist-with-choir-in-the-sanctuary-and-sunday-school-nursery-in-moody-hall/2026-12-06/
LOCATION:St. Andrew’s Episcopal Church\, 1231 E Chapman Ave\, Fullerton\, California\, 92831
CATEGORIES:Streaming Service
ATTACH;FMTTYPE=image/jpeg:https://saintandrewsfullerton.com/wp-content/uploads/2025/11/Choir-02-14-2026-Resized.jpg
END:VEVENT
BEGIN:VEVENT
DTSTART;TZID=America/Los_Angeles:20261213T110000
DTEND;TZID=America/Los_Angeles:20261213T120000
DTSTAMP:20260421T081648
CREATED:20251105T170106Z
LAST-MODIFIED:20260227T212827Z
UID:10008362-1797159600-1797163200@saintandrewsfullerton.com
SUMMARY:Holy Eucharist with Choir in the Sanctuary and Sunday School/Nursery in Moody Hall
DESCRIPTION:Join us for In-Person and Live Stream Worship. \nClick here to watch on Facebook. \nClick here to watch on YouTube.
URL:https://saintandrewsfullerton.com/events/holy-eucharist-with-choir-in-the-sanctuary-and-sunday-school-nursery-in-moody-hall/2026-12-13/
LOCATION:St. Andrew’s Episcopal Church\, 1231 E Chapman Ave\, Fullerton\, California\, 92831
CATEGORIES:Streaming Service
ATTACH;FMTTYPE=image/jpeg:https://saintandrewsfullerton.com/wp-content/uploads/2025/11/Choir-02-14-2026-Resized.jpg
END:VEVENT
BEGIN:VEVENT
DTSTART;TZID=America/Los_Angeles:20261220T110000
DTEND;TZID=America/Los_Angeles:20261220T120000
DTSTAMP:20260421T081648
CREATED:20251105T170106Z
LAST-MODIFIED:20260227T212827Z
UID:10008363-1797764400-1797768000@saintandrewsfullerton.com
SUMMARY:Holy Eucharist with Choir in the Sanctuary and Sunday School/Nursery in Moody Hall
DESCRIPTION:Join us for In-Person and Live Stream Worship. \nClick here to watch on Facebook. \nClick here to watch on YouTube.
URL:https://saintandrewsfullerton.com/events/holy-eucharist-with-choir-in-the-sanctuary-and-sunday-school-nursery-in-moody-hall/2026-12-20/
LOCATION:St. Andrew’s Episcopal Church\, 1231 E Chapman Ave\, Fullerton\, California\, 92831
CATEGORIES:Streaming Service
ATTACH;FMTTYPE=image/jpeg:https://saintandrewsfullerton.com/wp-content/uploads/2025/11/Choir-02-14-2026-Resized.jpg
END:VEVENT
END:VCALENDAR